BEGIN:VCALENDAR
VERSION:2.0
PRODID:-//QuickScores.com//BQ Dynamic iCal Creator//EN
METHOD:PUBLISH
X-WR-CALNAME:365 Shockers 9U Red - 9u/10u Aa - Summer 2022
X-WR-CALDESC:QuickScores game calendar
X-PUBLISHED-TTL:PT24H
REFRESH-INTERVAL;VALUE=DURATION:PT24H
CALSCALE:GREGORIAN
BEGIN:VTIMEZONE
TZID:America/Los_Angeles
X-LIC-LOCATION:America/Los_Angeles
BEGIN:DAYLIGHT
TZNAME:PDT
TZOFFSETFROM:-0800
TZOFFSETTO:-0700
DTSTART:19700308T020000
RRULE:FREQ=YEARLY;BYMONTH=3;BYDAY=2SU
END:DAYLIGHT
BEGIN:STANDARD
TZNAME:PST
TZOFFSETFROM:-0700
TZOFFSETTO:-0800
DTSTART:19701101T020000
RRULE:FREQ=YEARLY;BYMONTH=11;BYDAY=1SU
END:STANDARD
END:VTIMEZONE
BEGIN:VEVENT
UID:baseball365-54132973-20220709T103000@quickscores.com
DTSTAMP:20260425T085100Z
DTSTART;TZID=America/Los_Angeles:20220709T103000
DURATION:PT1H30M0S
SUMMARY:Gamespeed 9U vs. 365 Shockers 9U Red
DESCRIPTION:9u/10u Aa - Top Prospect Athletics
LOCATION:4
CATEGORIES:QuickScores, Baseball Game
TRANSP:OPAQUE
BEGIN:VALARM
TRIGGER:-PT2H
ACTION:DISPLAY
DESCRIPTION:Gamespeed 9U vs. 365 Shockers 9U Red
END:VALARM
END:VEVENT
BEGIN:VEVENT
UID:baseball365-54132975-20220709T144500@quickscores.com
DTSTAMP:20260425T085100Z
DTSTART;TZID=America/Los_Angeles:20220709T144500
DURATION:PT1H30M0S
SUMMARY:Encino Eagles 9U vs. 365 Shockers 9U Red
DESCRIPTION:9u/10u Aa - Top Prospect Athletics
LOCATION:4
CATEGORIES:QuickScores, Baseball Game
TRANSP:OPAQUE
BEGIN:VALARM
TRIGGER:-PT2H
ACTION:DISPLAY
DESCRIPTION:Encino Eagles 9U vs. 365 Shockers 9U Red
END:VALARM
END:VEVENT
END:VCALENDAR
