BEGIN:VCALENDAR
VERSION:2.0
PRODID:-//QuickScores.com//BQ Dynamic iCal Creator//EN
METHOD:PUBLISH
X-WR-CALNAME:VB625 Richardson (pink) - Volleyball - Girls 5th-6th Grade - 2026 Spring Volleyball
X-WR-CALDESC:QuickScores game calendar
X-PUBLISHED-TTL:PT24H
REFRESH-INTERVAL;VALUE=DURATION:PT24H
CALSCALE:GREGORIAN
BEGIN:VTIMEZONE
TZID:America/New_York
X-LIC-LOCATION:America/New_York
BEGIN:DAYLIGHT
TZNAME:EDT
TZOFFSETFROM:-0500
TZOFFSETTO:-0400
DTSTART:19700308T020000
RRULE:FREQ=YEARLY;BYMONTH=3;BYDAY=2SU
END:DAYLIGHT
BEGIN:STANDARD
TZNAME:EST
TZOFFSETFROM:-0400
TZOFFSETTO:-0500
DTSTART:19701101T020000
RRULE:FREQ=YEARLY;BYMONTH=11;BYDAY=1SU
END:STANDARD
END:VTIMEZONE
BEGIN:VEVENT
UID:auroraoh-73930930-20260411T140000@quickscores.com
DTSTAMP:20260425T181300Z
DTSTART;TZID=America/New_York:20260411T140000
DURATION:PT1H0M0S
SUMMARY:VB625 Richardson (pink) vs. VB624 Kenaga (purple)
DESCRIPTION:Volleyball - Girls 5th-6th Grade - Aurora OH Parks and Recreation
LOCATION:KMS - KENSTON MIDDLE SCHOOL
CATEGORIES:QuickScores, Volleyball - Youth Game
TRANSP:OPAQUE
BEGIN:VALARM
TRIGGER:-PT2H
ACTION:DISPLAY
DESCRIPTION:VB625 Richardson (pink) vs. VB624 Kenaga (purple)
END:VALARM
END:VEVENT
BEGIN:VEVENT
UID:auroraoh-73930943-20260412T170000@quickscores.com
DTSTAMP:20260425T181300Z
DTSTART;TZID=America/New_York:20260412T170000
DURATION:PT1H0M0S
SUMMARY:VB625 Richardson (pink) vs. VB619 Havasi
DESCRIPTION:Volleyball - Girls 5th-6th Grade - Aurora OH Parks and Recreation
LOCATION:KHS - AUX Gym
CATEGORIES:QuickScores, Volleyball - Youth Game
TRANSP:OPAQUE
BEGIN:VALARM
TRIGGER:-PT2H
ACTION:DISPLAY
DESCRIPTION:VB625 Richardson (pink) vs. VB619 Havasi
END:VALARM
END:VEVENT
BEGIN:VEVENT
UID:auroraoh-73930945-20260418T110000@quickscores.com
DTSTAMP:20260425T181300Z
DTSTART;TZID=America/New_York:20260418T110000
DURATION:PT1H0M0S
SUMMARY:VB611 Miller (white/red) vs. VB625 Richardson (pink)
DESCRIPTION:Volleyball - Girls 5th-6th Grade - Aurora OH Parks and Recreation
LOCATION:Aurora - Harmon
CATEGORIES:QuickScores, Volleyball - Youth Game
TRANSP:OPAQUE
BEGIN:VALARM
TRIGGER:-PT2H
ACTION:DISPLAY
DESCRIPTION:VB611 Miller (white/red) vs. VB625 Richardson (pink)
END:VALARM
END:VEVENT
BEGIN:VEVENT
UID:auroraoh-73930947-20260418T120000@quickscores.com
DTSTAMP:20260425T181300Z
DTSTART;TZID=America/New_York:20260418T120000
DURATION:PT1H0M0S
SUMMARY:VB625 Richardson (pink) vs. VB612 Tannert (purple)
DESCRIPTION:Volleyball - Girls 5th-6th Grade - Aurora OH Parks and Recreation
LOCATION:Aurora - Harmon
CATEGORIES:QuickScores, Volleyball - Youth Game
TRANSP:OPAQUE
BEGIN:VALARM
TRIGGER:-PT2H
ACTION:DISPLAY
DESCRIPTION:VB625 Richardson (pink) vs. VB612 Tannert (purple)
END:VALARM
END:VEVENT
BEGIN:VEVENT
UID:auroraoh-73930980-20260425T110000@quickscores.com
DTSTAMP:20260425T181300Z
DTSTART;TZID=America/New_York:20260425T110000
DURATION:PT1H0M0S
SUMMARY:VB625 Richardson (pink) vs. VB63 Dew (red)
DESCRIPTION:Volleyball - Girls 5th-6th Grade - Aurora OH Parks and Recreation
LOCATION:KMS - KENSTON MIDDLE SCHOOL
CATEGORIES:QuickScores, Volleyball - Youth Game
TRANSP:OPAQUE
BEGIN:VALARM
TRIGGER:-PT2H
ACTION:DISPLAY
DESCRIPTION:VB625 Richardson (pink) vs. VB63 Dew (red)
END:VALARM
END:VEVENT
BEGIN:VEVENT
UID:auroraoh-73930990-20260502T130000@quickscores.com
DTSTAMP:20260425T181300Z
DTSTART;TZID=America/New_York:20260502T130000
DURATION:PT1H0M0S
SUMMARY:VB610 Freiberg (white/royal) vs. VB625 Richardson (pink)
DESCRIPTION:Volleyball - Girls 5th-6th Grade - Aurora OH Parks and Recreation
LOCATION:KMS - KENSTON MIDDLE SCHOOL
CATEGORIES:QuickScores, Volleyball - Youth Game
TRANSP:OPAQUE
BEGIN:VALARM
TRIGGER:-PT2H
ACTION:DISPLAY
DESCRIPTION:VB610 Freiberg (white/royal) vs. VB625 Richardson (pink)
END:VALARM
END:VEVENT
BEGIN:VEVENT
UID:auroraoh-73931002-20260509T120000@quickscores.com
DTSTAMP:20260425T181300Z
DTSTART;TZID=America/New_York:20260509T120000
DURATION:PT1H0M0S
SUMMARY:VB615 Sedor (orange) vs. VB625 Richardson (pink)
DESCRIPTION:Volleyball - Girls 5th-6th Grade - Aurora OH Parks and Recreation
LOCATION:KMS - KENSTON MIDDLE SCHOOL
CATEGORIES:QuickScores, Volleyball - Youth Game
TRANSP:OPAQUE
BEGIN:VALARM
TRIGGER:-PT2H
ACTION:DISPLAY
DESCRIPTION:VB615 Sedor (orange) vs. VB625 Richardson (pink)
END:VALARM
END:VEVENT
END:VCALENDAR
