BEGIN:VCALENDAR
VERSION:2.0
PRODID:-//QuickScores.com//BQ Dynamic iCal Creator//EN
METHOD:PUBLISH
X-WR-CALNAME:VB618 Furlong - Volleyball - Girls 5th-6th Grade - 2026 Spring Volleyball
X-WR-CALDESC:QuickScores game calendar
X-PUBLISHED-TTL:PT24H
REFRESH-INTERVAL;VALUE=DURATION:PT24H
CALSCALE:GREGORIAN
BEGIN:VTIMEZONE
TZID:America/New_York
X-LIC-LOCATION:America/New_York
BEGIN:DAYLIGHT
TZNAME:EDT
TZOFFSETFROM:-0500
TZOFFSETTO:-0400
DTSTART:19700308T020000
RRULE:FREQ=YEARLY;BYMONTH=3;BYDAY=2SU
END:DAYLIGHT
BEGIN:STANDARD
TZNAME:EST
TZOFFSETFROM:-0400
TZOFFSETTO:-0500
DTSTART:19701101T020000
RRULE:FREQ=YEARLY;BYMONTH=11;BYDAY=1SU
END:STANDARD
END:VTIMEZONE
BEGIN:VEVENT
UID:auroraoh-73930934-20260411T150000@quickscores.com
DTSTAMP:20260424T192900Z
DTSTART;TZID=America/New_York:20260411T150000
DURATION:PT1H0M0S
SUMMARY:VB618 Furlong vs. VB610 Freiberg (white/royal)
DESCRIPTION:Volleyball - Girls 5th-6th Grade - Aurora OH Parks and Recreation
LOCATION:TES - KENSTON TIMMONS ELEMENTARY SCHOOL
CATEGORIES:QuickScores, Volleyball - Youth Game
TRANSP:OPAQUE
BEGIN:VALARM
TRIGGER:-PT2H
ACTION:DISPLAY
DESCRIPTION:VB618 Furlong vs. VB610 Freiberg (white/royal)
END:VALARM
END:VEVENT
BEGIN:VEVENT
UID:auroraoh-73930951-20260418T130000@quickscores.com
DTSTAMP:20260424T192900Z
DTSTART;TZID=America/New_York:20260418T130000
DURATION:PT1H0M0S
SUMMARY:VB619 Havasi vs. VB618 Furlong
DESCRIPTION:Volleyball - Girls 5th-6th Grade - Aurora OH Parks and Recreation
LOCATION:Aurora  - Leighton
CATEGORIES:QuickScores, Volleyball - Youth Game
TRANSP:OPAQUE
BEGIN:VALARM
TRIGGER:-PT2H
ACTION:DISPLAY
DESCRIPTION:VB619 Havasi vs. VB618 Furlong
END:VALARM
END:VEVENT
BEGIN:VEVENT
UID:auroraoh-73930961-20260419T160000@quickscores.com
DTSTAMP:20260424T192900Z
DTSTART;TZID=America/New_York:20260419T160000
DURATION:PT1H0M0S
SUMMARY:VB618 Furlong vs. VB611 Miller (white/red)
DESCRIPTION:Volleyball - Girls 5th-6th Grade - Aurora OH Parks and Recreation
LOCATION:TES - KENSTON TIMMONS ELEMENTARY SCHOOL
CATEGORIES:QuickScores, Volleyball - Youth Game
TRANSP:OPAQUE
BEGIN:VALARM
TRIGGER:-PT2H
ACTION:DISPLAY
DESCRIPTION:VB618 Furlong vs. VB611 Miller (white/red)
END:VALARM
END:VEVENT
BEGIN:VEVENT
UID:auroraoh-73930970-20260425T120000@quickscores.com
DTSTAMP:20260424T192900Z
DTSTART;TZID=America/New_York:20260425T120000
DURATION:PT1H0M0S
SUMMARY:VB612 Tannert (purple) vs. VB618 Furlong
DESCRIPTION:Volleyball - Girls 5th-6th Grade - Aurora OH Parks and Recreation
LOCATION:Aurora  - Leighton
CATEGORIES:QuickScores, Volleyball - Youth Game
TRANSP:OPAQUE
BEGIN:VALARM
TRIGGER:-PT2H
ACTION:DISPLAY
DESCRIPTION:VB612 Tannert (purple) vs. VB618 Furlong
END:VALARM
END:VEVENT
BEGIN:VEVENT
UID:auroraoh-73930994-20260502T090000@quickscores.com
DTSTAMP:20260424T192900Z
DTSTART;TZID=America/New_York:20260502T090000
DURATION:PT1H0M0S
SUMMARY:VB621 Catania vs. VB618 Furlong
DESCRIPTION:Volleyball - Girls 5th-6th Grade - Aurora OH Parks and Recreation
LOCATION:TES - KENSTON TIMMONS ELEMENTARY SCHOOL
CATEGORIES:QuickScores, Volleyball - Youth Game
TRANSP:OPAQUE
BEGIN:VALARM
TRIGGER:-PT2H
ACTION:DISPLAY
DESCRIPTION:VB621 Catania vs. VB618 Furlong
END:VALARM
END:VEVENT
BEGIN:VEVENT
UID:auroraoh-73931000-20260503T170000@quickscores.com
DTSTAMP:20260424T192900Z
DTSTART;TZID=America/New_York:20260503T170000
DURATION:PT1H0M0S
SUMMARY:VB69 Fete (dark green) vs. VB618 Furlong
DESCRIPTION:Volleyball - Girls 5th-6th Grade - Aurora OH Parks and Recreation
LOCATION:KMS - KENSTON MIDDLE SCHOOL
CATEGORIES:QuickScores, Volleyball - Youth Game
TRANSP:OPAQUE
BEGIN:VALARM
TRIGGER:-PT2H
ACTION:DISPLAY
DESCRIPTION:VB69 Fete (dark green) vs. VB618 Furlong
END:VALARM
END:VEVENT
BEGIN:VEVENT
UID:auroraoh-73931006-20260509T170000@quickscores.com
DTSTAMP:20260424T192900Z
DTSTART;TZID=America/New_York:20260509T170000
DURATION:PT1H0M0S
SUMMARY:VB618 Furlong vs. VB624 Kenaga (purple)
DESCRIPTION:Volleyball - Girls 5th-6th Grade - Aurora OH Parks and Recreation
LOCATION:KMS - KENSTON MIDDLE SCHOOL
CATEGORIES:QuickScores, Volleyball - Youth Game
TRANSP:OPAQUE
BEGIN:VALARM
TRIGGER:-PT2H
ACTION:DISPLAY
DESCRIPTION:VB618 Furlong vs. VB624 Kenaga (purple)
END:VALARM
END:VEVENT
END:VCALENDAR
