BEGIN:VCALENDAR
VERSION:2.0
PRODID:-//QuickScores.com//BQ Dynamic iCal Creator//EN
METHOD:PUBLISH
X-WR-CALNAME:VB66  Fletcher (pink) - Volleyball - Girls 5th-6th Grade - 2026 Spring Volleyball
X-WR-CALDESC:QuickScores game calendar
X-PUBLISHED-TTL:PT24H
REFRESH-INTERVAL;VALUE=DURATION:PT24H
CALSCALE:GREGORIAN
BEGIN:VTIMEZONE
TZID:America/New_York
X-LIC-LOCATION:America/New_York
BEGIN:DAYLIGHT
TZNAME:EDT
TZOFFSETFROM:-0500
TZOFFSETTO:-0400
DTSTART:19700308T020000
RRULE:FREQ=YEARLY;BYMONTH=3;BYDAY=2SU
END:DAYLIGHT
BEGIN:STANDARD
TZNAME:EST
TZOFFSETFROM:-0400
TZOFFSETTO:-0500
DTSTART:19701101T020000
RRULE:FREQ=YEARLY;BYMONTH=11;BYDAY=1SU
END:STANDARD
END:VTIMEZONE
BEGIN:VEVENT
UID:auroraoh-73672245-20260402T190000@quickscores.com
DTSTAMP:20260425T180000Z
DTSTART;TZID=America/New_York:20260402T190000
DURATION:PT1H0M0S
SUMMARY:Practice: VB66  Fletcher (pink)
DESCRIPTION:No School Fri 4/3 --- Volleyball - Girls 5th-6th Grade - Aurora OH Parks and Recreation
LOCATION:KMS - Gym 2
CATEGORIES:QuickScores, Volleyball - Youth Game
TRANSP:OPAQUE
BEGIN:VALARM
TRIGGER:-PT2H
ACTION:DISPLAY
DESCRIPTION:Practice: VB66  Fletcher (pink)
END:VALARM
END:VEVENT
BEGIN:VEVENT
UID:auroraoh-73672247-20260410T183000@quickscores.com
DTSTAMP:20260425T180000Z
DTSTART;TZID=America/New_York:20260410T183000
DURATION:PT1H0M0S
SUMMARY:Practice: VB66  Fletcher (pink)
DESCRIPTION:Volleyball - Girls 5th-6th Grade - Aurora OH Parks and Recreation
LOCATION:KIS - Gym 2
CATEGORIES:QuickScores, Volleyball - Youth Game
TRANSP:OPAQUE
BEGIN:VALARM
TRIGGER:-PT2H
ACTION:DISPLAY
DESCRIPTION:Practice: VB66  Fletcher (pink)
END:VALARM
END:VEVENT
BEGIN:VEVENT
UID:auroraoh-73930933-20260411T150000@quickscores.com
DTSTAMP:20260425T180000Z
DTSTART;TZID=America/New_York:20260411T150000
DURATION:PT1H0M0S
SUMMARY:VB66  Fletcher (pink) vs. VB617 Brandenburg
DESCRIPTION:Volleyball - Girls 5th-6th Grade - Aurora OH Parks and Recreation
LOCATION:KMS - KENSTON MIDDLE SCHOOL
CATEGORIES:QuickScores, Volleyball - Youth Game
TRANSP:OPAQUE
BEGIN:VALARM
TRIGGER:-PT2H
ACTION:DISPLAY
DESCRIPTION:VB66  Fletcher (pink) vs. VB617 Brandenburg
END:VALARM
END:VEVENT
BEGIN:VEVENT
UID:auroraoh-73917808-20260417T183000@quickscores.com
DTSTAMP:20260425T180000Z
DTSTART;TZID=America/New_York:20260417T183000
DURATION:PT1H0M0S
SUMMARY:Practice: VB66  Fletcher (pink)
DESCRIPTION:Volleyball - Girls 5th-6th Grade - Aurora OH Parks and Recreation
LOCATION:KIS - Gym 2
CATEGORIES:QuickScores, Volleyball - Youth Game
TRANSP:OPAQUE
BEGIN:VALARM
TRIGGER:-PT2H
ACTION:DISPLAY
DESCRIPTION:Practice: VB66  Fletcher (pink)
END:VALARM
END:VEVENT
BEGIN:VEVENT
UID:auroraoh-73930950-20260418T120000@quickscores.com
DTSTAMP:20260425T180000Z
DTSTART;TZID=America/New_York:20260418T120000
DURATION:PT1H0M0S
SUMMARY:VB68 Deeb (columbia blue) vs. VB66  Fletcher (pink)
DESCRIPTION:Volleyball - Girls 5th-6th Grade - Aurora OH Parks and Recreation
LOCATION:KMS - KENSTON MIDDLE SCHOOL
CATEGORIES:QuickScores, Volleyball - Youth Game
TRANSP:OPAQUE
BEGIN:VALARM
TRIGGER:-PT2H
ACTION:DISPLAY
DESCRIPTION:VB68 Deeb (columbia blue) vs. VB66  Fletcher (pink)
END:VALARM
END:VEVENT
BEGIN:VEVENT
UID:auroraoh-73917809-20260423T190000@quickscores.com
DTSTAMP:20260425T180000Z
DTSTART;TZID=America/New_York:20260423T190000
DURATION:PT1H0M0S
SUMMARY:Practice: VB66  Fletcher (pink)
DESCRIPTION:Gym is not available Fri 4/24 --- Volleyball - Girls 5th-6th Grade - Aurora OH Parks and Recreation
LOCATION:KMS - Gym 2
CATEGORIES:QuickScores, Volleyball - Youth Game
TRANSP:OPAQUE
BEGIN:VALARM
TRIGGER:-PT2H
ACTION:DISPLAY
DESCRIPTION:Practice: VB66  Fletcher (pink)
END:VALARM
END:VEVENT
BEGIN:VEVENT
UID:auroraoh-73930978-20260425T130000@quickscores.com
DTSTAMP:20260425T180000Z
DTSTART;TZID=America/New_York:20260425T130000
DURATION:PT1H0M0S
SUMMARY:VB66  Fletcher (pink) vs. VB614 Wan (vegas gold)
DESCRIPTION:Volleyball - Girls 5th-6th Grade - Aurora OH Parks and Recreation
LOCATION:TES - KENSTON TIMMONS ELEMENTARY SCHOOL
CATEGORIES:QuickScores, Volleyball - Youth Game
TRANSP:OPAQUE
BEGIN:VALARM
TRIGGER:-PT2H
ACTION:DISPLAY
DESCRIPTION:VB66  Fletcher (pink) vs. VB614 Wan (vegas gold)
END:VALARM
END:VEVENT
BEGIN:VEVENT
UID:auroraoh-73931005-20260426T140000@quickscores.com
DTSTAMP:20260425T180000Z
DTSTART;TZID=America/New_York:20260426T140000
DURATION:PT1H0M0S
SUMMARY:VB67 Munn (navy) vs. VB66  Fletcher (pink)
DESCRIPTION:Volleyball - Girls 5th-6th Grade - Aurora OH Parks and Recreation
LOCATION:KHS - AUX Gym
CATEGORIES:QuickScores, Volleyball - Youth Game
TRANSP:OPAQUE
BEGIN:VALARM
TRIGGER:-PT2H
ACTION:DISPLAY
DESCRIPTION:VB67 Munn (navy) vs. VB66  Fletcher (pink)
END:VALARM
END:VEVENT
BEGIN:VEVENT
UID:auroraoh-73917810-20260501T183000@quickscores.com
DTSTAMP:20260425T180000Z
DTSTART;TZID=America/New_York:20260501T183000
DURATION:PT1H0M0S
SUMMARY:Practice: VB66  Fletcher (pink)
DESCRIPTION:Volleyball - Girls 5th-6th Grade - Aurora OH Parks and Recreation
LOCATION:KIS - Gym 2
CATEGORIES:QuickScores, Volleyball - Youth Game
TRANSP:OPAQUE
BEGIN:VALARM
TRIGGER:-PT2H
ACTION:DISPLAY
DESCRIPTION:Practice: VB66  Fletcher (pink)
END:VALARM
END:VEVENT
BEGIN:VEVENT
UID:auroraoh-73930993-20260502T100000@quickscores.com
DTSTAMP:20260425T180000Z
DTSTART;TZID=America/New_York:20260502T100000
DURATION:PT1H0M0S
SUMMARY:VB66  Fletcher (pink) vs. VB62 Korzhiletskiy (navy)
DESCRIPTION:Volleyball - Girls 5th-6th Grade - Aurora OH Parks and Recreation
LOCATION:TES - KENSTON TIMMONS ELEMENTARY SCHOOL
CATEGORIES:QuickScores, Volleyball - Youth Game
TRANSP:OPAQUE
BEGIN:VALARM
TRIGGER:-PT2H
ACTION:DISPLAY
DESCRIPTION:VB66  Fletcher (pink) vs. VB62 Korzhiletskiy (navy)
END:VALARM
END:VEVENT
BEGIN:VEVENT
UID:auroraoh-73930969-20260502T170000@quickscores.com
DTSTAMP:20260425T180000Z
DTSTART;TZID=America/New_York:20260502T170000
DURATION:PT1H0M0S
SUMMARY:VB63 Dew (red) vs. VB66  Fletcher (pink)
DESCRIPTION:Volleyball - Girls 5th-6th Grade - Aurora OH Parks and Recreation
LOCATION:KMS - KENSTON MIDDLE SCHOOL
CATEGORIES:QuickScores, Volleyball - Youth Game
TRANSP:OPAQUE
BEGIN:VALARM
TRIGGER:-PT2H
ACTION:DISPLAY
DESCRIPTION:VB63 Dew (red) vs. VB66  Fletcher (pink)
END:VALARM
END:VEVENT
BEGIN:VEVENT
UID:auroraoh-73917811-20260508T183000@quickscores.com
DTSTAMP:20260425T180000Z
DTSTART;TZID=America/New_York:20260508T183000
DURATION:PT1H0M0S
SUMMARY:Practice: VB66  Fletcher (pink)
DESCRIPTION:Volleyball - Girls 5th-6th Grade - Aurora OH Parks and Recreation
LOCATION:KIS - Gym 2
CATEGORIES:QuickScores, Volleyball - Youth Game
TRANSP:OPAQUE
BEGIN:VALARM
TRIGGER:-PT2H
ACTION:DISPLAY
DESCRIPTION:Practice: VB66  Fletcher (pink)
END:VALARM
END:VEVENT
BEGIN:VEVENT
UID:auroraoh-73930964-20260509T140000@quickscores.com
DTSTAMP:20260425T180000Z
DTSTART;TZID=America/New_York:20260509T140000
DURATION:PT1H0M0S
SUMMARY:VB66  Fletcher (pink) vs. VB616 Detweiler
DESCRIPTION:Volleyball - Girls 5th-6th Grade - Aurora OH Parks and Recreation
LOCATION:Aurora  - Leighton
CATEGORIES:QuickScores, Volleyball - Youth Game
TRANSP:OPAQUE
BEGIN:VALARM
TRIGGER:-PT2H
ACTION:DISPLAY
DESCRIPTION:VB66  Fletcher (pink) vs. VB616 Detweiler
END:VALARM
END:VEVENT
BEGIN:VEVENT
UID:auroraoh-73917812-20260515T183000@quickscores.com
DTSTAMP:20260425T180000Z
DTSTART;TZID=America/New_York:20260515T183000
DURATION:PT1H0M0S
SUMMARY:Practice: VB66  Fletcher (pink)
DESCRIPTION:Volleyball - Girls 5th-6th Grade - Aurora OH Parks and Recreation
LOCATION:KIS - Gym 2
CATEGORIES:QuickScores, Volleyball - Youth Game
TRANSP:OPAQUE
BEGIN:VALARM
TRIGGER:-PT2H
ACTION:DISPLAY
DESCRIPTION:Practice: VB66  Fletcher (pink)
END:VALARM
END:VEVENT
BEGIN:VEVENT
UID:auroraoh-73917813-20260522T183000@quickscores.com
DTSTAMP:20260425T180000Z
DTSTART;TZID=America/New_York:20260522T183000
DURATION:PT1H0M0S
SUMMARY:Practice: VB66  Fletcher (pink)
DESCRIPTION:Volleyball - Girls 5th-6th Grade - Aurora OH Parks and Recreation
LOCATION:KIS - Gym 2
CATEGORIES:QuickScores, Volleyball - Youth Game
TRANSP:OPAQUE
BEGIN:VALARM
TRIGGER:-PT2H
ACTION:DISPLAY
DESCRIPTION:Practice: VB66  Fletcher (pink)
END:VALARM
END:VEVENT
END:VCALENDAR
