BEGIN:VCALENDAR
VERSION:2.0
PRODID:-//QuickScores.com//BQ Dynamic iCal Creator//EN
METHOD:PUBLISH
X-WR-CALNAME:VB65 Bozarth/Bittner (royal) - Volleyball - Girls 5th-6th Grade - 2026 Spring Volleyball
X-WR-CALDESC:QuickScores game calendar
X-PUBLISHED-TTL:PT24H
REFRESH-INTERVAL;VALUE=DURATION:PT24H
CALSCALE:GREGORIAN
BEGIN:VTIMEZONE
TZID:America/New_York
X-LIC-LOCATION:America/New_York
BEGIN:DAYLIGHT
TZNAME:EDT
TZOFFSETFROM:-0500
TZOFFSETTO:-0400
DTSTART:19700308T020000
RRULE:FREQ=YEARLY;BYMONTH=3;BYDAY=2SU
END:DAYLIGHT
BEGIN:STANDARD
TZNAME:EST
TZOFFSETFROM:-0400
TZOFFSETTO:-0500
DTSTART:19701101T020000
RRULE:FREQ=YEARLY;BYMONTH=11;BYDAY=1SU
END:STANDARD
END:VTIMEZONE
BEGIN:VEVENT
UID:auroraoh-73672211-20260318T180000@quickscores.com
DTSTAMP:20260425T100300Z
DTSTART;TZID=America/New_York:20260318T180000
DURATION:PT1H0M0S
SUMMARY:Practice: VB65 Bozarth/Bittner (royal)
DESCRIPTION:Volleyball - Girls 5th-6th Grade - Aurora OH Parks and Recreation
LOCATION:KIS - Gym 2
CATEGORIES:QuickScores, Volleyball - Youth Game
TRANSP:OPAQUE
BEGIN:VALARM
TRIGGER:-PT2H
ACTION:DISPLAY
DESCRIPTION:Practice: VB65 Bozarth/Bittner (royal)
END:VALARM
END:VEVENT
BEGIN:VEVENT
UID:auroraoh-73672213-20260401T180000@quickscores.com
DTSTAMP:20260425T100300Z
DTSTART;TZID=America/New_York:20260401T180000
DURATION:PT1H0M0S
SUMMARY:Practice: VB65 Bozarth/Bittner (royal)
DESCRIPTION:Volleyball - Girls 5th-6th Grade - Aurora OH Parks and Recreation
LOCATION:KIS - Gym 2
CATEGORIES:QuickScores, Volleyball - Youth Game
TRANSP:OPAQUE
BEGIN:VALARM
TRIGGER:-PT2H
ACTION:DISPLAY
DESCRIPTION:Practice: VB65 Bozarth/Bittner (royal)
END:VALARM
END:VEVENT
BEGIN:VEVENT
UID:auroraoh-73672214-20260408T180000@quickscores.com
DTSTAMP:20260425T100300Z
DTSTART;TZID=America/New_York:20260408T180000
DURATION:PT1H0M0S
SUMMARY:Practice: VB65 Bozarth/Bittner (royal)
DESCRIPTION:Volleyball - Girls 5th-6th Grade - Aurora OH Parks and Recreation
LOCATION:KIS - Gym 2
CATEGORIES:QuickScores, Volleyball - Youth Game
TRANSP:OPAQUE
BEGIN:VALARM
TRIGGER:-PT2H
ACTION:DISPLAY
DESCRIPTION:Practice: VB65 Bozarth/Bittner (royal)
END:VALARM
END:VEVENT
BEGIN:VEVENT
UID:auroraoh-73930938-20260412T150000@quickscores.com
DTSTAMP:20260425T100300Z
DTSTART;TZID=America/New_York:20260412T150000
DURATION:PT1H0M0S
SUMMARY:VB621 Catania vs. VB65 Bozarth/Bittner (royal)
DESCRIPTION:Volleyball - Girls 5th-6th Grade - Aurora OH Parks and Recreation
LOCATION:TES - KENSTON TIMMONS ELEMENTARY SCHOOL
CATEGORIES:QuickScores, Volleyball - Youth Game
TRANSP:OPAQUE
BEGIN:VALARM
TRIGGER:-PT2H
ACTION:DISPLAY
DESCRIPTION:VB621 Catania vs. VB65 Bozarth/Bittner (royal)
END:VALARM
END:VEVENT
BEGIN:VEVENT
UID:auroraoh-73930955-20260412T160000@quickscores.com
DTSTAMP:20260425T100300Z
DTSTART;TZID=America/New_York:20260412T160000
DURATION:PT1H0M0S
SUMMARY:VB69 Fete (dark green) vs. VB65 Bozarth/Bittner (royal)
DESCRIPTION:Volleyball - Girls 5th-6th Grade - Aurora OH Parks and Recreation
LOCATION:TES - KENSTON TIMMONS ELEMENTARY SCHOOL
CATEGORIES:QuickScores, Volleyball - Youth Game
TRANSP:OPAQUE
BEGIN:VALARM
TRIGGER:-PT2H
ACTION:DISPLAY
DESCRIPTION:VB69 Fete (dark green) vs. VB65 Bozarth/Bittner (royal)
END:VALARM
END:VEVENT
BEGIN:VEVENT
UID:auroraoh-73917787-20260415T180000@quickscores.com
DTSTAMP:20260425T100300Z
DTSTART;TZID=America/New_York:20260415T180000
DURATION:PT1H0M0S
SUMMARY:Practice: VB65 Bozarth/Bittner (royal)
DESCRIPTION:Volleyball - Girls 5th-6th Grade - Aurora OH Parks and Recreation
LOCATION:KIS - Gym 2
CATEGORIES:QuickScores, Volleyball - Youth Game
TRANSP:OPAQUE
BEGIN:VALARM
TRIGGER:-PT2H
ACTION:DISPLAY
DESCRIPTION:Practice: VB65 Bozarth/Bittner (royal)
END:VALARM
END:VEVENT
BEGIN:VEVENT
UID:auroraoh-73930959-20260418T130000@quickscores.com
DTSTAMP:20260425T100300Z
DTSTART;TZID=America/New_York:20260418T130000
DURATION:PT1H0M0S
SUMMARY:VB65 Bozarth/Bittner (royal) vs. VB612 Tannert (purple)
DESCRIPTION:Volleyball - Girls 5th-6th Grade - Aurora OH Parks and Recreation
LOCATION:Aurora - Harmon
CATEGORIES:QuickScores, Volleyball - Youth Game
TRANSP:OPAQUE
BEGIN:VALARM
TRIGGER:-PT2H
ACTION:DISPLAY
DESCRIPTION:VB65 Bozarth/Bittner (royal) vs. VB612 Tannert (purple)
END:VALARM
END:VEVENT
BEGIN:VEVENT
UID:auroraoh-73917788-20260422T180000@quickscores.com
DTSTAMP:20260425T100300Z
DTSTART;TZID=America/New_York:20260422T180000
DURATION:PT1H0M0S
SUMMARY:Practice: VB65 Bozarth/Bittner (royal)
DESCRIPTION:Volleyball - Girls 5th-6th Grade - Aurora OH Parks and Recreation
LOCATION:KIS - Gym 2
CATEGORIES:QuickScores, Volleyball - Youth Game
TRANSP:OPAQUE
BEGIN:VALARM
TRIGGER:-PT2H
ACTION:DISPLAY
DESCRIPTION:Practice: VB65 Bozarth/Bittner (royal)
END:VALARM
END:VEVENT
BEGIN:VEVENT
UID:auroraoh-73930965-20260425T100000@quickscores.com
DTSTAMP:20260425T100300Z
DTSTART;TZID=America/New_York:20260425T100000
DURATION:PT1H0M0S
SUMMARY:VB610 Freiberg (white/royal) vs. VB65 Bozarth/Bittner (royal)
DESCRIPTION:Volleyball - Girls 5th-6th Grade - Aurora OH Parks and Recreation
LOCATION:Aurora  - Leighton
CATEGORIES:QuickScores, Volleyball - Youth Game
TRANSP:OPAQUE
BEGIN:VALARM
TRIGGER:-PT2H
ACTION:DISPLAY
DESCRIPTION:VB610 Freiberg (white/royal) vs. VB65 Bozarth/Bittner (royal)
END:VALARM
END:VEVENT
BEGIN:VEVENT
UID:auroraoh-73931015-20260426T150000@quickscores.com
DTSTAMP:20260425T100300Z
DTSTART;TZID=America/New_York:20260426T150000
DURATION:PT1H0M0S
SUMMARY:VB65 Bozarth/Bittner (royal) vs. VB64 Regan (purple)
DESCRIPTION:Volleyball - Girls 5th-6th Grade - Aurora OH Parks and Recreation
LOCATION:KHS - AUX Gym
CATEGORIES:QuickScores, Volleyball - Youth Game
TRANSP:OPAQUE
BEGIN:VALARM
TRIGGER:-PT2H
ACTION:DISPLAY
DESCRIPTION:VB65 Bozarth/Bittner (royal) vs. VB64 Regan (purple)
END:VALARM
END:VEVENT
BEGIN:VEVENT
UID:auroraoh-73917789-20260429T180000@quickscores.com
DTSTAMP:20260425T100300Z
DTSTART;TZID=America/New_York:20260429T180000
DURATION:PT1H0M0S
SUMMARY:Practice: VB65 Bozarth/Bittner (royal)
DESCRIPTION:Volleyball - Girls 5th-6th Grade - Aurora OH Parks and Recreation
LOCATION:KIS - Gym 2
CATEGORIES:QuickScores, Volleyball - Youth Game
TRANSP:OPAQUE
BEGIN:VALARM
TRIGGER:-PT2H
ACTION:DISPLAY
DESCRIPTION:Practice: VB65 Bozarth/Bittner (royal)
END:VALARM
END:VEVENT
BEGIN:VEVENT
UID:auroraoh-73930997-20260502T150000@quickscores.com
DTSTAMP:20260425T100300Z
DTSTART;TZID=America/New_York:20260502T150000
DURATION:PT1H0M0S
SUMMARY:VB620 Burtnett vs. VB65 Bozarth/Bittner (royal)
DESCRIPTION:Volleyball - Girls 5th-6th Grade - Aurora OH Parks and Recreation
LOCATION:KMS - KENSTON MIDDLE SCHOOL
CATEGORIES:QuickScores, Volleyball - Youth Game
TRANSP:OPAQUE
BEGIN:VALARM
TRIGGER:-PT2H
ACTION:DISPLAY
DESCRIPTION:VB620 Burtnett vs. VB65 Bozarth/Bittner (royal)
END:VALARM
END:VEVENT
BEGIN:VEVENT
UID:auroraoh-73930974-20260503T150000@quickscores.com
DTSTAMP:20260425T100300Z
DTSTART;TZID=America/New_York:20260503T150000
DURATION:PT1H0M0S
SUMMARY:VB65 Bozarth/Bittner (royal) vs. VB619 Havasi
DESCRIPTION:Volleyball - Girls 5th-6th Grade - Aurora OH Parks and Recreation
LOCATION:KMS - KENSTON MIDDLE SCHOOL
CATEGORIES:QuickScores, Volleyball - Youth Game
TRANSP:OPAQUE
BEGIN:VALARM
TRIGGER:-PT2H
ACTION:DISPLAY
DESCRIPTION:VB65 Bozarth/Bittner (royal) vs. VB619 Havasi
END:VALARM
END:VEVENT
BEGIN:VEVENT
UID:auroraoh-73917790-20260506T180000@quickscores.com
DTSTAMP:20260425T100300Z
DTSTART;TZID=America/New_York:20260506T180000
DURATION:PT1H0M0S
SUMMARY:Practice: VB65 Bozarth/Bittner (royal)
DESCRIPTION:Volleyball - Girls 5th-6th Grade - Aurora OH Parks and Recreation
LOCATION:KIS - Gym 2
CATEGORIES:QuickScores, Volleyball - Youth Game
TRANSP:OPAQUE
BEGIN:VALARM
TRIGGER:-PT2H
ACTION:DISPLAY
DESCRIPTION:Practice: VB65 Bozarth/Bittner (royal)
END:VALARM
END:VEVENT
BEGIN:VEVENT
UID:auroraoh-73917791-20260513T180000@quickscores.com
DTSTAMP:20260425T100300Z
DTSTART;TZID=America/New_York:20260513T180000
DURATION:PT1H0M0S
SUMMARY:Practice: VB65 Bozarth/Bittner (royal)
DESCRIPTION:Volleyball - Girls 5th-6th Grade - Aurora OH Parks and Recreation
LOCATION:KIS - Gym 2
CATEGORIES:QuickScores, Volleyball - Youth Game
TRANSP:OPAQUE
BEGIN:VALARM
TRIGGER:-PT2H
ACTION:DISPLAY
DESCRIPTION:Practice: VB65 Bozarth/Bittner (royal)
END:VALARM
END:VEVENT
END:VCALENDAR
