BEGIN:VCALENDAR
VERSION:2.0
PRODID:-//QuickScores.com//BQ Dynamic iCal Creator//EN
METHOD:PUBLISH
X-WR-CALNAME:VB62 Korzhiletskiy (navy) - Volleyball - Girls 5th-6th Grade - 2026 Spring Volleyball
X-WR-CALDESC:QuickScores game calendar
X-PUBLISHED-TTL:PT24H
REFRESH-INTERVAL;VALUE=DURATION:PT24H
CALSCALE:GREGORIAN
BEGIN:VTIMEZONE
TZID:America/New_York
X-LIC-LOCATION:America/New_York
BEGIN:DAYLIGHT
TZNAME:EDT
TZOFFSETFROM:-0500
TZOFFSETTO:-0400
DTSTART:19700308T020000
RRULE:FREQ=YEARLY;BYMONTH=3;BYDAY=2SU
END:DAYLIGHT
BEGIN:STANDARD
TZNAME:EST
TZOFFSETFROM:-0400
TZOFFSETTO:-0500
DTSTART:19701101T020000
RRULE:FREQ=YEARLY;BYMONTH=11;BYDAY=1SU
END:STANDARD
END:VTIMEZONE
BEGIN:VEVENT
UID:auroraoh-73672228-20260319T180000@quickscores.com
DTSTAMP:20260425T192600Z
DTSTART;TZID=America/New_York:20260319T180000
DURATION:PT1H0M0S
SUMMARY:Practice: VB62 Korzhiletskiy (navy)
DESCRIPTION:Volleyball - Girls 5th-6th Grade - Aurora OH Parks and Recreation
LOCATION:KMS - Gym 1
CATEGORIES:QuickScores, Volleyball - Youth Game
TRANSP:OPAQUE
BEGIN:VALARM
TRIGGER:-PT2H
ACTION:DISPLAY
DESCRIPTION:Practice: VB62 Korzhiletskiy (navy)
END:VALARM
END:VEVENT
BEGIN:VEVENT
UID:auroraoh-73672230-20260402T180000@quickscores.com
DTSTAMP:20260425T192600Z
DTSTART;TZID=America/New_York:20260402T180000
DURATION:PT1H0M0S
SUMMARY:Practice: VB62 Korzhiletskiy (navy)
DESCRIPTION:Volleyball - Girls 5th-6th Grade - Aurora OH Parks and Recreation
LOCATION:KMS - Gym 1
CATEGORIES:QuickScores, Volleyball - Youth Game
TRANSP:OPAQUE
BEGIN:VALARM
TRIGGER:-PT2H
ACTION:DISPLAY
DESCRIPTION:Practice: VB62 Korzhiletskiy (navy)
END:VALARM
END:VEVENT
BEGIN:VEVENT
UID:auroraoh-73672231-20260409T180000@quickscores.com
DTSTAMP:20260425T192600Z
DTSTART;TZID=America/New_York:20260409T180000
DURATION:PT1H0M0S
SUMMARY:Practice: VB62 Korzhiletskiy (navy)
DESCRIPTION:Volleyball - Girls 5th-6th Grade - Aurora OH Parks and Recreation
LOCATION:KMS - Gym 1
CATEGORIES:QuickScores, Volleyball - Youth Game
TRANSP:OPAQUE
BEGIN:VALARM
TRIGGER:-PT2H
ACTION:DISPLAY
DESCRIPTION:Practice: VB62 Korzhiletskiy (navy)
END:VALARM
END:VEVENT
BEGIN:VEVENT
UID:auroraoh-73930937-20260411T150000@quickscores.com
DTSTAMP:20260425T192600Z
DTSTART;TZID=America/New_York:20260411T150000
DURATION:PT1H0M0S
SUMMARY:VB62 Korzhiletskiy (navy) vs. VB620 Burtnett
DESCRIPTION:Volleyball - Girls 5th-6th Grade - Aurora OH Parks and Recreation
LOCATION:KHS - AUX Gym
CATEGORIES:QuickScores, Volleyball - Youth Game
TRANSP:OPAQUE
BEGIN:VALARM
TRIGGER:-PT2H
ACTION:DISPLAY
DESCRIPTION:VB62 Korzhiletskiy (navy) vs. VB620 Burtnett
END:VALARM
END:VEVENT
BEGIN:VEVENT
UID:auroraoh-73930941-20260412T140000@quickscores.com
DTSTAMP:20260425T192600Z
DTSTART;TZID=America/New_York:20260412T140000
DURATION:PT1H0M0S
SUMMARY:VB62 Korzhiletskiy (navy) vs. VB623 Fisher (green)
DESCRIPTION:Volleyball - Girls 5th-6th Grade - Aurora OH Parks and Recreation
LOCATION:KHS - AUX Gym
CATEGORIES:QuickScores, Volleyball - Youth Game
TRANSP:OPAQUE
BEGIN:VALARM
TRIGGER:-PT2H
ACTION:DISPLAY
DESCRIPTION:VB62 Korzhiletskiy (navy) vs. VB623 Fisher (green)
END:VALARM
END:VEVENT
BEGIN:VEVENT
UID:auroraoh-73917797-20260416T180000@quickscores.com
DTSTAMP:20260425T192600Z
DTSTART;TZID=America/New_York:20260416T180000
DURATION:PT1H0M0S
SUMMARY:Practice: VB62 Korzhiletskiy (navy)
DESCRIPTION:Volleyball - Girls 5th-6th Grade - Aurora OH Parks and Recreation
LOCATION:KMS - Gym 1
CATEGORIES:QuickScores, Volleyball - Youth Game
TRANSP:OPAQUE
BEGIN:VALARM
TRIGGER:-PT2H
ACTION:DISPLAY
DESCRIPTION:Practice: VB62 Korzhiletskiy (navy)
END:VALARM
END:VEVENT
BEGIN:VEVENT
UID:auroraoh-73930952-20260418T110000@quickscores.com
DTSTAMP:20260425T192600Z
DTSTART;TZID=America/New_York:20260418T110000
DURATION:PT1H0M0S
SUMMARY:VB64 Regan (purple) vs. VB62 Korzhiletskiy (navy)
DESCRIPTION:Volleyball - Girls 5th-6th Grade - Aurora OH Parks and Recreation
LOCATION:KMS - KENSTON MIDDLE SCHOOL
CATEGORIES:QuickScores, Volleyball - Youth Game
TRANSP:OPAQUE
BEGIN:VALARM
TRIGGER:-PT2H
ACTION:DISPLAY
DESCRIPTION:VB64 Regan (purple) vs. VB62 Korzhiletskiy (navy)
END:VALARM
END:VEVENT
BEGIN:VEVENT
UID:auroraoh-73930975-20260419T130000@quickscores.com
DTSTAMP:20260425T192600Z
DTSTART;TZID=America/New_York:20260419T130000
DURATION:PT1H0M0S
SUMMARY:VB62 Korzhiletskiy (navy) vs. VB69 Fete (dark green)
DESCRIPTION:Volleyball - Girls 5th-6th Grade - Aurora OH Parks and Recreation
LOCATION:TES - KENSTON TIMMONS ELEMENTARY SCHOOL
CATEGORIES:QuickScores, Volleyball - Youth Game
TRANSP:OPAQUE
BEGIN:VALARM
TRIGGER:-PT2H
ACTION:DISPLAY
DESCRIPTION:VB62 Korzhiletskiy (navy) vs. VB69 Fete (dark green)
END:VALARM
END:VEVENT
BEGIN:VEVENT
UID:auroraoh-73917798-20260423T180000@quickscores.com
DTSTAMP:20260425T192600Z
DTSTART;TZID=America/New_York:20260423T180000
DURATION:PT1H0M0S
SUMMARY:Practice: VB62 Korzhiletskiy (navy)
DESCRIPTION:Volleyball - Girls 5th-6th Grade - Aurora OH Parks and Recreation
LOCATION:KMS - Gym 1
CATEGORIES:QuickScores, Volleyball - Youth Game
TRANSP:OPAQUE
BEGIN:VALARM
TRIGGER:-PT2H
ACTION:DISPLAY
DESCRIPTION:Practice: VB62 Korzhiletskiy (navy)
END:VALARM
END:VEVENT
BEGIN:VEVENT
UID:auroraoh-73930983-20260425T110000@quickscores.com
DTSTAMP:20260425T192600Z
DTSTART;TZID=America/New_York:20260425T110000
DURATION:PT1H0M0S
SUMMARY:VB619 Havasi vs. VB62 Korzhiletskiy (navy)
DESCRIPTION:Volleyball - Girls 5th-6th Grade - Aurora OH Parks and Recreation
LOCATION:Aurora - Harmon
CATEGORIES:QuickScores, Volleyball - Youth Game
TRANSP:OPAQUE
BEGIN:VALARM
TRIGGER:-PT2H
ACTION:DISPLAY
DESCRIPTION:VB619 Havasi vs. VB62 Korzhiletskiy (navy)
END:VALARM
END:VEVENT
BEGIN:VEVENT
UID:auroraoh-73917799-20260430T180000@quickscores.com
DTSTAMP:20260425T192600Z
DTSTART;TZID=America/New_York:20260430T180000
DURATION:PT1H0M0S
SUMMARY:Practice: VB62 Korzhiletskiy (navy)
DESCRIPTION:Volleyball - Girls 5th-6th Grade - Aurora OH Parks and Recreation
LOCATION:KMS - Gym 1
CATEGORIES:QuickScores, Volleyball - Youth Game
TRANSP:OPAQUE
BEGIN:VALARM
TRIGGER:-PT2H
ACTION:DISPLAY
DESCRIPTION:Practice: VB62 Korzhiletskiy (navy)
END:VALARM
END:VEVENT
BEGIN:VEVENT
UID:auroraoh-73930993-20260502T100000@quickscores.com
DTSTAMP:20260425T192600Z
DTSTART;TZID=America/New_York:20260502T100000
DURATION:PT1H0M0S
SUMMARY:VB66  Fletcher (pink) vs. VB62 Korzhiletskiy (navy)
DESCRIPTION:Volleyball - Girls 5th-6th Grade - Aurora OH Parks and Recreation
LOCATION:TES - KENSTON TIMMONS ELEMENTARY SCHOOL
CATEGORIES:QuickScores, Volleyball - Youth Game
TRANSP:OPAQUE
BEGIN:VALARM
TRIGGER:-PT2H
ACTION:DISPLAY
DESCRIPTION:VB66  Fletcher (pink) vs. VB62 Korzhiletskiy (navy)
END:VALARM
END:VEVENT
BEGIN:VEVENT
UID:auroraoh-73917800-20260507T193000@quickscores.com
DTSTAMP:20260425T192600Z
DTSTART;TZID=America/New_York:20260507T193000
DURATION:PT1H0M0S
SUMMARY:Practice: VB62 Korzhiletskiy (navy)
DESCRIPTION:Time/location change --- Volleyball - Girls 5th-6th Grade - Aurora OH Parks and Recreation
LOCATION:KIS - Gym 1
CATEGORIES:QuickScores, Volleyball - Youth Game
TRANSP:OPAQUE
BEGIN:VALARM
TRIGGER:-PT2H
ACTION:DISPLAY
DESCRIPTION:Practice: VB62 Korzhiletskiy (navy)
END:VALARM
END:VEVENT
BEGIN:VEVENT
UID:auroraoh-73931013-20260509T170000@quickscores.com
DTSTAMP:20260425T192600Z
DTSTART;TZID=America/New_York:20260509T170000
DURATION:PT1H0M0S
SUMMARY:VB62 Korzhiletskiy (navy) vs. VB621 Catania
DESCRIPTION:Volleyball - Girls 5th-6th Grade - Aurora OH Parks and Recreation
LOCATION:TES - KENSTON TIMMONS ELEMENTARY SCHOOL
CATEGORIES:QuickScores, Volleyball - Youth Game
TRANSP:OPAQUE
BEGIN:VALARM
TRIGGER:-PT2H
ACTION:DISPLAY
DESCRIPTION:VB62 Korzhiletskiy (navy) vs. VB621 Catania
END:VALARM
END:VEVENT
BEGIN:VEVENT
UID:auroraoh-73917801-20260514T180000@quickscores.com
DTSTAMP:20260425T192600Z
DTSTART;TZID=America/New_York:20260514T180000
DURATION:PT1H0M0S
SUMMARY:Practice: VB62 Korzhiletskiy (navy)
DESCRIPTION:Volleyball - Girls 5th-6th Grade - Aurora OH Parks and Recreation
LOCATION:KMS - Gym 1
CATEGORIES:QuickScores, Volleyball - Youth Game
TRANSP:OPAQUE
BEGIN:VALARM
TRIGGER:-PT2H
ACTION:DISPLAY
DESCRIPTION:Practice: VB62 Korzhiletskiy (navy)
END:VALARM
END:VEVENT
END:VCALENDAR
