BEGIN:VCALENDAR
VERSION:2.0
PRODID:-//QuickScores.com//BQ Dynamic iCal Creator//EN
METHOD:PUBLISH
X-WR-CALNAME:Coach Schroeder - U8 Bartram Springs - Spring 2026
X-WR-CALDESC:QuickScores game calendar
X-PUBLISHED-TTL:PT24H
REFRESH-INTERVAL;VALUE=DURATION:PT24H
CALSCALE:GREGORIAN
BEGIN:VTIMEZONE
TZID:America/New_York
X-LIC-LOCATION:America/New_York
BEGIN:DAYLIGHT
TZNAME:EDT
TZOFFSETFROM:-0500
TZOFFSETTO:-0400
DTSTART:19700308T020000
RRULE:FREQ=YEARLY;BYMONTH=3;BYDAY=2SU
END:DAYLIGHT
BEGIN:STANDARD
TZNAME:EST
TZOFFSETFROM:-0400
TZOFFSETTO:-0500
DTSTART:19701101T020000
RRULE:FREQ=YEARLY;BYMONTH=11;BYDAY=1SU
END:STANDARD
END:VTIMEZONE
BEGIN:VEVENT
UID:amenityathletics-73626973-20260328T093000@quickscores.com
DTSTAMP:20260425T125700Z
DTSTART;TZID=America/New_York:20260328T093000
DURATION:PT1H0M0S
SUMMARY:Coach Schroeder vs. Coach Ethan
DESCRIPTION:U8 Bartram Springs - Amenity Athletics: Your Neighborhood Athletic Association
LOCATION:Bartram Springs Field 2
CATEGORIES:QuickScores, Soccer Game
TRANSP:OPAQUE
BEGIN:VALARM
TRIGGER:-PT2H
ACTION:DISPLAY
DESCRIPTION:Coach Schroeder vs. Coach Ethan
END:VALARM
END:VEVENT
BEGIN:VEVENT
UID:amenityathletics-73626982-20260411T113000@quickscores.com
DTSTAMP:20260425T125700Z
DTSTART;TZID=America/New_York:20260411T113000
DURATION:PT1H0M0S
SUMMARY:Coach Schroeder vs. Coach DellaFave
DESCRIPTION:U8 Bartram Springs - Amenity Athletics: Your Neighborhood Athletic Association
LOCATION:Bartram Springs Field 2
CATEGORIES:QuickScores, Soccer Game
TRANSP:OPAQUE
BEGIN:VALARM
TRIGGER:-PT2H
ACTION:DISPLAY
DESCRIPTION:Coach Schroeder vs. Coach DellaFave
END:VALARM
END:VEVENT
BEGIN:VEVENT
UID:amenityathletics-73626990-20260418T123000@quickscores.com
DTSTAMP:20260425T125700Z
DTSTART;TZID=America/New_York:20260418T123000
DURATION:PT1H0M0S
SUMMARY:Coach Parker vs. Coach Schroeder
DESCRIPTION:U8 Bartram Springs - Amenity Athletics: Your Neighborhood Athletic Association
LOCATION:Bartram Springs Field 2
CATEGORIES:QuickScores, Soccer Game
TRANSP:OPAQUE
BEGIN:VALARM
TRIGGER:-PT2H
ACTION:DISPLAY
DESCRIPTION:Coach Parker vs. Coach Schroeder
END:VALARM
END:VEVENT
BEGIN:VEVENT
UID:amenityathletics-73626993-20260425T093000@quickscores.com
DTSTAMP:20260425T125700Z
DTSTART;TZID=America/New_York:20260425T093000
DURATION:PT1H0M0S
SUMMARY:Coach Schroeder vs. Coach Etue
DESCRIPTION:U8 Bartram Springs - Amenity Athletics: Your Neighborhood Athletic Association
LOCATION:Bartram Springs Field 2
CATEGORIES:QuickScores, Soccer Game
TRANSP:OPAQUE
BEGIN:VALARM
TRIGGER:-PT2H
ACTION:DISPLAY
DESCRIPTION:Coach Schroeder vs. Coach Etue
END:VALARM
END:VEVENT
BEGIN:VEVENT
UID:amenityathletics-73627001-20260502T083000@quickscores.com
DTSTAMP:20260425T125700Z
DTSTART;TZID=America/New_York:20260502T083000
DURATION:PT1H0M0S
SUMMARY:Coach Hajir vs. Coach Schroeder
DESCRIPTION:U8 Bartram Springs - Amenity Athletics: Your Neighborhood Athletic Association
LOCATION:Bartram Springs Field 2
CATEGORIES:QuickScores, Soccer Game
TRANSP:OPAQUE
BEGIN:VALARM
TRIGGER:-PT2H
ACTION:DISPLAY
DESCRIPTION:Coach Hajir vs. Coach Schroeder
END:VALARM
END:VEVENT
BEGIN:VEVENT
UID:amenityathletics-73627004-20260509T103000@quickscores.com
DTSTAMP:20260425T125700Z
DTSTART;TZID=America/New_York:20260509T103000
DURATION:PT1H0M0S
SUMMARY:Coach Cook vs. Coach Schroeder
DESCRIPTION:U8 Bartram Springs - Amenity Athletics: Your Neighborhood Athletic Association
LOCATION:Bartram Springs Field 2
CATEGORIES:QuickScores, Soccer Game
TRANSP:OPAQUE
BEGIN:VALARM
TRIGGER:-PT2H
ACTION:DISPLAY
DESCRIPTION:Coach Cook vs. Coach Schroeder
END:VALARM
END:VEVENT
BEGIN:VEVENT
UID:amenityathletics-73627011-20260516T123000@quickscores.com
DTSTAMP:20260425T125700Z
DTSTART;TZID=America/New_York:20260516T123000
DURATION:PT1H0M0S
SUMMARY:Coach Schroeder vs. Coach Warthen
DESCRIPTION:U8 Bartram Springs - Amenity Athletics: Your Neighborhood Athletic Association
LOCATION:Bartram Springs Field 2
CATEGORIES:QuickScores, Soccer Game
TRANSP:OPAQUE
BEGIN:VALARM
TRIGGER:-PT2H
ACTION:DISPLAY
DESCRIPTION:Coach Schroeder vs. Coach Warthen
END:VALARM
END:VEVENT
BEGIN:VEVENT
UID:amenityathletics-73626979-20260523T103000@quickscores.com
DTSTAMP:20260425T125700Z
DTSTART;TZID=America/New_York:20260523T103000
DURATION:PT1H0M0S
SUMMARY:Coach Scafani vs. Coach Schroeder
DESCRIPTION:U8 Bartram Springs - Amenity Athletics: Your Neighborhood Athletic Association
LOCATION:Bartram Springs Field 2
CATEGORIES:QuickScores, Soccer Game
TRANSP:OPAQUE
BEGIN:VALARM
TRIGGER:-PT2H
ACTION:DISPLAY
DESCRIPTION:Coach Scafani vs. Coach Schroeder
END:VALARM
END:VEVENT
END:VCALENDAR
