BEGIN:VCALENDAR
VERSION:2.0
PRODID:-//QuickScores.com//BQ Dynamic iCal Creator//EN
METHOD:PUBLISH
X-WR-CALNAME:Coach Hernandez - U6 Bartram Springs - Spring 2026
X-WR-CALDESC:QuickScores game calendar
X-PUBLISHED-TTL:PT24H
REFRESH-INTERVAL;VALUE=DURATION:PT24H
CALSCALE:GREGORIAN
BEGIN:VTIMEZONE
TZID:America/New_York
X-LIC-LOCATION:America/New_York
BEGIN:DAYLIGHT
TZNAME:EDT
TZOFFSETFROM:-0500
TZOFFSETTO:-0400
DTSTART:19700308T020000
RRULE:FREQ=YEARLY;BYMONTH=3;BYDAY=2SU
END:DAYLIGHT
BEGIN:STANDARD
TZNAME:EST
TZOFFSETFROM:-0400
TZOFFSETTO:-0500
DTSTART:19701101T020000
RRULE:FREQ=YEARLY;BYMONTH=11;BYDAY=1SU
END:STANDARD
END:VTIMEZONE
BEGIN:VEVENT
UID:amenityathletics-73626954-20260328T093000@quickscores.com
DTSTAMP:20260420T021100Z
DTSTART;TZID=America/New_York:20260328T093000
DURATION:PT1H0M0S
SUMMARY:Coach Hernandez vs. Coach Diedrich
DESCRIPTION:U6 Bartram Springs - Amenity Athletics: Your Neighborhood Athletic Association
LOCATION:Bartram Springs Field 1
CATEGORIES:QuickScores, Soccer Game
TRANSP:OPAQUE
BEGIN:VALARM
TRIGGER:-PT2H
ACTION:DISPLAY
DESCRIPTION:Coach Hernandez vs. Coach Diedrich
END:VALARM
END:VEVENT
BEGIN:VEVENT
UID:amenityathletics-73626956-20260411T083000@quickscores.com
DTSTAMP:20260420T021100Z
DTSTART;TZID=America/New_York:20260411T083000
DURATION:PT1H0M0S
SUMMARY:Coach Hernandez vs. Coach Aho
DESCRIPTION:U6 Bartram Springs - Amenity Athletics: Your Neighborhood Athletic Association
LOCATION:Bartram Springs Field 1
CATEGORIES:QuickScores, Soccer Game
TRANSP:OPAQUE
BEGIN:VALARM
TRIGGER:-PT2H
ACTION:DISPLAY
DESCRIPTION:Coach Hernandez vs. Coach Aho
END:VALARM
END:VEVENT
BEGIN:VEVENT
UID:amenityathletics-73626960-20260418T083000@quickscores.com
DTSTAMP:20260420T021100Z
DTSTART;TZID=America/New_York:20260418T083000
DURATION:PT1H0M0S
SUMMARY:Coach Diedrich vs. Coach Hernandez
DESCRIPTION:U6 Bartram Springs - Amenity Athletics: Your Neighborhood Athletic Association
LOCATION:Bartram Springs Field 1
CATEGORIES:QuickScores, Soccer Game
TRANSP:OPAQUE
BEGIN:VALARM
TRIGGER:-PT2H
ACTION:DISPLAY
DESCRIPTION:Coach Diedrich vs. Coach Hernandez
END:VALARM
END:VEVENT
BEGIN:VEVENT
UID:amenityathletics-73626962-20260425T083000@quickscores.com
DTSTAMP:20260420T021100Z
DTSTART;TZID=America/New_York:20260425T083000
DURATION:PT1H0M0S
SUMMARY:Coach Aho vs. Coach Hernandez
DESCRIPTION:U6 Bartram Springs - Amenity Athletics: Your Neighborhood Athletic Association
LOCATION:Bartram Springs Field 1
CATEGORIES:QuickScores, Soccer Game
TRANSP:OPAQUE
BEGIN:VALARM
TRIGGER:-PT2H
ACTION:DISPLAY
DESCRIPTION:Coach Aho vs. Coach Hernandez
END:VALARM
END:VEVENT
BEGIN:VEVENT
UID:amenityathletics-73626964-20260502T083000@quickscores.com
DTSTAMP:20260420T021100Z
DTSTART;TZID=America/New_York:20260502T083000
DURATION:PT1H0M0S
SUMMARY:Coach Sloman vs. Coach Hernandez
DESCRIPTION:U6 Bartram Springs - Amenity Athletics: Your Neighborhood Athletic Association
LOCATION:Bartram Springs Field 1
CATEGORIES:QuickScores, Soccer Game
TRANSP:OPAQUE
BEGIN:VALARM
TRIGGER:-PT2H
ACTION:DISPLAY
DESCRIPTION:Coach Sloman vs. Coach Hernandez
END:VALARM
END:VEVENT
BEGIN:VEVENT
UID:amenityathletics-73626966-20260509T083000@quickscores.com
DTSTAMP:20260420T021100Z
DTSTART;TZID=America/New_York:20260509T083000
DURATION:PT1H0M0S
SUMMARY:Coach Diedrich vs. Coach Hernandez
DESCRIPTION:U6 Bartram Springs - Amenity Athletics: Your Neighborhood Athletic Association
LOCATION:Bartram Springs Field 1
CATEGORIES:QuickScores, Soccer Game
TRANSP:OPAQUE
BEGIN:VALARM
TRIGGER:-PT2H
ACTION:DISPLAY
DESCRIPTION:Coach Diedrich vs. Coach Hernandez
END:VALARM
END:VEVENT
BEGIN:VEVENT
UID:amenityathletics-73626968-20260516T093000@quickscores.com
DTSTAMP:20260420T021100Z
DTSTART;TZID=America/New_York:20260516T093000
DURATION:PT1H0M0S
SUMMARY:Coach Hernandez vs. Coach Aho
DESCRIPTION:U6 Bartram Springs - Amenity Athletics: Your Neighborhood Athletic Association
LOCATION:Bartram Springs Field 1
CATEGORIES:QuickScores, Soccer Game
TRANSP:OPAQUE
BEGIN:VALARM
TRIGGER:-PT2H
ACTION:DISPLAY
DESCRIPTION:Coach Hernandez vs. Coach Aho
END:VALARM
END:VEVENT
BEGIN:VEVENT
UID:amenityathletics-73626958-20260523T093000@quickscores.com
DTSTAMP:20260420T021100Z
DTSTART;TZID=America/New_York:20260523T093000
DURATION:PT1H0M0S
SUMMARY:Coach Hernandez vs. Coach Sloman
DESCRIPTION:U6 Bartram Springs - Amenity Athletics: Your Neighborhood Athletic Association
LOCATION:Bartram Springs Field 1
CATEGORIES:QuickScores, Soccer Game
TRANSP:OPAQUE
BEGIN:VALARM
TRIGGER:-PT2H
ACTION:DISPLAY
DESCRIPTION:Coach Hernandez vs. Coach Sloman
END:VALARM
END:VEVENT
END:VCALENDAR
