BEGIN:VCALENDAR
VERSION:2.0
PRODID:-//QuickScores.com//BQ Dynamic iCal Creator//EN
METHOD:PUBLISH
X-WR-CALNAME:Courage - Girls 3rd Grade - Spring 2026
X-WR-CALDESC:QuickScores game calendar
X-PUBLISHED-TTL:PT24H
REFRESH-INTERVAL;VALUE=DURATION:PT24H
CALSCALE:GREGORIAN
BEGIN:VTIMEZONE
TZID:America/Chicago
X-LIC-LOCATION:America/Chicago
BEGIN:DAYLIGHT
TZNAME:CDT
TZOFFSETFROM:-0600
TZOFFSETTO:-0500
DTSTART:19700308T020000
RRULE:FREQ=YEARLY;BYMONTH=3;BYDAY=2SU
END:DAYLIGHT
BEGIN:STANDARD
TZNAME:CST
TZOFFSETFROM:-0500
TZOFFSETTO:-0600
DTSTART:19701101T020000
RRULE:FREQ=YEARLY;BYMONTH=11;BYDAY=1SU
END:STANDARD
END:VTIMEZONE
BEGIN:VEVENT
UID:ahpd-74389443-20260418T100500@quickscores.com
DTSTAMP:20260423T163400Z
DTSTART;TZID=America/Chicago:20260418T100500
DURATION:PT1H0M0S
SUMMARY:Courage vs. Dash
DESCRIPTION:Girls 3rd Grade - Arlington Heights Park District
LOCATION:Frontier Soccer Field #1 - 7v7
CATEGORIES:QuickScores, Soccer - Youth Game
TRANSP:OPAQUE
BEGIN:VALARM
TRIGGER:-PT2H
ACTION:DISPLAY
DESCRIPTION:Courage vs. Dash
END:VALARM
END:VEVENT
BEGIN:VEVENT
UID:ahpd-74389445-20260425T100500@quickscores.com
DTSTAMP:20260423T163400Z
DTSTART;TZID=America/Chicago:20260425T100500
DURATION:PT1H0M0S
SUMMARY:Courage vs. Wave
DESCRIPTION:Girls 3rd Grade - Arlington Heights Park District
LOCATION:Frontier Soccer Field #1 - 7v7
CATEGORIES:QuickScores, Soccer - Youth Game
TRANSP:OPAQUE
BEGIN:VALARM
TRIGGER:-PT2H
ACTION:DISPLAY
DESCRIPTION:Courage vs. Wave
END:VALARM
END:VEVENT
BEGIN:VEVENT
UID:ahpd-74389447-20260502T100500@quickscores.com
DTSTAMP:20260423T163400Z
DTSTART;TZID=America/Chicago:20260502T100500
DURATION:PT1H0M0S
SUMMARY:Courage vs. Stars
DESCRIPTION:Girls 3rd Grade - Arlington Heights Park District
LOCATION:Frontier Soccer Field #1 - 7v7
CATEGORIES:QuickScores, Soccer - Youth Game
TRANSP:OPAQUE
BEGIN:VALARM
TRIGGER:-PT2H
ACTION:DISPLAY
DESCRIPTION:Courage vs. Stars
END:VALARM
END:VEVENT
BEGIN:VEVENT
UID:ahpd-74389449-20260509T090000@quickscores.com
DTSTAMP:20260423T163400Z
DTSTART;TZID=America/Chicago:20260509T090000
DURATION:PT1H0M0S
SUMMARY:Dash vs. Courage
DESCRIPTION:Girls 3rd Grade - Arlington Heights Park District
LOCATION:Heritage Soccer Field #1 - 7v7
CATEGORIES:QuickScores, Soccer - Youth Game
TRANSP:OPAQUE
BEGIN:VALARM
TRIGGER:-PT2H
ACTION:DISPLAY
DESCRIPTION:Dash vs. Courage
END:VALARM
END:VEVENT
BEGIN:VEVENT
UID:ahpd-74389452-20260516T100500@quickscores.com
DTSTAMP:20260423T163400Z
DTSTART;TZID=America/Chicago:20260516T100500
DURATION:PT1H0M0S
SUMMARY:Wave vs. Courage
DESCRIPTION:Girls 3rd Grade - Arlington Heights Park District
LOCATION:Frontier Soccer Field #1 - 7v7
CATEGORIES:QuickScores, Soccer - Youth Game
TRANSP:OPAQUE
BEGIN:VALARM
TRIGGER:-PT2H
ACTION:DISPLAY
DESCRIPTION:Wave vs. Courage
END:VALARM
END:VEVENT
BEGIN:VEVENT
UID:ahpd-74389453-20260530T090000@quickscores.com
DTSTAMP:20260423T163400Z
DTSTART;TZID=America/Chicago:20260530T090000
DURATION:PT1H0M0S
SUMMARY:Stars vs. Courage
DESCRIPTION:Girls 3rd Grade - Arlington Heights Park District
LOCATION:Heritage Soccer Field #1 - 7v7
CATEGORIES:QuickScores, Soccer - Youth Game
TRANSP:OPAQUE
BEGIN:VALARM
TRIGGER:-PT2H
ACTION:DISPLAY
DESCRIPTION:Stars vs. Courage
END:VALARM
END:VEVENT
END:VCALENDAR
