BEGIN:VCALENDAR
VERSION:2.0
PRODID:-//QuickScores.com//BQ Dynamic iCal Creator//EN
METHOD:PUBLISH
X-WR-CALNAME:Valkyries - 4th/5th Grade Girls - Fall 2025
X-WR-CALDESC:QuickScores game calendar
X-PUBLISHED-TTL:PT24H
REFRESH-INTERVAL;VALUE=DURATION:PT24H
CALSCALE:GREGORIAN
BEGIN:VTIMEZONE
TZID:America/Chicago
X-LIC-LOCATION:America/Chicago
BEGIN:DAYLIGHT
TZNAME:CDT
TZOFFSETFROM:-0600
TZOFFSETTO:-0500
DTSTART:19700308T020000
RRULE:FREQ=YEARLY;BYMONTH=3;BYDAY=2SU
END:DAYLIGHT
BEGIN:STANDARD
TZNAME:CST
TZOFFSETFROM:-0500
TZOFFSETTO:-0600
DTSTART:19701101T020000
RRULE:FREQ=YEARLY;BYMONTH=11;BYDAY=1SU
END:STANDARD
END:VTIMEZONE
BEGIN:VEVENT
UID:ahpd-71373006-20251101T140000@quickscores.com
DTSTAMP:20260424T034200Z
DTSTART;TZID=America/Chicago:20251101T140000
DURATION:PT1H0M0S
SUMMARY:Sky vs. Valkyries
DESCRIPTION:4th/5th Grade Girls - Arlington Heights Park District
LOCATION:Camelot Full Court
CATEGORIES:QuickScores, Basketball - Youth Game
TRANSP:OPAQUE
BEGIN:VALARM
TRIGGER:-PT2H
ACTION:DISPLAY
DESCRIPTION:Sky vs. Valkyries
END:VALARM
END:VEVENT
BEGIN:VEVENT
UID:ahpd-71373013-20251108T150000@quickscores.com
DTSTAMP:20260424T034200Z
DTSTART;TZID=America/Chicago:20251108T150000
DURATION:PT1H0M0S
SUMMARY:Sparks vs. Valkyries
DESCRIPTION:4th/5th Grade Girls - Arlington Heights Park District
LOCATION:Camelot Full Court
CATEGORIES:QuickScores, Basketball - Youth Game
TRANSP:OPAQUE
BEGIN:VALARM
TRIGGER:-PT2H
ACTION:DISPLAY
DESCRIPTION:Sparks vs. Valkyries
END:VALARM
END:VEVENT
BEGIN:VEVENT
UID:ahpd-71373018-20251109T150000@quickscores.com
DTSTAMP:20260424T034200Z
DTSTART;TZID=America/Chicago:20251109T150000
DURATION:PT1H0M0S
SUMMARY:Valkyries vs. Mercury
DESCRIPTION:4th/5th Grade Girls - Arlington Heights Park District
LOCATION:Pioneer Gym
CATEGORIES:QuickScores, Basketball - Youth Game
TRANSP:OPAQUE
BEGIN:VALARM
TRIGGER:-PT2H
ACTION:DISPLAY
DESCRIPTION:Valkyries vs. Mercury
END:VALARM
END:VEVENT
BEGIN:VEVENT
UID:ahpd-71373023-20251115T140000@quickscores.com
DTSTAMP:20260424T034200Z
DTSTART;TZID=America/Chicago:20251115T140000
DURATION:PT1H0M0S
SUMMARY:Valkyries vs. Sun
DESCRIPTION:4th/5th Grade Girls - Arlington Heights Park District
LOCATION:Poe School
CATEGORIES:QuickScores, Basketball - Youth Game
TRANSP:OPAQUE
BEGIN:VALARM
TRIGGER:-PT2H
ACTION:DISPLAY
DESCRIPTION:Valkyries vs. Sun
END:VALARM
END:VEVENT
BEGIN:VEVENT
UID:ahpd-71373026-20251116T160000@quickscores.com
DTSTAMP:20260424T034200Z
DTSTART;TZID=America/Chicago:20251116T160000
DURATION:PT1H0M0S
SUMMARY:Mystics vs. Valkyries
DESCRIPTION:4th/5th Grade Girls - Arlington Heights Park District
LOCATION:Camelot Full Court
CATEGORIES:QuickScores, Basketball - Youth Game
TRANSP:OPAQUE
BEGIN:VALARM
TRIGGER:-PT2H
ACTION:DISPLAY
DESCRIPTION:Mystics vs. Valkyries
END:VALARM
END:VEVENT
BEGIN:VEVENT
UID:ahpd-71373028-20251122T140000@quickscores.com
DTSTAMP:20260424T034200Z
DTSTART;TZID=America/Chicago:20251122T140000
DURATION:PT1H0M0S
SUMMARY:Valkyries vs. Fever
DESCRIPTION:4th/5th Grade Girls - Arlington Heights Park District
LOCATION:Poe School
CATEGORIES:QuickScores, Basketball - Youth Game
TRANSP:OPAQUE
BEGIN:VALARM
TRIGGER:-PT2H
ACTION:DISPLAY
DESCRIPTION:Valkyries vs. Fever
END:VALARM
END:VEVENT
BEGIN:VEVENT
UID:ahpd-71373040-20251206T140000@quickscores.com
DTSTAMP:20260424T034200Z
DTSTART;TZID=America/Chicago:20251206T140000
DURATION:PT1H0M0S
SUMMARY:Valkyries vs. Aces
DESCRIPTION:4th/5th Grade Girls - Arlington Heights Park District
LOCATION:Poe School
CATEGORIES:QuickScores, Basketball - Youth Game
TRANSP:OPAQUE
BEGIN:VALARM
TRIGGER:-PT2H
ACTION:DISPLAY
DESCRIPTION:Valkyries vs. Aces
END:VALARM
END:VEVENT
BEGIN:VEVENT
UID:ahpd-71373043-20251213T150000@quickscores.com
DTSTAMP:20260424T034200Z
DTSTART;TZID=America/Chicago:20251213T150000
DURATION:PT1H0M0S
SUMMARY:Dream vs. Valkyries
DESCRIPTION:4th/5th Grade Girls - Arlington Heights Park District
LOCATION:Camelot Full Court
CATEGORIES:QuickScores, Basketball - Youth Game
TRANSP:OPAQUE
BEGIN:VALARM
TRIGGER:-PT2H
ACTION:DISPLAY
DESCRIPTION:Dream vs. Valkyries
END:VALARM
END:VEVENT
END:VCALENDAR
