BEGIN:VCALENDAR
VERSION:2.0
PRODID:-//QuickScores.com//BQ Dynamic iCal Creator//EN
METHOD:PUBLISH
X-WR-CALNAME:Sun - 4th/5th Grade Girls - Fall 2025
X-WR-CALDESC:QuickScores game calendar
X-PUBLISHED-TTL:PT24H
REFRESH-INTERVAL;VALUE=DURATION:PT24H
CALSCALE:GREGORIAN
BEGIN:VTIMEZONE
TZID:America/Chicago
X-LIC-LOCATION:America/Chicago
BEGIN:DAYLIGHT
TZNAME:CDT
TZOFFSETFROM:-0600
TZOFFSETTO:-0500
DTSTART:19700308T020000
RRULE:FREQ=YEARLY;BYMONTH=3;BYDAY=2SU
END:DAYLIGHT
BEGIN:STANDARD
TZNAME:CST
TZOFFSETFROM:-0500
TZOFFSETTO:-0600
DTSTART:19701101T020000
RRULE:FREQ=YEARLY;BYMONTH=11;BYDAY=1SU
END:STANDARD
END:VTIMEZONE
BEGIN:VEVENT
UID:ahpd-71373008-20251101T150000@quickscores.com
DTSTAMP:20260425T160800Z
DTSTART;TZID=America/Chicago:20251101T150000
DURATION:PT1H0M0S
SUMMARY:Mercury vs. Sun
DESCRIPTION:4th/5th Grade Girls - Arlington Heights Park District
LOCATION:Camelot Full Court
CATEGORIES:QuickScores, Basketball - Youth Game
TRANSP:OPAQUE
BEGIN:VALARM
TRIGGER:-PT2H
ACTION:DISPLAY
DESCRIPTION:Mercury vs. Sun
END:VALARM
END:VEVENT
BEGIN:VEVENT
UID:ahpd-71373016-20251108T140000@quickscores.com
DTSTAMP:20260425T160800Z
DTSTART;TZID=America/Chicago:20251108T140000
DURATION:PT1H0M0S
SUMMARY:Sun vs. Wings
DESCRIPTION:4th/5th Grade Girls - Arlington Heights Park District
LOCATION:Poe School
CATEGORIES:QuickScores, Basketball - Youth Game
TRANSP:OPAQUE
BEGIN:VALARM
TRIGGER:-PT2H
ACTION:DISPLAY
DESCRIPTION:Sun vs. Wings
END:VALARM
END:VEVENT
BEGIN:VEVENT
UID:ahpd-71373017-20251109T160000@quickscores.com
DTSTAMP:20260425T160800Z
DTSTART;TZID=America/Chicago:20251109T160000
DURATION:PT1H0M0S
SUMMARY:Sun vs. Mystics
DESCRIPTION:4th/5th Grade Girls - Arlington Heights Park District
LOCATION:Camelot Full Court
CATEGORIES:QuickScores, Basketball - Youth Game
TRANSP:OPAQUE
BEGIN:VALARM
TRIGGER:-PT2H
ACTION:DISPLAY
DESCRIPTION:Sun vs. Mystics
END:VALARM
END:VEVENT
BEGIN:VEVENT
UID:ahpd-71373023-20251115T140000@quickscores.com
DTSTAMP:20260425T160800Z
DTSTART;TZID=America/Chicago:20251115T140000
DURATION:PT1H0M0S
SUMMARY:Valkyries vs. Sun
DESCRIPTION:4th/5th Grade Girls - Arlington Heights Park District
LOCATION:Poe School
CATEGORIES:QuickScores, Basketball - Youth Game
TRANSP:OPAQUE
BEGIN:VALARM
TRIGGER:-PT2H
ACTION:DISPLAY
DESCRIPTION:Valkyries vs. Sun
END:VALARM
END:VEVENT
BEGIN:VEVENT
UID:ahpd-71373031-20251122T160000@quickscores.com
DTSTAMP:20260425T160800Z
DTSTART;TZID=America/Chicago:20251122T160000
DURATION:PT1H0M0S
SUMMARY:Sun vs. Liberty
DESCRIPTION:4th/5th Grade Girls - Arlington Heights Park District
LOCATION:Pioneer Gym
CATEGORIES:QuickScores, Basketball - Youth Game
TRANSP:OPAQUE
BEGIN:VALARM
TRIGGER:-PT2H
ACTION:DISPLAY
DESCRIPTION:Sun vs. Liberty
END:VALARM
END:VEVENT
BEGIN:VEVENT
UID:ahpd-71373038-20251206T150000@quickscores.com
DTSTAMP:20260425T160800Z
DTSTART;TZID=America/Chicago:20251206T150000
DURATION:PT1H0M0S
SUMMARY:Fever vs. Sun
DESCRIPTION:4th/5th Grade Girls - Arlington Heights Park District
LOCATION:Poe School
CATEGORIES:QuickScores, Basketball - Youth Game
TRANSP:OPAQUE
BEGIN:VALARM
TRIGGER:-PT2H
ACTION:DISPLAY
DESCRIPTION:Fever vs. Sun
END:VALARM
END:VEVENT
BEGIN:VEVENT
UID:ahpd-71373042-20251207T140000@quickscores.com
DTSTAMP:20260425T160800Z
DTSTART;TZID=America/Chicago:20251207T140000
DURATION:PT1H0M0S
SUMMARY:Sparks vs. Sun
DESCRIPTION:4th/5th Grade Girls - Arlington Heights Park District
LOCATION:Pioneer Gym
CATEGORIES:QuickScores, Basketball - Youth Game
TRANSP:OPAQUE
BEGIN:VALARM
TRIGGER:-PT2H
ACTION:DISPLAY
DESCRIPTION:Sparks vs. Sun
END:VALARM
END:VEVENT
BEGIN:VEVENT
UID:ahpd-71373046-20251213T120000@quickscores.com
DTSTAMP:20260425T160800Z
DTSTART;TZID=America/Chicago:20251213T120000
DURATION:PT1H0M0S
SUMMARY:Sun vs. Lynx
DESCRIPTION:4th/5th Grade Girls - Arlington Heights Park District
LOCATION:Poe School
CATEGORIES:QuickScores, Basketball - Youth Game
TRANSP:OPAQUE
BEGIN:VALARM
TRIGGER:-PT2H
ACTION:DISPLAY
DESCRIPTION:Sun vs. Lynx
END:VALARM
END:VEVENT
END:VCALENDAR
