BEGIN:VCALENDAR
VERSION:2.0
PRODID:-//QuickScores.com//BQ Dynamic iCal Creator//EN
METHOD:PUBLISH
X-WR-CALNAME:Liberty - 4th/5th Grade Girls - Fall 2025
X-WR-CALDESC:QuickScores game calendar
X-PUBLISHED-TTL:PT24H
REFRESH-INTERVAL;VALUE=DURATION:PT24H
CALSCALE:GREGORIAN
BEGIN:VTIMEZONE
TZID:America/Chicago
X-LIC-LOCATION:America/Chicago
BEGIN:DAYLIGHT
TZNAME:CDT
TZOFFSETFROM:-0600
TZOFFSETTO:-0500
DTSTART:19700308T020000
RRULE:FREQ=YEARLY;BYMONTH=3;BYDAY=2SU
END:DAYLIGHT
BEGIN:STANDARD
TZNAME:CST
TZOFFSETFROM:-0500
TZOFFSETTO:-0600
DTSTART:19701101T020000
RRULE:FREQ=YEARLY;BYMONTH=11;BYDAY=1SU
END:STANDARD
END:VTIMEZONE
BEGIN:VEVENT
UID:ahpd-71373005-20251101T150000@quickscores.com
DTSTAMP:20260423T210800Z
DTSTART;TZID=America/Chicago:20251101T150000
DURATION:PT1H0M0S
SUMMARY:Liberty vs. Mystics
DESCRIPTION:4th/5th Grade Girls - Arlington Heights Park District
LOCATION:Poe School
CATEGORIES:QuickScores, Basketball - Youth Game
TRANSP:OPAQUE
BEGIN:VALARM
TRIGGER:-PT2H
ACTION:DISPLAY
DESCRIPTION:Liberty vs. Mystics
END:VALARM
END:VEVENT
BEGIN:VEVENT
UID:ahpd-71373014-20251108T130000@quickscores.com
DTSTAMP:20260423T210800Z
DTSTART;TZID=America/Chicago:20251108T130000
DURATION:PT1H0M0S
SUMMARY:Aces vs. Liberty
DESCRIPTION:4th/5th Grade Girls - Arlington Heights Park District
LOCATION:Poe School
CATEGORIES:QuickScores, Basketball - Youth Game
TRANSP:OPAQUE
BEGIN:VALARM
TRIGGER:-PT2H
ACTION:DISPLAY
DESCRIPTION:Aces vs. Liberty
END:VALARM
END:VEVENT
BEGIN:VEVENT
UID:ahpd-71373020-20251115T130000@quickscores.com
DTSTAMP:20260423T210800Z
DTSTART;TZID=America/Chicago:20251115T130000
DURATION:PT1H0M0S
SUMMARY:Liberty vs. Lynx
DESCRIPTION:4th/5th Grade Girls - Arlington Heights Park District
LOCATION:Poe School
CATEGORIES:QuickScores, Basketball - Youth Game
TRANSP:OPAQUE
BEGIN:VALARM
TRIGGER:-PT2H
ACTION:DISPLAY
DESCRIPTION:Liberty vs. Lynx
END:VALARM
END:VEVENT
BEGIN:VEVENT
UID:ahpd-71373025-20251116T150000@quickscores.com
DTSTAMP:20260423T210800Z
DTSTART;TZID=America/Chicago:20251116T150000
DURATION:PT1H0M0S
SUMMARY:Liberty vs. Wings
DESCRIPTION:4th/5th Grade Girls - Arlington Heights Park District
LOCATION:Camelot Full Court
CATEGORIES:QuickScores, Basketball - Youth Game
TRANSP:OPAQUE
BEGIN:VALARM
TRIGGER:-PT2H
ACTION:DISPLAY
DESCRIPTION:Liberty vs. Wings
END:VALARM
END:VEVENT
BEGIN:VEVENT
UID:ahpd-71373031-20251122T160000@quickscores.com
DTSTAMP:20260423T210800Z
DTSTART;TZID=America/Chicago:20251122T160000
DURATION:PT1H0M0S
SUMMARY:Sun vs. Liberty
DESCRIPTION:4th/5th Grade Girls - Arlington Heights Park District
LOCATION:Pioneer Gym
CATEGORIES:QuickScores, Basketball - Youth Game
TRANSP:OPAQUE
BEGIN:VALARM
TRIGGER:-PT2H
ACTION:DISPLAY
DESCRIPTION:Sun vs. Liberty
END:VALARM
END:VEVENT
BEGIN:VEVENT
UID:ahpd-71373033-20251123T160000@quickscores.com
DTSTAMP:20260423T210800Z
DTSTART;TZID=America/Chicago:20251123T160000
DURATION:PT1H0M0S
SUMMARY:Liberty vs. Sparks
DESCRIPTION:4th/5th Grade Girls - Arlington Heights Park District
LOCATION:Camelot Full Court
CATEGORIES:QuickScores, Basketball - Youth Game
TRANSP:OPAQUE
BEGIN:VALARM
TRIGGER:-PT2H
ACTION:DISPLAY
DESCRIPTION:Liberty vs. Sparks
END:VALARM
END:VEVENT
BEGIN:VEVENT
UID:ahpd-71373035-20251206T160000@quickscores.com
DTSTAMP:20260423T210800Z
DTSTART;TZID=America/Chicago:20251206T160000
DURATION:PT1H0M0S
SUMMARY:Dream vs. Liberty
DESCRIPTION:4th/5th Grade Girls - Arlington Heights Park District
LOCATION:Camelot Full Court
CATEGORIES:QuickScores, Basketball - Youth Game
TRANSP:OPAQUE
BEGIN:VALARM
TRIGGER:-PT2H
ACTION:DISPLAY
DESCRIPTION:Dream vs. Liberty
END:VALARM
END:VEVENT
BEGIN:VEVENT
UID:ahpd-71373048-20251213T140000@quickscores.com
DTSTAMP:20260423T210800Z
DTSTART;TZID=America/Chicago:20251213T140000
DURATION:PT1H0M0S
SUMMARY:Sky vs. Liberty
DESCRIPTION:4th/5th Grade Girls - Arlington Heights Park District
LOCATION:Pioneer Gym
CATEGORIES:QuickScores, Basketball - Youth Game
TRANSP:OPAQUE
BEGIN:VALARM
TRIGGER:-PT2H
ACTION:DISPLAY
DESCRIPTION:Sky vs. Liberty
END:VALARM
END:VEVENT
END:VCALENDAR
