BEGIN:VCALENDAR
VERSION:2.0
PRODID:-//QuickScores.com//BQ Dynamic iCal Creator//EN
METHOD:PUBLISH
X-WR-CALNAME:Eagles - Boys 4th Grade - Fall 2025
X-WR-CALDESC:QuickScores game calendar
X-PUBLISHED-TTL:PT24H
REFRESH-INTERVAL;VALUE=DURATION:PT24H
CALSCALE:GREGORIAN
BEGIN:VTIMEZONE
TZID:America/Chicago
X-LIC-LOCATION:America/Chicago
BEGIN:DAYLIGHT
TZNAME:CDT
TZOFFSETFROM:-0600
TZOFFSETTO:-0500
DTSTART:19700308T020000
RRULE:FREQ=YEARLY;BYMONTH=3;BYDAY=2SU
END:DAYLIGHT
BEGIN:STANDARD
TZNAME:CST
TZOFFSETFROM:-0500
TZOFFSETTO:-0600
DTSTART:19701101T020000
RRULE:FREQ=YEARLY;BYMONTH=11;BYDAY=1SU
END:STANDARD
END:VTIMEZONE
BEGIN:VEVENT
UID:ahpd-70584453-20250906T100500@quickscores.com
DTSTAMP:20260423T234400Z
DTSTART;TZID=America/Chicago:20250906T100500
DURATION:PT1H5M0S
SUMMARY:Dragons vs. Eagles
DESCRIPTION:Boys 4th Grade - Arlington Heights Park District
LOCATION:Dunton/D25 Soccer Field #1 - 5v5
CATEGORIES:QuickScores, Soccer - Youth Game
TRANSP:OPAQUE
BEGIN:VALARM
TRIGGER:-PT2H
ACTION:DISPLAY
DESCRIPTION:Dragons vs. Eagles
END:VALARM
END:VEVENT
BEGIN:VEVENT
UID:ahpd-70584457-20250913T121500@quickscores.com
DTSTAMP:20260423T234400Z
DTSTART;TZID=America/Chicago:20250913T121500
DURATION:PT1H5M0S
SUMMARY:Huskies vs. Eagles
DESCRIPTION:Boys 4th Grade - Arlington Heights Park District
LOCATION:Frontier Soccer Field #1 - 7v7
CATEGORIES:QuickScores, Soccer - Youth Game
TRANSP:OPAQUE
BEGIN:VALARM
TRIGGER:-PT2H
ACTION:DISPLAY
DESCRIPTION:Huskies vs. Eagles
END:VALARM
END:VEVENT
BEGIN:VEVENT
UID:ahpd-70584467-20250921T120500@quickscores.com
DTSTAMP:20260423T234400Z
DTSTART;TZID=America/Chicago:20250921T120500
DURATION:PT1H5M0S
SUMMARY:Chargers vs. Eagles
DESCRIPTION:Boys 4th Grade - Arlington Heights Park District
LOCATION:Frontier Soccer Field #1 - 7v7
CATEGORIES:QuickScores, Soccer - Youth Game
TRANSP:OPAQUE
BEGIN:VALARM
TRIGGER:-PT2H
ACTION:DISPLAY
DESCRIPTION:Chargers vs. Eagles
END:VALARM
END:VEVENT
BEGIN:VEVENT
UID:ahpd-70584471-20250927T090000@quickscores.com
DTSTAMP:20260423T234400Z
DTSTART;TZID=America/Chicago:20250927T090000
DURATION:PT1H5M0S
SUMMARY:Eagles vs. Dragons
DESCRIPTION:Boys 4th Grade - Arlington Heights Park District
LOCATION:Dunton/D25 Soccer Field #1 - 5v5
CATEGORIES:QuickScores, Soccer - Youth Game
TRANSP:OPAQUE
BEGIN:VALARM
TRIGGER:-PT2H
ACTION:DISPLAY
DESCRIPTION:Eagles vs. Dragons
END:VALARM
END:VEVENT
BEGIN:VEVENT
UID:ahpd-70584476-20251004T111000@quickscores.com
DTSTAMP:20260423T234400Z
DTSTART;TZID=America/Chicago:20251004T111000
DURATION:PT1H5M0S
SUMMARY:Eagles vs. Hawks
DESCRIPTION:Boys 4th Grade - Arlington Heights Park District
LOCATION:Frontier Soccer Field #1 - 7v7
CATEGORIES:QuickScores, Soccer - Youth Game
TRANSP:OPAQUE
BEGIN:VALARM
TRIGGER:-PT2H
ACTION:DISPLAY
DESCRIPTION:Eagles vs. Hawks
END:VALARM
END:VEVENT
BEGIN:VEVENT
UID:ahpd-70584486-20251011T163500@quickscores.com
DTSTAMP:20260423T234400Z
DTSTART;TZID=America/Chicago:20251011T163500
DURATION:PT1H5M0S
SUMMARY:Eagles vs. Huskies
DESCRIPTION:JAMBOREE! --- Boys 4th Grade - Arlington Heights Park District
LOCATION:Patriots Soccer Field #1 - 7v7
CATEGORIES:QuickScores, Soccer - Youth Game
TRANSP:OPAQUE
BEGIN:VALARM
TRIGGER:-PT2H
ACTION:DISPLAY
DESCRIPTION:Eagles vs. Huskies
END:VALARM
END:VEVENT
BEGIN:VEVENT
UID:ahpd-70584490-20251018T100500@quickscores.com
DTSTAMP:20260423T234400Z
DTSTART;TZID=America/Chicago:20251018T100500
DURATION:PT1H5M0S
SUMMARY:Eagles vs. Chargers
DESCRIPTION:Boys 4th Grade - Arlington Heights Park District
LOCATION:Carousel Soccer Field #1 - 7v7
CATEGORIES:QuickScores, Soccer - Youth Game
TRANSP:OPAQUE
BEGIN:VALARM
TRIGGER:-PT2H
ACTION:DISPLAY
DESCRIPTION:Eagles vs. Chargers
END:VALARM
END:VEVENT
BEGIN:VEVENT
UID:ahpd-70584492-20251019T120500@quickscores.com
DTSTAMP:20260423T234400Z
DTSTART;TZID=America/Chicago:20251019T120500
DURATION:PT1H5M0S
SUMMARY:Hawks vs. Eagles
DESCRIPTION:Boys 4th Grade - Arlington Heights Park District
LOCATION:Frontier Soccer Field #1 - 7v7
CATEGORIES:QuickScores, Soccer - Youth Game
TRANSP:OPAQUE
BEGIN:VALARM
TRIGGER:-PT2H
ACTION:DISPLAY
DESCRIPTION:Hawks vs. Eagles
END:VALARM
END:VEVENT
END:VCALENDAR
