BEGIN:VCALENDAR
VERSION:2.0
PRODID:-//QuickScores.com//BQ Dynamic iCal Creator//EN
METHOD:PUBLISH
X-WR-CALNAME:Bombers - Friday Rec - Summer 2025
X-WR-CALDESC:QuickScores game calendar
X-PUBLISHED-TTL:PT24H
REFRESH-INTERVAL;VALUE=DURATION:PT24H
CALSCALE:GREGORIAN
BEGIN:VTIMEZONE
TZID:America/Chicago
X-LIC-LOCATION:America/Chicago
BEGIN:DAYLIGHT
TZNAME:CDT
TZOFFSETFROM:-0600
TZOFFSETTO:-0500
DTSTART:19700308T020000
RRULE:FREQ=YEARLY;BYMONTH=3;BYDAY=2SU
END:DAYLIGHT
BEGIN:STANDARD
TZNAME:CST
TZOFFSETFROM:-0500
TZOFFSETTO:-0600
DTSTART:19701101T020000
RRULE:FREQ=YEARLY;BYMONTH=11;BYDAY=1SU
END:STANDARD
END:VTIMEZONE
BEGIN:VEVENT
UID:ahpd-68772419-20250509T183000@quickscores.com
DTSTAMP:20260425T092900Z
DTSTART;TZID=America/Chicago:20250509T183000
DURATION:PT1H5M0S
SUMMARY:Bombers vs. Batzzers
DESCRIPTION:Friday Rec - Arlington Heights Park District
LOCATION:Melas #3
CATEGORIES:QuickScores, Softball - Adult Game
TRANSP:OPAQUE
BEGIN:VALARM
TRIGGER:-PT2H
ACTION:DISPLAY
DESCRIPTION:Bombers vs. Batzzers
END:VALARM
END:VEVENT
BEGIN:VEVENT
UID:ahpd-68772432-20250530T183000@quickscores.com
DTSTAMP:20260425T092900Z
DTSTART;TZID=America/Chicago:20250530T183000
DURATION:PT1H5M0S
SUMMARY:Bombers vs. Sons of Pitches
DESCRIPTION:Friday Rec - Arlington Heights Park District
LOCATION:Melas #4
CATEGORIES:QuickScores, Softball - Adult Game
TRANSP:OPAQUE
BEGIN:VALARM
TRIGGER:-PT2H
ACTION:DISPLAY
DESCRIPTION:Bombers vs. Sons of Pitches
END:VALARM
END:VEVENT
BEGIN:VEVENT
UID:ahpd-68772437-20250606T203000@quickscores.com
DTSTAMP:20260425T092900Z
DTSTART;TZID=America/Chicago:20250606T203000
DURATION:PT1H5M0S
SUMMARY:12 In Monsters vs. Bombers
DESCRIPTION:Friday Rec - Arlington Heights Park District
LOCATION:Melas #3
CATEGORIES:QuickScores, Softball - Adult Game
TRANSP:OPAQUE
BEGIN:VALARM
TRIGGER:-PT2H
ACTION:DISPLAY
DESCRIPTION:12 In Monsters vs. Bombers
END:VALARM
END:VEVENT
BEGIN:VEVENT
UID:ahpd-68772445-20250613T193500@quickscores.com
DTSTAMP:20260425T092900Z
DTSTART;TZID=America/Chicago:20250613T193500
DURATION:PT1H5M0S
SUMMARY:Bombers vs. Warrior Dudes
DESCRIPTION:Friday Rec - Arlington Heights Park District
LOCATION:Melas #3
CATEGORIES:QuickScores, Softball - Adult Game
TRANSP:OPAQUE
BEGIN:VALARM
TRIGGER:-PT2H
ACTION:DISPLAY
DESCRIPTION:Bombers vs. Warrior Dudes
END:VALARM
END:VEVENT
BEGIN:VEVENT
UID:ahpd-68772450-20250620T183000@quickscores.com
DTSTAMP:20260425T092900Z
DTSTART;TZID=America/Chicago:20250620T183000
DURATION:PT1H5M0S
SUMMARY:Crush Dingers vs. Bombers
DESCRIPTION:Friday Rec - Arlington Heights Park District
LOCATION:Melas #4
CATEGORIES:QuickScores, Softball - Adult Game
TRANSP:OPAQUE
BEGIN:VALARM
TRIGGER:-PT2H
ACTION:DISPLAY
DESCRIPTION:Crush Dingers vs. Bombers
END:VALARM
END:VEVENT
BEGIN:VEVENT
UID:ahpd-68772458-20250627T193500@quickscores.com
DTSTAMP:20260425T092900Z
DTSTART;TZID=America/Chicago:20250627T193500
DURATION:PT1H5M0S
SUMMARY:Bombers vs. BenBall
DESCRIPTION:Friday Rec - Arlington Heights Park District
LOCATION:Melas #4
CATEGORIES:QuickScores, Softball - Adult Game
TRANSP:OPAQUE
BEGIN:VALARM
TRIGGER:-PT2H
ACTION:DISPLAY
DESCRIPTION:Bombers vs. BenBall
END:VALARM
END:VEVENT
BEGIN:VEVENT
UID:ahpd-68772471-20250718T204000@quickscores.com
DTSTAMP:20260425T092900Z
DTSTART;TZID=America/Chicago:20250718T204000
DURATION:PT1H5M0S
SUMMARY:Bombers vs. Unburdened Bro's 2.0
DESCRIPTION:Friday Rec - Arlington Heights Park District
LOCATION:Melas #4
CATEGORIES:QuickScores, Softball - Adult Game
TRANSP:OPAQUE
BEGIN:VALARM
TRIGGER:-PT2H
ACTION:DISPLAY
DESCRIPTION:Bombers vs. Unburdened Bro's 2.0
END:VALARM
END:VEVENT
BEGIN:VEVENT
UID:ahpd-68772476-20250725T193500@quickscores.com
DTSTAMP:20260425T092900Z
DTSTART;TZID=America/Chicago:20250725T193500
DURATION:PT1H5M0S
SUMMARY:Big Dog Gotta Eat vs. Bombers
DESCRIPTION:Friday Rec - Arlington Heights Park District
LOCATION:Melas #4
CATEGORIES:QuickScores, Softball - Adult Game
TRANSP:OPAQUE
BEGIN:VALARM
TRIGGER:-PT2H
ACTION:DISPLAY
DESCRIPTION:Big Dog Gotta Eat vs. Bombers
END:VALARM
END:VEVENT
BEGIN:VEVENT
UID:ahpd-68772483-20250801T204000@quickscores.com
DTSTAMP:20260425T092900Z
DTSTART;TZID=America/Chicago:20250801T204000
DURATION:PT1H5M0S
SUMMARY:Booze Brothers vs. Bombers
DESCRIPTION:Friday Rec - Arlington Heights Park District
LOCATION:Melas #4
CATEGORIES:QuickScores, Softball - Adult Game
TRANSP:OPAQUE
BEGIN:VALARM
TRIGGER:-PT2H
ACTION:DISPLAY
DESCRIPTION:Booze Brothers vs. Bombers
END:VALARM
END:VEVENT
BEGIN:VEVENT
UID:ahpd-68772463-20250808T214500@quickscores.com
DTSTAMP:20260425T092900Z
DTSTART;TZID=America/Chicago:20250808T214500
DURATION:PT1H5M0S
SUMMARY:Marine Jets vs. Bombers
DESCRIPTION:RESCHEDULED GAME FROM 5/16 --- Friday Rec - Arlington Heights Park District
LOCATION:Melas #4
CATEGORIES:QuickScores, Softball - Adult Game
TRANSP:OPAQUE
BEGIN:VALARM
TRIGGER:-PT2H
ACTION:DISPLAY
DESCRIPTION:Marine Jets vs. Bombers
END:VALARM
END:VEVENT
END:VCALENDAR
