BEGIN:VCALENDAR
VERSION:2.0
PRODID:-//QuickScores.com//BQ Dynamic iCal Creator//EN
METHOD:PUBLISH
X-WR-CALNAME:BenBall - Friday Rec - Summer 2025
X-WR-CALDESC:QuickScores game calendar
X-PUBLISHED-TTL:PT24H
REFRESH-INTERVAL;VALUE=DURATION:PT24H
CALSCALE:GREGORIAN
BEGIN:VTIMEZONE
TZID:America/Chicago
X-LIC-LOCATION:America/Chicago
BEGIN:DAYLIGHT
TZNAME:CDT
TZOFFSETFROM:-0600
TZOFFSETTO:-0500
DTSTART:19700308T020000
RRULE:FREQ=YEARLY;BYMONTH=3;BYDAY=2SU
END:DAYLIGHT
BEGIN:STANDARD
TZNAME:CST
TZOFFSETFROM:-0500
TZOFFSETTO:-0600
DTSTART:19701101T020000
RRULE:FREQ=YEARLY;BYMONTH=11;BYDAY=1SU
END:STANDARD
END:VTIMEZONE
BEGIN:VEVENT
UID:ahpd-68772422-20250509T193500@quickscores.com
DTSTAMP:20260424T163900Z
DTSTART;TZID=America/Chicago:20250509T193500
DURATION:PT1H5M0S
SUMMARY:BenBall vs. Marine Jets
DESCRIPTION:Friday Rec - Arlington Heights Park District
LOCATION:Melas #4
CATEGORIES:QuickScores, Softball - Adult Game
TRANSP:OPAQUE
BEGIN:VALARM
TRIGGER:-PT2H
ACTION:DISPLAY
DESCRIPTION:BenBall vs. Marine Jets
END:VALARM
END:VEVENT
BEGIN:VEVENT
UID:ahpd-68772435-20250530T204000@quickscores.com
DTSTAMP:20260424T163900Z
DTSTART;TZID=America/Chicago:20250530T204000
DURATION:PT1H5M0S
SUMMARY:BenBall vs. Crush Dingers
DESCRIPTION:Friday Rec - Arlington Heights Park District
LOCATION:Melas #4
CATEGORIES:QuickScores, Softball - Adult Game
TRANSP:OPAQUE
BEGIN:VALARM
TRIGGER:-PT2H
ACTION:DISPLAY
DESCRIPTION:BenBall vs. Crush Dingers
END:VALARM
END:VEVENT
BEGIN:VEVENT
UID:ahpd-68772438-20250606T183000@quickscores.com
DTSTAMP:20260424T163900Z
DTSTART;TZID=America/Chicago:20250606T183000
DURATION:PT1H5M0S
SUMMARY:BenBall vs. Booze Brothers
DESCRIPTION:Friday Rec - Arlington Heights Park District
LOCATION:Melas #4
CATEGORIES:QuickScores, Softball - Adult Game
TRANSP:OPAQUE
BEGIN:VALARM
TRIGGER:-PT2H
ACTION:DISPLAY
DESCRIPTION:BenBall vs. Booze Brothers
END:VALARM
END:VEVENT
BEGIN:VEVENT
UID:ahpd-68772447-20250613T204000@quickscores.com
DTSTAMP:20260424T163900Z
DTSTART;TZID=America/Chicago:20250613T204000
DURATION:PT1H5M0S
SUMMARY:12 In Monsters vs. BenBall
DESCRIPTION:Friday Rec - Arlington Heights Park District
LOCATION:Melas #4
CATEGORIES:QuickScores, Softball - Adult Game
TRANSP:OPAQUE
BEGIN:VALARM
TRIGGER:-PT2H
ACTION:DISPLAY
DESCRIPTION:12 In Monsters vs. BenBall
END:VALARM
END:VEVENT
BEGIN:VEVENT
UID:ahpd-68772449-20250620T203000@quickscores.com
DTSTAMP:20260424T163900Z
DTSTART;TZID=America/Chicago:20250620T203000
DURATION:PT1H5M0S
SUMMARY:BenBall vs. Unburdened Bro's 2.0
DESCRIPTION:Friday Rec - Arlington Heights Park District
LOCATION:Melas #3
CATEGORIES:QuickScores, Softball - Adult Game
TRANSP:OPAQUE
BEGIN:VALARM
TRIGGER:-PT2H
ACTION:DISPLAY
DESCRIPTION:BenBall vs. Unburdened Bro's 2.0
END:VALARM
END:VEVENT
BEGIN:VEVENT
UID:ahpd-68772458-20250627T193500@quickscores.com
DTSTAMP:20260424T163900Z
DTSTART;TZID=America/Chicago:20250627T193500
DURATION:PT1H5M0S
SUMMARY:Bombers vs. BenBall
DESCRIPTION:Friday Rec - Arlington Heights Park District
LOCATION:Melas #4
CATEGORIES:QuickScores, Softball - Adult Game
TRANSP:OPAQUE
BEGIN:VALARM
TRIGGER:-PT2H
ACTION:DISPLAY
DESCRIPTION:Bombers vs. BenBall
END:VALARM
END:VEVENT
BEGIN:VEVENT
UID:ahpd-68772469-20250718T193500@quickscores.com
DTSTAMP:20260424T163900Z
DTSTART;TZID=America/Chicago:20250718T193500
DURATION:PT1H5M0S
SUMMARY:Batzzers vs. BenBall
DESCRIPTION:Friday Rec - Arlington Heights Park District
LOCATION:Melas #3
CATEGORIES:QuickScores, Softball - Adult Game
TRANSP:OPAQUE
BEGIN:VALARM
TRIGGER:-PT2H
ACTION:DISPLAY
DESCRIPTION:Batzzers vs. BenBall
END:VALARM
END:VEVENT
BEGIN:VEVENT
UID:ahpd-68772473-20250725T213500@quickscores.com
DTSTAMP:20260424T163900Z
DTSTART;TZID=America/Chicago:20250725T213500
DURATION:PT1H5M0S
SUMMARY:Warrior Dudes vs. BenBall
DESCRIPTION:Friday Rec - Arlington Heights Park District
LOCATION:Melas #3
CATEGORIES:QuickScores, Softball - Adult Game
TRANSP:OPAQUE
BEGIN:VALARM
TRIGGER:-PT2H
ACTION:DISPLAY
DESCRIPTION:Warrior Dudes vs. BenBall
END:VALARM
END:VEVENT
BEGIN:VEVENT
UID:ahpd-68772480-20250801T183000@quickscores.com
DTSTAMP:20260424T163900Z
DTSTART;TZID=America/Chicago:20250801T183000
DURATION:PT1H5M0S
SUMMARY:Sons of Pitches vs. BenBall
DESCRIPTION:Friday Rec - Arlington Heights Park District
LOCATION:Melas #4
CATEGORIES:QuickScores, Softball - Adult Game
TRANSP:OPAQUE
BEGIN:VALARM
TRIGGER:-PT2H
ACTION:DISPLAY
DESCRIPTION:Sons of Pitches vs. BenBall
END:VALARM
END:VEVENT
BEGIN:VEVENT
UID:ahpd-68772427-20250808T203000@quickscores.com
DTSTAMP:20260424T163900Z
DTSTART;TZID=America/Chicago:20250808T203000
DURATION:PT1H5M0S
SUMMARY:BenBall vs. Big Dog Gotta Eat
DESCRIPTION:RESCHEDULED GAME FROM 5/16 --- Friday Rec - Arlington Heights Park District
LOCATION:Melas #3
CATEGORIES:QuickScores, Softball - Adult Game
TRANSP:OPAQUE
BEGIN:VALARM
TRIGGER:-PT2H
ACTION:DISPLAY
DESCRIPTION:BenBall vs. Big Dog Gotta Eat
END:VALARM
END:VEVENT
END:VCALENDAR
