BEGIN:VCALENDAR
VERSION:2.0
PRODID:-//QuickScores.com//BQ Dynamic iCal Creator//EN
METHOD:PUBLISH
X-WR-CALNAME:2020 Softball - Spring 2020
X-WR-CALDESC:QuickScores game calendar
X-PUBLISHED-TTL:PT24H
REFRESH-INTERVAL;VALUE=DURATION:PT24H
CALSCALE:GREGORIAN
BEGIN:VTIMEZONE
TZID:America/New_York
X-LIC-LOCATION:America/New_York
BEGIN:DAYLIGHT
TZNAME:EDT
TZOFFSETFROM:-0500
TZOFFSETTO:-0400
DTSTART:19700308T020000
RRULE:FREQ=YEARLY;BYMONTH=3;BYDAY=2SU
END:DAYLIGHT
BEGIN:STANDARD
TZNAME:EST
TZOFFSETFROM:-0400
TZOFFSETTO:-0500
DTSTART:19701101T020000
RRULE:FREQ=YEARLY;BYMONTH=11;BYDAY=1SU
END:STANDARD
END:VTIMEZONE
BEGIN:VEVENT
UID:gnac-40263932-20200404@quickscores.com
DTSTAMP:20260421T005200Z
DTSTART;TZID=America/New_York:20200404
SUMMARY:Anna Maria vs. Johnson & Wales
DESCRIPTION:2020 JWU can share a bus w WLAX --- 2020 Softball - Great Northeast Athletic Conference
LOCATION:Paxton MA
CATEGORIES:QuickScores, Softball Game
TRANSP:OPAQUE
BEGIN:VALARM
TRIGGER:-PT2H
ACTION:DISPLAY
DESCRIPTION:Anna Maria vs. Johnson & Wales
END:VALARM
END:VEVENT
BEGIN:VEVENT
UID:gnac-40263903-20200404@quickscores.com
DTSTAMP:20260421T005200Z
DTSTART;TZID=America/New_York:20200404
SUMMARY:Saint Joseph CT vs. Lasell
DESCRIPTION:2020 LAS can share a bus w WLAX --- 2020 Softball - Great Northeast Athletic Conference
LOCATION:W. Hartford, CT
CATEGORIES:QuickScores, Softball Game
TRANSP:OPAQUE
BEGIN:VALARM
TRIGGER:-PT2H
ACTION:DISPLAY
DESCRIPTION:Saint Joseph CT vs. Lasell
END:VALARM
END:VEVENT
BEGIN:VEVENT
UID:gnac-40263916-20200404@quickscores.com
DTSTAMP:20260421T005200Z
DTSTART;TZID=America/New_York:20200404
SUMMARY:Simmons vs. Norwich
DESCRIPTION:2020 NOR can share a bus w WLAX --- 2020 Softball - Great Northeast Athletic Conference
LOCATION:Daly Field Brighton
CATEGORIES:QuickScores, Softball Game
TRANSP:OPAQUE
BEGIN:VALARM
TRIGGER:-PT2H
ACTION:DISPLAY
DESCRIPTION:Simmons vs. Norwich
END:VALARM
END:VEVENT
BEGIN:VEVENT
UID:gnac-40263912-20200404@quickscores.com
DTSTAMP:20260421T005200Z
DTSTART;TZID=America/New_York:20200404
SUMMARY:Suffolk vs. Emmanuel
DESCRIPTION:2020 Softball - Great Northeast Athletic Conference
LOCATION:East Boston Memorial Field
CATEGORIES:QuickScores, Softball Game
TRANSP:OPAQUE
BEGIN:VALARM
TRIGGER:-PT2H
ACTION:DISPLAY
DESCRIPTION:Suffolk vs. Emmanuel
END:VALARM
END:VEVENT
BEGIN:VEVENT
UID:gnac-40263914-20200404@quickscores.com
DTSTAMP:20260421T005200Z
DTSTART;TZID=America/New_York:20200404
SUMMARY:Rivier vs. Saint Joseph's ME
DESCRIPTION:2020 STJME can share a bus w WLAX --- 2020 Softball - Great Northeast Athletic Conference
LOCATION:Nashua, NH
CATEGORIES:QuickScores, Softball Game
TRANSP:OPAQUE
BEGIN:VALARM
TRIGGER:-PT2H
ACTION:DISPLAY
DESCRIPTION:Rivier vs. Saint Joseph's ME
END:VALARM
END:VEVENT
BEGIN:VEVENT
UID:gnac-40263944-20200404@quickscores.com
DTSTAMP:20260421T005200Z
DTSTART;TZID=America/New_York:20200404
SUMMARY:Albertus Magnus vs. Regis
DESCRIPTION:2020 Regis can share a bus w WLAX --- 2020 Softball - Great Northeast Athletic Conference
LOCATION:New Haven, CT
CATEGORIES:QuickScores, Softball Game
TRANSP:OPAQUE
BEGIN:VALARM
TRIGGER:-PT2H
ACTION:DISPLAY
DESCRIPTION:Albertus Magnus vs. Regis
END:VALARM
END:VEVENT
BEGIN:VEVENT
UID:gnac-40263910-20200405@quickscores.com
DTSTAMP:20260421T005200Z
DTSTART;TZID=America/New_York:20200405
SUMMARY:Saint Joseph CT vs. Albertus Magnus
DESCRIPTION:2020 Softball - Great Northeast Athletic Conference
LOCATION:W. Hartford, CT
CATEGORIES:QuickScores, Softball Game
TRANSP:OPAQUE
BEGIN:VALARM
TRIGGER:-PT2H
ACTION:DISPLAY
DESCRIPTION:Saint Joseph CT vs. Albertus Magnus
END:VALARM
END:VEVENT
BEGIN:VEVENT
UID:gnac-40263921-20200405@quickscores.com
DTSTAMP:20260421T005200Z
DTSTART;TZID=America/New_York:20200405
SUMMARY:Suffolk vs. Rivier
DESCRIPTION:2020 Softball - Great Northeast Athletic Conference
LOCATION:East Boston Memorial Field
CATEGORIES:QuickScores, Softball Game
TRANSP:OPAQUE
BEGIN:VALARM
TRIGGER:-PT2H
ACTION:DISPLAY
DESCRIPTION:Suffolk vs. Rivier
END:VALARM
END:VEVENT
BEGIN:VEVENT
UID:gnac-40263920-20200405@quickscores.com
DTSTAMP:20260421T005200Z
DTSTART;TZID=America/New_York:20200405
SUMMARY:Lasell vs. Johnson & Wales
DESCRIPTION:2020 Softball - Great Northeast Athletic Conference
LOCATION:Taylor Field at Lasell College
CATEGORIES:QuickScores, Softball Game
TRANSP:OPAQUE
BEGIN:VALARM
TRIGGER:-PT2H
ACTION:DISPLAY
DESCRIPTION:Lasell vs. Johnson & Wales
END:VALARM
END:VEVENT
BEGIN:VEVENT
UID:gnac-40263943-20200405@quickscores.com
DTSTAMP:20260421T005200Z
DTSTART;TZID=America/New_York:20200405
SUMMARY:Regis vs. Simmons
DESCRIPTION:2020 Softball - Great Northeast Athletic Conference
LOCATION:Regis Weston MA
CATEGORIES:QuickScores, Softball Game
TRANSP:OPAQUE
BEGIN:VALARM
TRIGGER:-PT2H
ACTION:DISPLAY
DESCRIPTION:Regis vs. Simmons
END:VALARM
END:VEVENT
BEGIN:VEVENT
UID:gnac-40263883-20200405@quickscores.com
DTSTAMP:20260421T005200Z
DTSTART;TZID=America/New_York:20200405
SUMMARY:Saint Joseph's ME vs. Norwich
DESCRIPTION:2020 Softball - Great Northeast Athletic Conference
LOCATION:Standish ME
CATEGORIES:QuickScores, Softball Game
TRANSP:OPAQUE
BEGIN:VALARM
TRIGGER:-PT2H
ACTION:DISPLAY
DESCRIPTION:Saint Joseph's ME vs. Norwich
END:VALARM
END:VEVENT
BEGIN:VEVENT
UID:gnac-40263911-20200405@quickscores.com
DTSTAMP:20260421T005200Z
DTSTART;TZID=America/New_York:20200405
SUMMARY:Emmanuel vs. Anna Maria
DESCRIPTION:2020 Softball - Great Northeast Athletic Conference
LOCATION:Roberto Clemente Field
CATEGORIES:QuickScores, Softball Game
TRANSP:OPAQUE
BEGIN:VALARM
TRIGGER:-PT2H
ACTION:DISPLAY
DESCRIPTION:Emmanuel vs. Anna Maria
END:VALARM
END:VEVENT
BEGIN:VEVENT
UID:gnac-40263915-20200409@quickscores.com
DTSTAMP:20260421T005200Z
DTSTART;TZID=America/New_York:20200409
SUMMARY:Saint Joseph's ME vs. Saint Joseph CT
DESCRIPTION:2020 Softball - Great Northeast Athletic Conference
LOCATION:Standish ME
CATEGORIES:QuickScores, Softball Game
TRANSP:OPAQUE
BEGIN:VALARM
TRIGGER:-PT2H
ACTION:DISPLAY
DESCRIPTION:Saint Joseph's ME vs. Saint Joseph CT
END:VALARM
END:VEVENT
BEGIN:VEVENT
UID:gnac-40263898-20200409@quickscores.com
DTSTAMP:20260421T005200Z
DTSTART;TZID=America/New_York:20200409
SUMMARY:Emmanuel vs. Johnson & Wales
DESCRIPTION:2020 Softball - Great Northeast Athletic Conference
LOCATION:Roberto Clemente Field
CATEGORIES:QuickScores, Softball Game
TRANSP:OPAQUE
BEGIN:VALARM
TRIGGER:-PT2H
ACTION:DISPLAY
DESCRIPTION:Emmanuel vs. Johnson & Wales
END:VALARM
END:VEVENT
BEGIN:VEVENT
UID:gnac-40263919-20200409@quickscores.com
DTSTAMP:20260421T005200Z
DTSTART;TZID=America/New_York:20200409
SUMMARY:Albertus Magnus vs. Anna Maria
DESCRIPTION:2020 Softball - Great Northeast Athletic Conference
LOCATION:New Haven, CT
CATEGORIES:QuickScores, Softball Game
TRANSP:OPAQUE
BEGIN:VALARM
TRIGGER:-PT2H
ACTION:DISPLAY
DESCRIPTION:Albertus Magnus vs. Anna Maria
END:VALARM
END:VEVENT
BEGIN:VEVENT
UID:gnac-40263927-20200409@quickscores.com
DTSTAMP:20260421T005200Z
DTSTART;TZID=America/New_York:20200409
SUMMARY:Simmons vs. Rivier
DESCRIPTION:2020 Softball - Great Northeast Athletic Conference
LOCATION:Daly Field Brighton
CATEGORIES:QuickScores, Softball Game
TRANSP:OPAQUE
BEGIN:VALARM
TRIGGER:-PT2H
ACTION:DISPLAY
DESCRIPTION:Simmons vs. Rivier
END:VALARM
END:VEVENT
BEGIN:VEVENT
UID:gnac-40263940-20200409@quickscores.com
DTSTAMP:20260421T005200Z
DTSTART;TZID=America/New_York:20200409
SUMMARY:Regis vs. Lasell
DESCRIPTION:2020 Softball - Great Northeast Athletic Conference
LOCATION:Regis Weston MA
CATEGORIES:QuickScores, Softball Game
TRANSP:OPAQUE
BEGIN:VALARM
TRIGGER:-PT2H
ACTION:DISPLAY
DESCRIPTION:Regis vs. Lasell
END:VALARM
END:VEVENT
BEGIN:VEVENT
UID:gnac-40263891-20200409@quickscores.com
DTSTAMP:20260421T005200Z
DTSTART;TZID=America/New_York:20200409
SUMMARY:Norwich vs. Suffolk
DESCRIPTION:2020 Softball - Great Northeast Athletic Conference
LOCATION:Northfield, VT
CATEGORIES:QuickScores, Softball Game
TRANSP:OPAQUE
BEGIN:VALARM
TRIGGER:-PT2H
ACTION:DISPLAY
DESCRIPTION:Norwich vs. Suffolk
END:VALARM
END:VEVENT
BEGIN:VEVENT
UID:gnac-40263907-20200411@quickscores.com
DTSTAMP:20260421T005200Z
DTSTART;TZID=America/New_York:20200411
SUMMARY:Rivier vs. Saint Joseph CT
DESCRIPTION:2020 USJ can share a bus w WLAX --- 2020 Softball - Great Northeast Athletic Conference
LOCATION:Nashua, NH
CATEGORIES:QuickScores, Softball Game
TRANSP:OPAQUE
BEGIN:VALARM
TRIGGER:-PT2H
ACTION:DISPLAY
DESCRIPTION:Rivier vs. Saint Joseph CT
END:VALARM
END:VEVENT
BEGIN:VEVENT
UID:gnac-40263917-20200411@quickscores.com
DTSTAMP:20260421T005200Z
DTSTART;TZID=America/New_York:20200411
SUMMARY:Simmons vs. Albertus Magnus
DESCRIPTION:2020 ALB can share a bus w WLAX --- 2020 Softball - Great Northeast Athletic Conference
LOCATION:Daly Field Brighton
CATEGORIES:QuickScores, Softball Game
TRANSP:OPAQUE
BEGIN:VALARM
TRIGGER:-PT2H
ACTION:DISPLAY
DESCRIPTION:Simmons vs. Albertus Magnus
END:VALARM
END:VEVENT
BEGIN:VEVENT
UID:gnac-40263926-20200411@quickscores.com
DTSTAMP:20260421T005200Z
DTSTART;TZID=America/New_York:20200411
SUMMARY:Johnson & Wales vs. Suffolk
DESCRIPTION:2020 Softball - Great Northeast Athletic Conference
LOCATION:Scotts Miracle Gro Athletic Complex
CATEGORIES:QuickScores, Softball Game
TRANSP:OPAQUE
BEGIN:VALARM
TRIGGER:-PT2H
ACTION:DISPLAY
DESCRIPTION:Johnson & Wales vs. Suffolk
END:VALARM
END:VEVENT
BEGIN:VEVENT
UID:gnac-40263909-20200411@quickscores.com
DTSTAMP:20260421T005200Z
DTSTART;TZID=America/New_York:20200411
SUMMARY:Norwich vs. Lasell
DESCRIPTION:2020 LAS can share a bus w WLAX --- 2020 Softball - Great Northeast Athletic Conference
LOCATION:Northfield, VT
CATEGORIES:QuickScores, Softball Game
TRANSP:OPAQUE
BEGIN:VALARM
TRIGGER:-PT2H
ACTION:DISPLAY
DESCRIPTION:Norwich vs. Lasell
END:VALARM
END:VEVENT
BEGIN:VEVENT
UID:gnac-40263888-20200411@quickscores.com
DTSTAMP:20260421T005200Z
DTSTART;TZID=America/New_York:20200411
SUMMARY:Anna Maria vs. Saint Joseph's ME
DESCRIPTION:2020 Softball - Great Northeast Athletic Conference
LOCATION:Paxton MA
CATEGORIES:QuickScores, Softball Game
TRANSP:OPAQUE
BEGIN:VALARM
TRIGGER:-PT2H
ACTION:DISPLAY
DESCRIPTION:Anna Maria vs. Saint Joseph's ME
END:VALARM
END:VEVENT
BEGIN:VEVENT
UID:gnac-40263946-20200411@quickscores.com
DTSTAMP:20260421T005200Z
DTSTART;TZID=America/New_York:20200411
SUMMARY:Emmanuel vs. Regis
DESCRIPTION:2020 Softball - Great Northeast Athletic Conference
LOCATION:Roberto Clemente Field
CATEGORIES:QuickScores, Softball Game
TRANSP:OPAQUE
BEGIN:VALARM
TRIGGER:-PT2H
ACTION:DISPLAY
DESCRIPTION:Emmanuel vs. Regis
END:VALARM
END:VEVENT
BEGIN:VEVENT
UID:gnac-40263890-20200418@quickscores.com
DTSTAMP:20260421T005200Z
DTSTART;TZID=America/New_York:20200418
SUMMARY:Lasell vs. Albertus Magnus
DESCRIPTION:2020 Albertus can share a bus with WLAX --- 2020 Softball - Great Northeast Athletic Conference
LOCATION:Taylor Field at Lasell College
CATEGORIES:QuickScores, Softball Game
TRANSP:OPAQUE
BEGIN:VALARM
TRIGGER:-PT2H
ACTION:DISPLAY
DESCRIPTION:Lasell vs. Albertus Magnus
END:VALARM
END:VEVENT
BEGIN:VEVENT
UID:gnac-40263892-20200418@quickscores.com
DTSTAMP:20260421T005200Z
DTSTART;TZID=America/New_York:20200418
SUMMARY:Saint Joseph's ME vs. Emmanuel
DESCRIPTION:2020 EMM can share a bus with WLAX --- 2020 Softball - Great Northeast Athletic Conference
LOCATION:Standish ME
CATEGORIES:QuickScores, Softball Game
TRANSP:OPAQUE
BEGIN:VALARM
TRIGGER:-PT2H
ACTION:DISPLAY
DESCRIPTION:Saint Joseph's ME vs. Emmanuel
END:VALARM
END:VEVENT
BEGIN:VEVENT
UID:gnac-40263918-20200418@quickscores.com
DTSTAMP:20260421T005200Z
DTSTART;TZID=America/New_York:20200418
SUMMARY:Saint Joseph CT vs. Simmons
DESCRIPTION:2020 SIM can share a bus w WLAX --- 2020 Softball - Great Northeast Athletic Conference
LOCATION:W. Hartford, CT
CATEGORIES:QuickScores, Softball Game
TRANSP:OPAQUE
BEGIN:VALARM
TRIGGER:-PT2H
ACTION:DISPLAY
DESCRIPTION:Saint Joseph CT vs. Simmons
END:VALARM
END:VEVENT
BEGIN:VEVENT
UID:gnac-40263904-20200418@quickscores.com
DTSTAMP:20260421T005200Z
DTSTART;TZID=America/New_York:20200418
SUMMARY:Anna Maria vs. Suffolk
DESCRIPTION:2020 Softball - Great Northeast Athletic Conference
LOCATION:Paxton MA
CATEGORIES:QuickScores, Softball Game
TRANSP:OPAQUE
BEGIN:VALARM
TRIGGER:-PT2H
ACTION:DISPLAY
DESCRIPTION:Anna Maria vs. Suffolk
END:VALARM
END:VEVENT
BEGIN:VEVENT
UID:gnac-40263893-20200418@quickscores.com
DTSTAMP:20260421T005200Z
DTSTART;TZID=America/New_York:20200418
SUMMARY:Norwich vs. Rivier
DESCRIPTION:2020 RIV can share a bus with WLAX. 2020 NOR Jr. Ring Day --- 2020 Softball - Great Northeast Athletic Conference
LOCATION:Northfield, VT
CATEGORIES:QuickScores, Softball Game
TRANSP:OPAQUE
BEGIN:VALARM
TRIGGER:-PT2H
ACTION:DISPLAY
DESCRIPTION:Norwich vs. Rivier
END:VALARM
END:VEVENT
BEGIN:VEVENT
UID:gnac-40263947-20200418@quickscores.com
DTSTAMP:20260421T005200Z
DTSTART;TZID=America/New_York:20200418
SUMMARY:Johnson & Wales vs. Regis
DESCRIPTION:2020 Regis can share a bus with WLAX --- 2020 Softball - Great Northeast Athletic Conference
LOCATION:Scotts Miracle Gro Athletic Complex
CATEGORIES:QuickScores, Softball Game
TRANSP:OPAQUE
BEGIN:VALARM
TRIGGER:-PT2H
ACTION:DISPLAY
DESCRIPTION:Johnson & Wales vs. Regis
END:VALARM
END:VEVENT
BEGIN:VEVENT
UID:gnac-40263924-20200419@quickscores.com
DTSTAMP:20260421T005200Z
DTSTART;TZID=America/New_York:20200419
SUMMARY:Lasell vs. Simmons
DESCRIPTION:2020 Softball - Great Northeast Athletic Conference
LOCATION:Taylor Field at Lasell College
CATEGORIES:QuickScores, Softball Game
TRANSP:OPAQUE
BEGIN:VALARM
TRIGGER:-PT2H
ACTION:DISPLAY
DESCRIPTION:Lasell vs. Simmons
END:VALARM
END:VEVENT
BEGIN:VEVENT
UID:gnac-40263887-20200419@quickscores.com
DTSTAMP:20260421T005200Z
DTSTART;TZID=America/New_York:20200419
SUMMARY:Emmanuel vs. Norwich
DESCRIPTION:2020 Softball - Great Northeast Athletic Conference
LOCATION:Roberto Clemente Field
CATEGORIES:QuickScores, Softball Game
TRANSP:OPAQUE
BEGIN:VALARM
TRIGGER:-PT2H
ACTION:DISPLAY
DESCRIPTION:Emmanuel vs. Norwich
END:VALARM
END:VEVENT
BEGIN:VEVENT
UID:gnac-40263925-20200419@quickscores.com
DTSTAMP:20260421T005200Z
DTSTART;TZID=America/New_York:20200419
SUMMARY:Rivier vs. Anna Maria
DESCRIPTION:2020 Softball - Great Northeast Athletic Conference
LOCATION:Nashua, NH
CATEGORIES:QuickScores, Softball Game
TRANSP:OPAQUE
BEGIN:VALARM
TRIGGER:-PT2H
ACTION:DISPLAY
DESCRIPTION:Rivier vs. Anna Maria
END:VALARM
END:VEVENT
BEGIN:VEVENT
UID:gnac-40263908-20200419@quickscores.com
DTSTAMP:20260421T005200Z
DTSTART;TZID=America/New_York:20200419
SUMMARY:Suffolk vs. Saint Joseph's ME
DESCRIPTION:2020 Softball - Great Northeast Athletic Conference
LOCATION:East Boston Memorial Field
CATEGORIES:QuickScores, Softball Game
TRANSP:OPAQUE
BEGIN:VALARM
TRIGGER:-PT2H
ACTION:DISPLAY
DESCRIPTION:Suffolk vs. Saint Joseph's ME
END:VALARM
END:VEVENT
BEGIN:VEVENT
UID:gnac-40263894-20200419@quickscores.com
DTSTAMP:20260421T005200Z
DTSTART;TZID=America/New_York:20200419
SUMMARY:Albertus Magnus vs. Johnson & Wales
DESCRIPTION:2020 Softball - Great Northeast Athletic Conference
LOCATION:New Haven, CT
CATEGORIES:QuickScores, Softball Game
TRANSP:OPAQUE
BEGIN:VALARM
TRIGGER:-PT2H
ACTION:DISPLAY
DESCRIPTION:Albertus Magnus vs. Johnson & Wales
END:VALARM
END:VEVENT
BEGIN:VEVENT
UID:gnac-40263945-20200419@quickscores.com
DTSTAMP:20260421T005200Z
DTSTART;TZID=America/New_York:20200419
SUMMARY:Saint Joseph CT vs. Regis
DESCRIPTION:2020 Softball - Great Northeast Athletic Conference
LOCATION:W. Hartford, CT
CATEGORIES:QuickScores, Softball Game
TRANSP:OPAQUE
BEGIN:VALARM
TRIGGER:-PT2H
ACTION:DISPLAY
DESCRIPTION:Saint Joseph CT vs. Regis
END:VALARM
END:VEVENT
BEGIN:VEVENT
UID:gnac-40263895-20200424@quickscores.com
DTSTAMP:20260421T005200Z
DTSTART;TZID=America/New_York:20200424
SUMMARY:Anna Maria vs. Lasell
DESCRIPTION:2020 Softball - Great Northeast Athletic Conference
LOCATION:Paxton MA
CATEGORIES:QuickScores, Softball Game
TRANSP:OPAQUE
BEGIN:VALARM
TRIGGER:-PT2H
ACTION:DISPLAY
DESCRIPTION:Anna Maria vs. Lasell
END:VALARM
END:VEVENT
BEGIN:VEVENT
UID:gnac-40263923-20200424@quickscores.com
DTSTAMP:20260421T005200Z
DTSTART;TZID=America/New_York:20200424
SUMMARY:Albertus Magnus vs. Suffolk
DESCRIPTION:2020 Softball - Great Northeast Athletic Conference
LOCATION:New Haven, CT
CATEGORIES:QuickScores, Softball Game
TRANSP:OPAQUE
BEGIN:VALARM
TRIGGER:-PT2H
ACTION:DISPLAY
DESCRIPTION:Albertus Magnus vs. Suffolk
END:VALARM
END:VEVENT
BEGIN:VEVENT
UID:gnac-40263902-20200424@quickscores.com
DTSTAMP:20260421T005200Z
DTSTART;TZID=America/New_York:20200424
SUMMARY:Rivier vs. Emmanuel
DESCRIPTION:2020 Softball - Great Northeast Athletic Conference
LOCATION:Nashua, NH
CATEGORIES:QuickScores, Softball Game
TRANSP:OPAQUE
BEGIN:VALARM
TRIGGER:-PT2H
ACTION:DISPLAY
DESCRIPTION:Rivier vs. Emmanuel
END:VALARM
END:VEVENT
BEGIN:VEVENT
UID:gnac-40263922-20200424@quickscores.com
DTSTAMP:20260421T005200Z
DTSTART;TZID=America/New_York:20200424
SUMMARY:Simmons vs. Saint Joseph's ME
DESCRIPTION:2020 Softball - Great Northeast Athletic Conference
LOCATION:Daly Field Brighton
CATEGORIES:QuickScores, Softball Game
TRANSP:OPAQUE
BEGIN:VALARM
TRIGGER:-PT2H
ACTION:DISPLAY
DESCRIPTION:Simmons vs. Saint Joseph's ME
END:VALARM
END:VEVENT
BEGIN:VEVENT
UID:gnac-40263941-20200424@quickscores.com
DTSTAMP:20260421T005200Z
DTSTART;TZID=America/New_York:20200424
SUMMARY:Regis vs. Norwich
DESCRIPTION:2020 Softball - Great Northeast Athletic Conference
LOCATION:Regis Weston MA
CATEGORIES:QuickScores, Softball Game
TRANSP:OPAQUE
BEGIN:VALARM
TRIGGER:-PT2H
ACTION:DISPLAY
DESCRIPTION:Regis vs. Norwich
END:VALARM
END:VEVENT
BEGIN:VEVENT
UID:gnac-40263905-20200424@quickscores.com
DTSTAMP:20260421T005200Z
DTSTART;TZID=America/New_York:20200424
SUMMARY:Johnson & Wales vs. Saint Joseph CT
DESCRIPTION:2020 Softball - Great Northeast Athletic Conference
LOCATION:Scotts Miracle Gro Athletic Complex
CATEGORIES:QuickScores, Softball Game
TRANSP:OPAQUE
BEGIN:VALARM
TRIGGER:-PT2H
ACTION:DISPLAY
DESCRIPTION:Johnson & Wales vs. Saint Joseph CT
END:VALARM
END:VEVENT
BEGIN:VEVENT
UID:gnac-40263906-20200425@quickscores.com
DTSTAMP:20260421T005200Z
DTSTART;TZID=America/New_York:20200425
SUMMARY:Saint Joseph's ME vs. Albertus Magnus
DESCRIPTION:2020 Softball - Great Northeast Athletic Conference
LOCATION:Standish ME
CATEGORIES:QuickScores, Softball Game
TRANSP:OPAQUE
BEGIN:VALARM
TRIGGER:-PT2H
ACTION:DISPLAY
DESCRIPTION:Saint Joseph's ME vs. Albertus Magnus
END:VALARM
END:VEVENT
BEGIN:VEVENT
UID:gnac-40263889-20200425@quickscores.com
DTSTAMP:20260421T005200Z
DTSTART;TZID=America/New_York:20200425
SUMMARY:Johnson & Wales vs. Simmons
DESCRIPTION:2020 Softball - Great Northeast Athletic Conference
LOCATION:Scotts Miracle Gro Athletic Complex
CATEGORIES:QuickScores, Softball Game
TRANSP:OPAQUE
BEGIN:VALARM
TRIGGER:-PT2H
ACTION:DISPLAY
DESCRIPTION:Johnson & Wales vs. Simmons
END:VALARM
END:VEVENT
BEGIN:VEVENT
UID:gnac-40263896-20200425@quickscores.com
DTSTAMP:20260421T005200Z
DTSTART;TZID=America/New_York:20200425
SUMMARY:Suffolk vs. Saint Joseph CT
DESCRIPTION:2020 Softball - Great Northeast Athletic Conference
LOCATION:East Boston Memorial Field
CATEGORIES:QuickScores, Softball Game
TRANSP:OPAQUE
BEGIN:VALARM
TRIGGER:-PT2H
ACTION:DISPLAY
DESCRIPTION:Suffolk vs. Saint Joseph CT
END:VALARM
END:VEVENT
BEGIN:VEVENT
UID:gnac-40263901-20200425@quickscores.com
DTSTAMP:20260421T005200Z
DTSTART;TZID=America/New_York:20200425
SUMMARY:Lasell vs. Emmanuel
DESCRIPTION:2020 Softball - Great Northeast Athletic Conference
LOCATION:Taylor Field at Lasell College
CATEGORIES:QuickScores, Softball Game
TRANSP:OPAQUE
BEGIN:VALARM
TRIGGER:-PT2H
ACTION:DISPLAY
DESCRIPTION:Lasell vs. Emmanuel
END:VALARM
END:VEVENT
BEGIN:VEVENT
UID:gnac-40263942-20200425@quickscores.com
DTSTAMP:20260421T005200Z
DTSTART;TZID=America/New_York:20200425
SUMMARY:Regis vs. Rivier
DESCRIPTION:2020 Softball - Great Northeast Athletic Conference
LOCATION:Regis Weston MA
CATEGORIES:QuickScores, Softball Game
TRANSP:OPAQUE
BEGIN:VALARM
TRIGGER:-PT2H
ACTION:DISPLAY
DESCRIPTION:Regis vs. Rivier
END:VALARM
END:VEVENT
BEGIN:VEVENT
UID:gnac-40263897-20200425@quickscores.com
DTSTAMP:20260421T005200Z
DTSTART;TZID=America/New_York:20200425
SUMMARY:Norwich vs. Anna Maria
DESCRIPTION:2020 Softball - Great Northeast Athletic Conference
LOCATION:Northfield, VT
CATEGORIES:QuickScores, Softball Game
TRANSP:OPAQUE
BEGIN:VALARM
TRIGGER:-PT2H
ACTION:DISPLAY
DESCRIPTION:Norwich vs. Anna Maria
END:VALARM
END:VEVENT
BEGIN:VEVENT
UID:gnac-40263885-20200430@quickscores.com
DTSTAMP:20260421T005200Z
DTSTART;TZID=America/New_York:20200430
SUMMARY:#1 North seed vs. Winner of Game 1
DESCRIPTION:2020 Softball - Great Northeast Athletic Conference
LOCATION:Field of # 1 North Seed
CATEGORIES:QuickScores, Softball Game
TRANSP:OPAQUE
BEGIN:VALARM
TRIGGER:-PT2H
ACTION:DISPLAY
DESCRIPTION:#1 North seed vs. Winner of Game 1
END:VALARM
END:VEVENT
BEGIN:VEVENT
UID:gnac-40263886-20200430@quickscores.com
DTSTAMP:20260421T005200Z
DTSTART;TZID=America/New_York:20200430
SUMMARY:#1 South Seed vs. Winner of Game 2
DESCRIPTION:2020 Softball - Great Northeast Athletic Conference
LOCATION:Field of # 1 South Seed
CATEGORIES:QuickScores, Softball Game
TRANSP:OPAQUE
BEGIN:VALARM
TRIGGER:-PT2H
ACTION:DISPLAY
DESCRIPTION:#1 South Seed vs. Winner of Game 2
END:VALARM
END:VEVENT
BEGIN:VEVENT
UID:gnac-40263881-20200430@quickscores.com
DTSTAMP:20260421T005200Z
DTSTART;TZID=America/New_York:20200430
SUMMARY:#2 North Seed vs. Winner #4 @ #3 North Seed
DESCRIPTION:2020 Softball - Great Northeast Athletic Conference
LOCATION:Field of # 1 North Seed
CATEGORIES:QuickScores, Softball Game
TRANSP:OPAQUE
BEGIN:VALARM
TRIGGER:-PT2H
ACTION:DISPLAY
DESCRIPTION:#2 North Seed vs. Winner #4 @ #3 North Seed
END:VALARM
END:VEVENT
BEGIN:VEVENT
UID:gnac-40263930-20200430@quickscores.com
DTSTAMP:20260421T005200Z
DTSTART;TZID=America/New_York:20200430
SUMMARY:#2 South Seed vs. Winner #4 @ #3 South seed
DESCRIPTION:2020 Softball - Great Northeast Athletic Conference
LOCATION:Field of # 1 South Seed
CATEGORIES:QuickScores, Softball Game
TRANSP:OPAQUE
BEGIN:VALARM
TRIGGER:-PT2H
ACTION:DISPLAY
DESCRIPTION:#2 South Seed vs. Winner #4 @ #3 South seed
END:VALARM
END:VEVENT
BEGIN:VEVENT
UID:gnac-40263899-20200502@quickscores.com
DTSTAMP:20260421T005200Z
DTSTART;TZID=America/New_York:20200502
SUMMARY:Winner of Game 5 vs. Winner of Game 6
DESCRIPTION:2020 Softball - Great Northeast Athletic Conference
LOCATION:Field of # 1 North Seed
CATEGORIES:QuickScores, Softball Game
TRANSP:OPAQUE
BEGIN:VALARM
TRIGGER:-PT2H
ACTION:DISPLAY
DESCRIPTION:Winner of Game 5 vs. Winner of Game 6
END:VALARM
END:VEVENT
BEGIN:VEVENT
UID:gnac-40263900-20200502@quickscores.com
DTSTAMP:20260421T005200Z
DTSTART;TZID=America/New_York:20200502
SUMMARY:Loser of Game 4 vs. Loser of Game 1
DESCRIPTION:2020 Softball - Great Northeast Athletic Conference
LOCATION:Field of # 1 North Seed
CATEGORIES:QuickScores, Softball Game
TRANSP:OPAQUE
BEGIN:VALARM
TRIGGER:-PT2H
ACTION:DISPLAY
DESCRIPTION:Loser of Game 4 vs. Loser of Game 1
END:VALARM
END:VEVENT
BEGIN:VEVENT
UID:gnac-40263913-20200502@quickscores.com
DTSTAMP:20260421T005200Z
DTSTART;TZID=America/New_York:20200502
SUMMARY:Loser of Game 3 vs. Loser of Game 2
DESCRIPTION:2020 Softball - Great Northeast Athletic Conference
LOCATION:Field of # 1 North Seed
CATEGORIES:QuickScores, Softball Game
TRANSP:OPAQUE
BEGIN:VALARM
TRIGGER:-PT2H
ACTION:DISPLAY
DESCRIPTION:Loser of Game 3 vs. Loser of Game 2
END:VALARM
END:VEVENT
BEGIN:VEVENT
UID:gnac-40263928-20200502@quickscores.com
DTSTAMP:20260421T005200Z
DTSTART;TZID=America/New_York:20200502
SUMMARY:Winner of Game 3 vs. Winner of Game 4
DESCRIPTION:2020 Softball - Great Northeast Athletic Conference
LOCATION:Field of # 1 North Seed
CATEGORIES:QuickScores, Softball Game
TRANSP:OPAQUE
BEGIN:VALARM
TRIGGER:-PT2H
ACTION:DISPLAY
DESCRIPTION:Winner of Game 3 vs. Winner of Game 4
END:VALARM
END:VEVENT
BEGIN:VEVENT
UID:gnac-40263882-20200503@quickscores.com
DTSTAMP:20260421T005200Z
DTSTART;TZID=America/New_York:20200503
SUMMARY:Loser of Game 7 vs. Winner of Game 8
DESCRIPTION:2020 Softball - Great Northeast Athletic Conference
LOCATION:Field of # 1 North Seed
CATEGORIES:QuickScores, Softball Game
TRANSP:OPAQUE
BEGIN:VALARM
TRIGGER:-PT2H
ACTION:DISPLAY
DESCRIPTION:Loser of Game 7 vs. Winner of Game 8
END:VALARM
END:VEVENT
BEGIN:VEVENT
UID:gnac-40263884-20200503@quickscores.com
DTSTAMP:20260421T005200Z
DTSTART;TZID=America/New_York:20200503
SUMMARY:Winner of Game 7 vs. Winner of Game 9
DESCRIPTION:2020 Softball - Great Northeast Athletic Conference
LOCATION:Field of # 1 North Seed
CATEGORIES:QuickScores, Softball Game
TRANSP:OPAQUE
BEGIN:VALARM
TRIGGER:-PT2H
ACTION:DISPLAY
DESCRIPTION:Winner of Game 7 vs. Winner of Game 9
END:VALARM
END:VEVENT
BEGIN:VEVENT
UID:gnac-40263931-20200503@quickscores.com
DTSTAMP:20260421T005200Z
DTSTART;TZID=America/New_York:20200503
SUMMARY:Winner of Game 10 vs. Loser of Game 10
DESCRIPTION:2020 Softball - Great Northeast Athletic Conference
LOCATION:Field of # 1 North Seed
CATEGORIES:QuickScores, Softball Game
TRANSP:OPAQUE
BEGIN:VALARM
TRIGGER:-PT2H
ACTION:DISPLAY
DESCRIPTION:Winner of Game 10 vs. Loser of Game 10
END:VALARM
END:VEVENT
END:VCALENDAR
