BEGIN:VCALENDAR
VERSION:2.0
PRODID:-//QuickScores.com//BQ Dynamic iCal Creator//EN
METHOD:PUBLISH
X-WR-CALNAME:2019 Field Hockey - Fall 2019
X-WR-CALDESC:QuickScores game calendar
X-PUBLISHED-TTL:PT24H
REFRESH-INTERVAL;VALUE=DURATION:PT24H
CALSCALE:GREGORIAN
BEGIN:VTIMEZONE
TZID:America/New_York
X-LIC-LOCATION:America/New_York
BEGIN:DAYLIGHT
TZNAME:EDT
TZOFFSETFROM:-0500
TZOFFSETTO:-0400
DTSTART:19700308T020000
RRULE:FREQ=YEARLY;BYMONTH=3;BYDAY=2SU
END:DAYLIGHT
BEGIN:STANDARD
TZNAME:EST
TZOFFSETFROM:-0400
TZOFFSETTO:-0500
DTSTART:19701101T020000
RRULE:FREQ=YEARLY;BYMONTH=11;BYDAY=1SU
END:STANDARD
END:VTIMEZONE
BEGIN:VEVENT
UID:gnac-39724514-20190914@quickscores.com
DTSTAMP:20260420T152100Z
DTSTART;TZID=America/New_York:20190914
SUMMARY:Albertus Magnus vs. Lasell
DESCRIPTION:2019 Lasell can share a bus with WVB --- 2019 Field Hockey - Great Northeast Athletic Conference
LOCATION:New Haven, CT
CATEGORIES:QuickScores, Field Hockey Game
TRANSP:OPAQUE
BEGIN:VALARM
TRIGGER:-PT2H
ACTION:DISPLAY
DESCRIPTION:Albertus Magnus vs. Lasell
END:VALARM
END:VEVENT
BEGIN:VEVENT
UID:gnac-39724542-20190914@quickscores.com
DTSTAMP:20260420T152100Z
DTSTART;TZID=America/New_York:20190914
SUMMARY:Rivier vs. Colby Sawyer
DESCRIPTION:2019 Field Hockey - Great Northeast Athletic Conference
LOCATION:Nashua, NH
CATEGORIES:QuickScores, Field Hockey Game
TRANSP:OPAQUE
BEGIN:VALARM
TRIGGER:-PT2H
ACTION:DISPLAY
DESCRIPTION:Rivier vs. Colby Sawyer
END:VALARM
END:VEVENT
BEGIN:VEVENT
UID:gnac-39724499-20190914@quickscores.com
DTSTAMP:20260420T152100Z
DTSTART;TZID=America/New_York:20190914
SUMMARY:Simmons vs. Anna Maria
DESCRIPTION:2019 Field Hockey - Great Northeast Athletic Conference
LOCATION:Daly Field Brighton
CATEGORIES:QuickScores, Field Hockey Game
TRANSP:OPAQUE
BEGIN:VALARM
TRIGGER:-PT2H
ACTION:DISPLAY
DESCRIPTION:Simmons vs. Anna Maria
END:VALARM
END:VEVENT
BEGIN:VEVENT
UID:gnac-39724531-20190914@quickscores.com
DTSTAMP:20260420T152100Z
DTSTART;TZID=America/New_York:20190914
SUMMARY:Saint Joseph's ME vs. Regis
DESCRIPTION:2019 Field Hockey - Great Northeast Athletic Conference
LOCATION:Standish ME
CATEGORIES:QuickScores, Field Hockey Game
TRANSP:OPAQUE
BEGIN:VALARM
TRIGGER:-PT2H
ACTION:DISPLAY
DESCRIPTION:Saint Joseph's ME vs. Regis
END:VALARM
END:VEVENT
BEGIN:VEVENT
UID:gnac-39724518-20190921@quickscores.com
DTSTAMP:20260420T152100Z
DTSTART;TZID=America/New_York:20190921
SUMMARY:Anna Maria vs. Johnson and Wales
DESCRIPTION:2019 Field Hockey - Great Northeast Athletic Conference
LOCATION:Paxton MA
CATEGORIES:QuickScores, Field Hockey Game
TRANSP:OPAQUE
BEGIN:VALARM
TRIGGER:-PT2H
ACTION:DISPLAY
DESCRIPTION:Anna Maria vs. Johnson and Wales
END:VALARM
END:VEVENT
BEGIN:VEVENT
UID:gnac-39724516-20190921@quickscores.com
DTSTAMP:20260420T152100Z
DTSTART;TZID=America/New_York:20190921
SUMMARY:Rivier vs. Simmons
DESCRIPTION:2019 Field Hockey - Great Northeast Athletic Conference
LOCATION:Nashua, NH
CATEGORIES:QuickScores, Field Hockey Game
TRANSP:OPAQUE
BEGIN:VALARM
TRIGGER:-PT2H
ACTION:DISPLAY
DESCRIPTION:Rivier vs. Simmons
END:VALARM
END:VEVENT
BEGIN:VEVENT
UID:gnac-39724536-20190921@quickscores.com
DTSTAMP:20260420T152100Z
DTSTART;TZID=America/New_York:20190921
SUMMARY:Colby Sawyer vs. Lasell
DESCRIPTION:2019 Field Hockey - Great Northeast Athletic Conference
LOCATION:New London NH
CATEGORIES:QuickScores, Field Hockey Game
TRANSP:OPAQUE
BEGIN:VALARM
TRIGGER:-PT2H
ACTION:DISPLAY
DESCRIPTION:Colby Sawyer vs. Lasell
END:VALARM
END:VEVENT
BEGIN:VEVENT
UID:gnac-39724539-20190921@quickscores.com
DTSTAMP:20260420T152100Z
DTSTART;TZID=America/New_York:20190921
SUMMARY:Saint Joseph's ME vs. Albertus Magnus
DESCRIPTION:2019 ALB can share a bus with MSOC --- 2019 Field Hockey - Great Northeast Athletic Conference
LOCATION:Standish ME
CATEGORIES:QuickScores, Field Hockey Game
TRANSP:OPAQUE
BEGIN:VALARM
TRIGGER:-PT2H
ACTION:DISPLAY
DESCRIPTION:Saint Joseph's ME vs. Albertus Magnus
END:VALARM
END:VEVENT
BEGIN:VEVENT
UID:gnac-39724505-20190928@quickscores.com
DTSTAMP:20260420T152100Z
DTSTART;TZID=America/New_York:20190928
SUMMARY:Regis vs. Simmons
DESCRIPTION:2019 Regis Homecoming and Parents Weekend --- 2019 Field Hockey - Great Northeast Athletic Conference
LOCATION:Regis Weston MA
CATEGORIES:QuickScores, Field Hockey Game
TRANSP:OPAQUE
BEGIN:VALARM
TRIGGER:-PT2H
ACTION:DISPLAY
DESCRIPTION:Regis vs. Simmons
END:VALARM
END:VEVENT
BEGIN:VEVENT
UID:gnac-39724533-20190928@quickscores.com
DTSTAMP:20260420T152100Z
DTSTART;TZID=America/New_York:20190928
SUMMARY:Johnson and Wales vs. Colby Sawyer
DESCRIPTION:2019 Field Hockey - Great Northeast Athletic Conference
LOCATION:Scotts Miracle Gro Athletic Complex
CATEGORIES:QuickScores, Field Hockey Game
TRANSP:OPAQUE
BEGIN:VALARM
TRIGGER:-PT2H
ACTION:DISPLAY
DESCRIPTION:Johnson and Wales vs. Colby Sawyer
END:VALARM
END:VEVENT
BEGIN:VEVENT
UID:gnac-39724496-20190928@quickscores.com
DTSTAMP:20260420T152100Z
DTSTART;TZID=America/New_York:20190928
SUMMARY:Lasell vs. Anna Maria
DESCRIPTION:2019 DH AMC can share a bus w WS --- 2019 Field Hockey - Great Northeast Athletic Conference
LOCATION:Lasell Newton
CATEGORIES:QuickScores, Field Hockey Game
TRANSP:OPAQUE
BEGIN:VALARM
TRIGGER:-PT2H
ACTION:DISPLAY
DESCRIPTION:Lasell vs. Anna Maria
END:VALARM
END:VEVENT
BEGIN:VEVENT
UID:gnac-39724498-20190928@quickscores.com
DTSTAMP:20260420T152100Z
DTSTART;TZID=America/New_York:20190928
SUMMARY:Rivier vs. Albertus Magnus
DESCRIPTION:2019 ALB can share a bus with WSOC --- 2019 Field Hockey - Great Northeast Athletic Conference
LOCATION:Nashua, NH
CATEGORIES:QuickScores, Field Hockey Game
TRANSP:OPAQUE
BEGIN:VALARM
TRIGGER:-PT2H
ACTION:DISPLAY
DESCRIPTION:Rivier vs. Albertus Magnus
END:VALARM
END:VEVENT
BEGIN:VEVENT
UID:gnac-39724517-20191005@quickscores.com
DTSTAMP:20260420T152100Z
DTSTART;TZID=America/New_York:20191005
SUMMARY:Anna Maria vs. Regis
DESCRIPTION:2019 Regis can share a bus with Men's Soccer --- 2019 Field Hockey - Great Northeast Athletic Conference
LOCATION:Paxton MA
CATEGORIES:QuickScores, Field Hockey Game
TRANSP:OPAQUE
BEGIN:VALARM
TRIGGER:-PT2H
ACTION:DISPLAY
DESCRIPTION:Anna Maria vs. Regis
END:VALARM
END:VEVENT
BEGIN:VEVENT
UID:gnac-39724494-20191005@quickscores.com
DTSTAMP:20260420T152100Z
DTSTART;TZID=America/New_York:20191005
SUMMARY:Simmons vs. Saint Joseph's ME
DESCRIPTION:2019 Field Hockey - Great Northeast Athletic Conference
LOCATION:Daly Field Brighton
CATEGORIES:QuickScores, Field Hockey Game
TRANSP:OPAQUE
BEGIN:VALARM
TRIGGER:-PT2H
ACTION:DISPLAY
DESCRIPTION:Simmons vs. Saint Joseph's ME
END:VALARM
END:VEVENT
BEGIN:VEVENT
UID:gnac-39724500-20191005@quickscores.com
DTSTAMP:20260420T152100Z
DTSTART;TZID=America/New_York:20191005
SUMMARY:Johnson and Wales vs. Lasell
DESCRIPTION:2019 Field Hockey - Great Northeast Athletic Conference
LOCATION:Scotts Miracle Gro Athletic Complex
CATEGORIES:QuickScores, Field Hockey Game
TRANSP:OPAQUE
BEGIN:VALARM
TRIGGER:-PT2H
ACTION:DISPLAY
DESCRIPTION:Johnson and Wales vs. Lasell
END:VALARM
END:VEVENT
BEGIN:VEVENT
UID:gnac-39724540-20191005@quickscores.com
DTSTAMP:20260420T152100Z
DTSTART;TZID=America/New_York:20191005
SUMMARY:Colby Sawyer vs. Albertus Magnus
DESCRIPTION:2019 ALB can share a bus with WTennis --- 2019 Field Hockey - Great Northeast Athletic Conference
LOCATION:New London NH
CATEGORIES:QuickScores, Field Hockey Game
TRANSP:OPAQUE
BEGIN:VALARM
TRIGGER:-PT2H
ACTION:DISPLAY
DESCRIPTION:Colby Sawyer vs. Albertus Magnus
END:VALARM
END:VEVENT
BEGIN:VEVENT
UID:gnac-39724520-20191012@quickscores.com
DTSTAMP:20260420T152100Z
DTSTART;TZID=America/New_York:20191012
SUMMARY:Saint Joseph's ME vs. Rivier
DESCRIPTION:2019 RIV Can share a bus w WS --- 2019 Field Hockey - Great Northeast Athletic Conference
LOCATION:Standish ME
CATEGORIES:QuickScores, Field Hockey Game
TRANSP:OPAQUE
BEGIN:VALARM
TRIGGER:-PT2H
ACTION:DISPLAY
DESCRIPTION:Saint Joseph's ME vs. Rivier
END:VALARM
END:VEVENT
BEGIN:VEVENT
UID:gnac-39724508-20191012@quickscores.com
DTSTAMP:20260420T152100Z
DTSTART;TZID=America/New_York:20191012
SUMMARY:Simmons vs. Johnson and Wales
DESCRIPTION:2019 Field Hockey - Great Northeast Athletic Conference
LOCATION:Daly Field Brighton
CATEGORIES:QuickScores, Field Hockey Game
TRANSP:OPAQUE
BEGIN:VALARM
TRIGGER:-PT2H
ACTION:DISPLAY
DESCRIPTION:Simmons vs. Johnson and Wales
END:VALARM
END:VEVENT
BEGIN:VEVENT
UID:gnac-39724501-20191012@quickscores.com
DTSTAMP:20260420T152100Z
DTSTART;TZID=America/New_York:20191012
SUMMARY:Lasell vs. Regis
DESCRIPTION:2019 Field Hockey - Great Northeast Athletic Conference
LOCATION:Lasell Newton
CATEGORIES:QuickScores, Field Hockey Game
TRANSP:OPAQUE
BEGIN:VALARM
TRIGGER:-PT2H
ACTION:DISPLAY
DESCRIPTION:Lasell vs. Regis
END:VALARM
END:VEVENT
BEGIN:VEVENT
UID:gnac-39724504-20191012@quickscores.com
DTSTAMP:20260420T152100Z
DTSTART;TZID=America/New_York:20191012
SUMMARY:Albertus Magnus vs. Anna Maria
DESCRIPTION:2019 Field Hockey - Great Northeast Athletic Conference
LOCATION:New Haven, CT
CATEGORIES:QuickScores, Field Hockey Game
TRANSP:OPAQUE
BEGIN:VALARM
TRIGGER:-PT2H
ACTION:DISPLAY
DESCRIPTION:Albertus Magnus vs. Anna Maria
END:VALARM
END:VEVENT
BEGIN:VEVENT
UID:gnac-39724503-20191019@quickscores.com
DTSTAMP:20260420T152100Z
DTSTART;TZID=America/New_York:20191019
SUMMARY:Lasell vs. Saint Joseph's ME
DESCRIPTION:2019 Field Hockey - Great Northeast Athletic Conference
LOCATION:Lasell Newton
CATEGORIES:QuickScores, Field Hockey Game
TRANSP:OPAQUE
BEGIN:VALARM
TRIGGER:-PT2H
ACTION:DISPLAY
DESCRIPTION:Lasell vs. Saint Joseph's ME
END:VALARM
END:VEVENT
BEGIN:VEVENT
UID:gnac-39724502-20191019@quickscores.com
DTSTAMP:20260420T152100Z
DTSTART;TZID=America/New_York:20191019
SUMMARY:Johnson and Wales vs. Rivier
DESCRIPTION:2019 RIV can share a bus with WS --- 2019 Field Hockey - Great Northeast Athletic Conference
LOCATION:Scotts Miracle Gro Athletic Complex
CATEGORIES:QuickScores, Field Hockey Game
TRANSP:OPAQUE
BEGIN:VALARM
TRIGGER:-PT2H
ACTION:DISPLAY
DESCRIPTION:Johnson and Wales vs. Rivier
END:VALARM
END:VEVENT
BEGIN:VEVENT
UID:gnac-39724519-20191019@quickscores.com
DTSTAMP:20260420T152100Z
DTSTART;TZID=America/New_York:20191019
SUMMARY:Albertus Magnus vs. Simmons
DESCRIPTION:2019 Albertus Fall Festival --- 2019 Field Hockey - Great Northeast Athletic Conference
LOCATION:New Haven, CT
CATEGORIES:QuickScores, Field Hockey Game
TRANSP:OPAQUE
BEGIN:VALARM
TRIGGER:-PT2H
ACTION:DISPLAY
DESCRIPTION:Albertus Magnus vs. Simmons
END:VALARM
END:VEVENT
BEGIN:VEVENT
UID:gnac-39724547-20191019@quickscores.com
DTSTAMP:20260420T152100Z
DTSTART;TZID=America/New_York:20191019
SUMMARY:Regis vs. Colby Sawyer
DESCRIPTION:2019 CS can share a bus w WSOC playing at EMM --- 2019 Field Hockey - Great Northeast Athletic Conference
LOCATION:Regis Weston MA
CATEGORIES:QuickScores, Field Hockey Game
TRANSP:OPAQUE
BEGIN:VALARM
TRIGGER:-PT2H
ACTION:DISPLAY
DESCRIPTION:Regis vs. Colby Sawyer
END:VALARM
END:VEVENT
BEGIN:VEVENT
UID:gnac-39724506-20191023@quickscores.com
DTSTAMP:20260420T152100Z
DTSTART;TZID=America/New_York:20191023
SUMMARY:Anna Maria vs. Saint Joseph's ME
DESCRIPTION:2019 Field Hockey - Great Northeast Athletic Conference
LOCATION:Paxton MA
CATEGORIES:QuickScores, Field Hockey Game
TRANSP:OPAQUE
BEGIN:VALARM
TRIGGER:-PT2H
ACTION:DISPLAY
DESCRIPTION:Anna Maria vs. Saint Joseph's ME
END:VALARM
END:VEVENT
BEGIN:VEVENT
UID:gnac-39724541-20191023@quickscores.com
DTSTAMP:20260420T152100Z
DTSTART;TZID=America/New_York:20191023
SUMMARY:Albertus Magnus vs. Johnson and Wales
DESCRIPTION:2019 Field Hockey - Great Northeast Athletic Conference
LOCATION:New Haven, CT
CATEGORIES:QuickScores, Field Hockey Game
TRANSP:OPAQUE
BEGIN:VALARM
TRIGGER:-PT2H
ACTION:DISPLAY
DESCRIPTION:Albertus Magnus vs. Johnson and Wales
END:VALARM
END:VEVENT
BEGIN:VEVENT
UID:gnac-39724497-20191023@quickscores.com
DTSTAMP:20260420T152100Z
DTSTART;TZID=America/New_York:20191023
SUMMARY:Regis vs. Rivier
DESCRIPTION:2019 Field Hockey - Great Northeast Athletic Conference
LOCATION:Regis Weston MA
CATEGORIES:QuickScores, Field Hockey Game
TRANSP:OPAQUE
BEGIN:VALARM
TRIGGER:-PT2H
ACTION:DISPLAY
DESCRIPTION:Regis vs. Rivier
END:VALARM
END:VEVENT
BEGIN:VEVENT
UID:gnac-39724546-20191023@quickscores.com
DTSTAMP:20260420T152100Z
DTSTART;TZID=America/New_York:20191023
SUMMARY:Simmons vs. Colby Sawyer
DESCRIPTION:2019 CS can share a bus with WSOC playing at Suffolk --- 2019 Field Hockey - Great Northeast Athletic Conference
LOCATION:Daly Field Brighton
CATEGORIES:QuickScores, Field Hockey Game
TRANSP:OPAQUE
BEGIN:VALARM
TRIGGER:-PT2H
ACTION:DISPLAY
DESCRIPTION:Simmons vs. Colby Sawyer
END:VALARM
END:VEVENT
BEGIN:VEVENT
UID:gnac-39724515-20191026@quickscores.com
DTSTAMP:20260420T152100Z
DTSTART;TZID=America/New_York:20191026
SUMMARY:Saint Joseph's ME vs. Johnson and Wales
DESCRIPTION:2019 Field Hockey - Great Northeast Athletic Conference
LOCATION:Standish ME
CATEGORIES:QuickScores, Field Hockey Game
TRANSP:OPAQUE
BEGIN:VALARM
TRIGGER:-PT2H
ACTION:DISPLAY
DESCRIPTION:Saint Joseph's ME vs. Johnson and Wales
END:VALARM
END:VEVENT
BEGIN:VEVENT
UID:gnac-39724507-20191026@quickscores.com
DTSTAMP:20260420T152100Z
DTSTART;TZID=America/New_York:20191026
SUMMARY:Rivier vs. Lasell
DESCRIPTION:2019 LAS could share a bus w MS or WS --- 2019 Field Hockey - Great Northeast Athletic Conference
LOCATION:Nashua, NH
CATEGORIES:QuickScores, Field Hockey Game
TRANSP:OPAQUE
BEGIN:VALARM
TRIGGER:-PT2H
ACTION:DISPLAY
DESCRIPTION:Rivier vs. Lasell
END:VALARM
END:VEVENT
BEGIN:VEVENT
UID:gnac-39724532-20191026@quickscores.com
DTSTAMP:20260420T152100Z
DTSTART;TZID=America/New_York:20191026
SUMMARY:Regis vs. Albertus Magnus
DESCRIPTION:2019 Field Hockey - Great Northeast Athletic Conference
LOCATION:Regis Weston MA
CATEGORIES:QuickScores, Field Hockey Game
TRANSP:OPAQUE
BEGIN:VALARM
TRIGGER:-PT2H
ACTION:DISPLAY
DESCRIPTION:Regis vs. Albertus Magnus
END:VALARM
END:VEVENT
BEGIN:VEVENT
UID:gnac-39724538-20191026@quickscores.com
DTSTAMP:20260420T152100Z
DTSTART;TZID=America/New_York:20191026
SUMMARY:Colby Sawyer vs. Anna Maria
DESCRIPTION:2019 Anna Maria can share a bus with WVB --- 2019 Field Hockey - Great Northeast Athletic Conference
LOCATION:New London NH
CATEGORIES:QuickScores, Field Hockey Game
TRANSP:OPAQUE
BEGIN:VALARM
TRIGGER:-PT2H
ACTION:DISPLAY
DESCRIPTION:Colby Sawyer vs. Anna Maria
END:VALARM
END:VEVENT
BEGIN:VEVENT
UID:gnac-39724510-20191030@quickscores.com
DTSTAMP:20260420T152100Z
DTSTART;TZID=America/New_York:20191030
SUMMARY:Lasell vs. Simmons
DESCRIPTION:2019 Field Hockey - Great Northeast Athletic Conference
LOCATION:Lasell Newton
CATEGORIES:QuickScores, Field Hockey Game
TRANSP:OPAQUE
BEGIN:VALARM
TRIGGER:-PT2H
ACTION:DISPLAY
DESCRIPTION:Lasell vs. Simmons
END:VALARM
END:VEVENT
BEGIN:VEVENT
UID:gnac-39724513-20191030@quickscores.com
DTSTAMP:20260420T152100Z
DTSTART;TZID=America/New_York:20191030
SUMMARY:Johnson and Wales vs. Regis
DESCRIPTION:2019 Field Hockey - Great Northeast Athletic Conference
LOCATION:Scotts Miracle Gro Athletic Complex
CATEGORIES:QuickScores, Field Hockey Game
TRANSP:OPAQUE
BEGIN:VALARM
TRIGGER:-PT2H
ACTION:DISPLAY
DESCRIPTION:Johnson and Wales vs. Regis
END:VALARM
END:VEVENT
BEGIN:VEVENT
UID:gnac-39724511-20191030@quickscores.com
DTSTAMP:20260420T152100Z
DTSTART;TZID=America/New_York:20191030
SUMMARY:Anna Maria vs. Rivier
DESCRIPTION:2019 Field Hockey - Great Northeast Athletic Conference
LOCATION:Paxton MA
CATEGORIES:QuickScores, Field Hockey Game
TRANSP:OPAQUE
BEGIN:VALARM
TRIGGER:-PT2H
ACTION:DISPLAY
DESCRIPTION:Anna Maria vs. Rivier
END:VALARM
END:VEVENT
BEGIN:VEVENT
UID:gnac-39724545-20191030@quickscores.com
DTSTAMP:20260420T152100Z
DTSTART;TZID=America/New_York:20191030
SUMMARY:Colby Sawyer vs. Saint Joseph's ME
DESCRIPTION:2019 Field Hockey - Great Northeast Athletic Conference
LOCATION:New London NH
CATEGORIES:QuickScores, Field Hockey Game
TRANSP:OPAQUE
BEGIN:VALARM
TRIGGER:-PT2H
ACTION:DISPLAY
DESCRIPTION:Colby Sawyer vs. Saint Joseph's ME
END:VALARM
END:VEVENT
BEGIN:VEVENT
UID:gnac-39724523-20191102@quickscores.com
DTSTAMP:20260420T152100Z
DTSTART;TZID=America/New_York:20191102
SUMMARY:#4 Seed vs. #5 Seed
DESCRIPTION:2019 Field Hockey - Great Northeast Athletic Conference
LOCATION:Field of #4 seed
CATEGORIES:QuickScores, Field Hockey Game
TRANSP:OPAQUE
BEGIN:VALARM
TRIGGER:-PT2H
ACTION:DISPLAY
DESCRIPTION:#4 Seed vs. #5 Seed
END:VALARM
END:VEVENT
BEGIN:VEVENT
UID:gnac-39724525-20191102@quickscores.com
DTSTAMP:20260420T152100Z
DTSTART;TZID=America/New_York:20191102
SUMMARY:#3 Seed vs. #6 Seed
DESCRIPTION:2019 Field Hockey - Great Northeast Athletic Conference
LOCATION:Field of #3 seed
CATEGORIES:QuickScores, Field Hockey Game
TRANSP:OPAQUE
BEGIN:VALARM
TRIGGER:-PT2H
ACTION:DISPLAY
DESCRIPTION:#3 Seed vs. #6 Seed
END:VALARM
END:VEVENT
BEGIN:VEVENT
UID:gnac-39724526-20191106@quickscores.com
DTSTAMP:20260420T152100Z
DTSTART;TZID=America/New_York:20191106
SUMMARY:#1 Seed vs. Winner of Game 1
DESCRIPTION:2019 Field Hockey - Great Northeast Athletic Conference
LOCATION:Field of #1 seed
CATEGORIES:QuickScores, Field Hockey Game
TRANSP:OPAQUE
BEGIN:VALARM
TRIGGER:-PT2H
ACTION:DISPLAY
DESCRIPTION:#1 Seed vs. Winner of Game 1
END:VALARM
END:VEVENT
BEGIN:VEVENT
UID:gnac-39724527-20191106@quickscores.com
DTSTAMP:20260420T152100Z
DTSTART;TZID=America/New_York:20191106
SUMMARY:#2 Seed vs. Winner of Game 2
DESCRIPTION:2019 Field Hockey - Great Northeast Athletic Conference
LOCATION:Field of #2 seed
CATEGORIES:QuickScores, Field Hockey Game
TRANSP:OPAQUE
BEGIN:VALARM
TRIGGER:-PT2H
ACTION:DISPLAY
DESCRIPTION:#2 Seed vs. Winner of Game 2
END:VALARM
END:VEVENT
BEGIN:VEVENT
UID:gnac-39724528-20191109@quickscores.com
DTSTAMP:20260420T152100Z
DTSTART;TZID=America/New_York:20191109
SUMMARY:Winner of Game 3 vs. Winner of Game 4
DESCRIPTION:2019 Field Hockey - Great Northeast Athletic Conference
LOCATION:Hosted by highest remaining seed
CATEGORIES:QuickScores, Field Hockey Game
TRANSP:OPAQUE
BEGIN:VALARM
TRIGGER:-PT2H
ACTION:DISPLAY
DESCRIPTION:Winner of Game 3 vs. Winner of Game 4
END:VALARM
END:VEVENT
END:VCALENDAR
