BEGIN:VCALENDAR
VERSION:2.0
PRODID:-//QuickScores.com//BQ Dynamic iCal Creator//EN
METHOD:PUBLISH
X-WR-CALNAME:Junior Varsity (3rd & 4th Grade) - FALL 2018
X-WR-CALDESC:QuickScores game calendar
X-PUBLISHED-TTL:PT24H
REFRESH-INTERVAL;VALUE=DURATION:PT24H
CALSCALE:GREGORIAN
BEGIN:VTIMEZONE
TZID:America/New_York
X-LIC-LOCATION:America/New_York
BEGIN:DAYLIGHT
TZNAME:EDT
TZOFFSETFROM:-0500
TZOFFSETTO:-0400
DTSTART:19700308T020000
RRULE:FREQ=YEARLY;BYMONTH=3;BYDAY=2SU
END:DAYLIGHT
BEGIN:STANDARD
TZNAME:EST
TZOFFSETFROM:-0400
TZOFFSETTO:-0500
DTSTART:19701101T020000
RRULE:FREQ=YEARLY;BYMONTH=11;BYDAY=1SU
END:STANDARD
END:VTIMEZONE
BEGIN:VEVENT
UID:bcparks-39203814-20181006T110000@quickscores.com
DTSTAMP:20260422T230200Z
DTSTART;TZID=America/New_York:20181006T110000
DURATION:PT1H0M0S
SUMMARY:WEST MONARCHS vs. WEST SHOCK
DESCRIPTION:PPD --- Junior Varsity (3rd & 4th Grade) - Brunswick County Parks & Recreation
LOCATION:SHALLOTTE PARK VARSITY #2
CATEGORIES:QuickScores, Soccer - Youth Game
TRANSP:OPAQUE
BEGIN:VALARM
TRIGGER:-PT2H
ACTION:DISPLAY
DESCRIPTION:WEST MONARCHS vs. WEST SHOCK
END:VALARM
END:VEVENT
BEGIN:VEVENT
UID:bcparks-39203817-20181006T110000@quickscores.com
DTSTAMP:20260422T230200Z
DTSTART;TZID=America/New_York:20181006T110000
DURATION:PT1H0M0S
SUMMARY:NORTH DRAGONS vs. NORTH COWBOYS
DESCRIPTION:Junior Varsity (3rd & 4th Grade) - Brunswick County Parks & Recreation
LOCATION:NORTHWEST PARK
CATEGORIES:QuickScores, Soccer - Youth Game
TRANSP:OPAQUE
BEGIN:VALARM
TRIGGER:-PT2H
ACTION:DISPLAY
DESCRIPTION:NORTH DRAGONS vs. NORTH COWBOYS
END:VALARM
END:VEVENT
BEGIN:VEVENT
UID:bcparks-39203815-20181006T110000@quickscores.com
DTSTAMP:20260422T230200Z
DTSTART;TZID=America/New_York:20181006T110000
DURATION:PT1H0M0S
SUMMARY:SOUTH SILVERBACKS vs. SOUTH STARS
DESCRIPTION:Junior Varsity (3rd & 4th Grade) - Brunswick County Parks & Recreation
LOCATION:SMITHVILLE PARK J.V. #1
CATEGORIES:QuickScores, Soccer - Youth Game
TRANSP:OPAQUE
BEGIN:VALARM
TRIGGER:-PT2H
ACTION:DISPLAY
DESCRIPTION:SOUTH SILVERBACKS vs. SOUTH STARS
END:VALARM
END:VEVENT
BEGIN:VEVENT
UID:bcparks-39203819-20181013T110000@quickscores.com
DTSTAMP:20260422T230200Z
DTSTART;TZID=America/New_York:20181013T110000
DURATION:PT1H0M0S
SUMMARY:NORTH ARMADA vs. SOUTH SILVERBACKS
DESCRIPTION:Junior Varsity (3rd & 4th Grade) - Brunswick County Parks & Recreation
LOCATION:NORTHWEST PARK
CATEGORIES:QuickScores, Soccer - Youth Game
TRANSP:OPAQUE
BEGIN:VALARM
TRIGGER:-PT2H
ACTION:DISPLAY
DESCRIPTION:NORTH ARMADA vs. SOUTH SILVERBACKS
END:VALARM
END:VEVENT
BEGIN:VEVENT
UID:bcparks-39203820-20181013T110000@quickscores.com
DTSTAMP:20260422T230200Z
DTSTART;TZID=America/New_York:20181013T110000
DURATION:PT1H0M0S
SUMMARY:WEST SHOCK vs. NORTH COWBOYS
DESCRIPTION:Junior Varsity (3rd & 4th Grade) - Brunswick County Parks & Recreation
LOCATION:SMITHVILLE PARK J.V. #1
CATEGORIES:QuickScores, Soccer - Youth Game
TRANSP:OPAQUE
BEGIN:VALARM
TRIGGER:-PT2H
ACTION:DISPLAY
DESCRIPTION:WEST SHOCK vs. NORTH COWBOYS
END:VALARM
END:VEVENT
BEGIN:VEVENT
UID:bcparks-39203822-20181013T121500@quickscores.com
DTSTAMP:20260422T230200Z
DTSTART;TZID=America/New_York:20181013T121500
DURATION:PT1H0M0S
SUMMARY:NORTH DRAGONS vs. WEST MONARCHS
DESCRIPTION:Junior Varsity (3rd & 4th Grade) - Brunswick County Parks & Recreation
LOCATION:SMITHVILLE PARK J.V. #1
CATEGORIES:QuickScores, Soccer - Youth Game
TRANSP:OPAQUE
BEGIN:VALARM
TRIGGER:-PT2H
ACTION:DISPLAY
DESCRIPTION:NORTH DRAGONS vs. WEST MONARCHS
END:VALARM
END:VEVENT
BEGIN:VEVENT
UID:bcparks-39203821-20181013T121500@quickscores.com
DTSTAMP:20260422T230200Z
DTSTART;TZID=America/New_York:20181013T121500
DURATION:PT1H0M0S
SUMMARY:SOUTH STARS vs. NORTH ARMADA
DESCRIPTION:Junior Varsity (3rd & 4th Grade) - Brunswick County Parks & Recreation
LOCATION:NORTHWEST PARK
CATEGORIES:QuickScores, Soccer - Youth Game
TRANSP:OPAQUE
BEGIN:VALARM
TRIGGER:-PT2H
ACTION:DISPLAY
DESCRIPTION:SOUTH STARS vs. NORTH ARMADA
END:VALARM
END:VEVENT
BEGIN:VEVENT
UID:bcparks-39203824-20181020T110000@quickscores.com
DTSTAMP:20260422T230200Z
DTSTART;TZID=America/New_York:20181020T110000
DURATION:PT1H0M0S
SUMMARY:WEST MONARCHS vs. SOUTH STARS
DESCRIPTION:Junior Varsity (3rd & 4th Grade) - Brunswick County Parks & Recreation
LOCATION:SHALLOTTE PARK VARSITY #2
CATEGORIES:QuickScores, Soccer - Youth Game
TRANSP:OPAQUE
BEGIN:VALARM
TRIGGER:-PT2H
ACTION:DISPLAY
DESCRIPTION:WEST MONARCHS vs. SOUTH STARS
END:VALARM
END:VEVENT
BEGIN:VEVENT
UID:bcparks-39203827-20181020T110000@quickscores.com
DTSTAMP:20260422T230200Z
DTSTART;TZID=America/New_York:20181020T110000
DURATION:PT1H0M0S
SUMMARY:NORTH COWBOYS vs. NORTH ARMADA
DESCRIPTION:Junior Varsity (3rd & 4th Grade) - Brunswick County Parks & Recreation
LOCATION:NORTHWEST PARK
CATEGORIES:QuickScores, Soccer - Youth Game
TRANSP:OPAQUE
BEGIN:VALARM
TRIGGER:-PT2H
ACTION:DISPLAY
DESCRIPTION:NORTH COWBOYS vs. NORTH ARMADA
END:VALARM
END:VEVENT
BEGIN:VEVENT
UID:bcparks-39203826-20181020T110000@quickscores.com
DTSTAMP:20260422T230200Z
DTSTART;TZID=America/New_York:20181020T110000
DURATION:PT1H0M0S
SUMMARY:SOUTH SILVERBACKS vs. NORTH DRAGONS
DESCRIPTION:Junior Varsity (3rd & 4th Grade) - Brunswick County Parks & Recreation
LOCATION:SMITHVILLE PARK J.V. #1
CATEGORIES:QuickScores, Soccer - Youth Game
TRANSP:OPAQUE
BEGIN:VALARM
TRIGGER:-PT2H
ACTION:DISPLAY
DESCRIPTION:SOUTH SILVERBACKS vs. NORTH DRAGONS
END:VALARM
END:VEVENT
BEGIN:VEVENT
UID:bcparks-39203832-20181027T110000@quickscores.com
DTSTAMP:20260422T230200Z
DTSTART;TZID=America/New_York:20181027T110000
DURATION:PT1H0M0S
SUMMARY:NORTH ARMADA vs. NORTH DRAGONS
DESCRIPTION:Junior Varsity (3rd & 4th Grade) - Brunswick County Parks & Recreation
LOCATION:NORTHWEST PARK J.V. #1
CATEGORIES:QuickScores, Soccer - Youth Game
TRANSP:OPAQUE
BEGIN:VALARM
TRIGGER:-PT2H
ACTION:DISPLAY
DESCRIPTION:NORTH ARMADA vs. NORTH DRAGONS
END:VALARM
END:VEVENT
BEGIN:VEVENT
UID:bcparks-39203828-20181027T110000@quickscores.com
DTSTAMP:20260422T230200Z
DTSTART;TZID=America/New_York:20181027T110000
DURATION:PT1H0M0S
SUMMARY:NORTH COWBOYS vs. WEST MONARCHS
DESCRIPTION:Junior Varsity (3rd & 4th Grade) - Brunswick County Parks & Recreation
LOCATION:SMITHVILLE PARK
CATEGORIES:QuickScores, Soccer - Youth Game
TRANSP:OPAQUE
BEGIN:VALARM
TRIGGER:-PT2H
ACTION:DISPLAY
DESCRIPTION:NORTH COWBOYS vs. WEST MONARCHS
END:VALARM
END:VEVENT
BEGIN:VEVENT
UID:bcparks-39203829-20181027T110000@quickscores.com
DTSTAMP:20260422T230200Z
DTSTART;TZID=America/New_York:20181027T110000
DURATION:PT1H0M0S
SUMMARY:SOUTH STARS vs. WEST SHOCK
DESCRIPTION:Junior Varsity (3rd & 4th Grade) - Brunswick County Parks & Recreation
LOCATION:SHALLOTTE PARK VARSITY #2
CATEGORIES:QuickScores, Soccer - Youth Game
TRANSP:OPAQUE
BEGIN:VALARM
TRIGGER:-PT2H
ACTION:DISPLAY
DESCRIPTION:SOUTH STARS vs. WEST SHOCK
END:VALARM
END:VEVENT
BEGIN:VEVENT
UID:bcparks-39203830-20181027T121500@quickscores.com
DTSTAMP:20260422T230200Z
DTSTART;TZID=America/New_York:20181027T121500
DURATION:PT1H0M0S
SUMMARY:WEST SHOCK vs. SOUTH SILVERBACKS
DESCRIPTION:Junior Varsity (3rd & 4th Grade) - Brunswick County Parks & Recreation
LOCATION:SHALLOTTE PARK J.V. #1
CATEGORIES:QuickScores, Soccer - Youth Game
TRANSP:OPAQUE
BEGIN:VALARM
TRIGGER:-PT2H
ACTION:DISPLAY
DESCRIPTION:WEST SHOCK vs. SOUTH SILVERBACKS
END:VALARM
END:VEVENT
BEGIN:VEVENT
UID:bcparks-39203833-20181103T110000@quickscores.com
DTSTAMP:20260422T230200Z
DTSTART;TZID=America/New_York:20181103T110000
DURATION:PT1H0M0S
SUMMARY:NORTH DRAGONS vs. WEST SHOCK
DESCRIPTION:Junior Varsity (3rd & 4th Grade) - Brunswick County Parks & Recreation
LOCATION:SMITHVILLE PARK J.V. #1
CATEGORIES:QuickScores, Soccer - Youth Game
TRANSP:OPAQUE
BEGIN:VALARM
TRIGGER:-PT2H
ACTION:DISPLAY
DESCRIPTION:NORTH DRAGONS vs. WEST SHOCK
END:VALARM
END:VEVENT
BEGIN:VEVENT
UID:bcparks-39203836-20181103T110000@quickscores.com
DTSTAMP:20260422T230200Z
DTSTART;TZID=America/New_York:20181103T110000
DURATION:PT1H0M0S
SUMMARY:SOUTH SILVERBACKS vs. NORTH COWBOYS
DESCRIPTION:Junior Varsity (3rd & 4th Grade) - Brunswick County Parks & Recreation
LOCATION:SHALLOTTE PARK J.V. #1
CATEGORIES:QuickScores, Soccer - Youth Game
TRANSP:OPAQUE
BEGIN:VALARM
TRIGGER:-PT2H
ACTION:DISPLAY
DESCRIPTION:SOUTH SILVERBACKS vs. NORTH COWBOYS
END:VALARM
END:VEVENT
BEGIN:VEVENT
UID:bcparks-39203835-20181103T121500@quickscores.com
DTSTAMP:20260422T230200Z
DTSTART;TZID=America/New_York:20181103T121500
DURATION:PT1H0M0S
SUMMARY:NORTH ARMADA vs. WEST MONARCHS
DESCRIPTION:Junior Varsity (3rd & 4th Grade) - Brunswick County Parks & Recreation
LOCATION:SHALLOTTE PARK J.V. #1
CATEGORIES:QuickScores, Soccer - Youth Game
TRANSP:OPAQUE
BEGIN:VALARM
TRIGGER:-PT2H
ACTION:DISPLAY
DESCRIPTION:NORTH ARMADA vs. WEST MONARCHS
END:VALARM
END:VEVENT
BEGIN:VEVENT
UID:bcparks-39203839-20181110T110000@quickscores.com
DTSTAMP:20260422T230200Z
DTSTART;TZID=America/New_York:20181110T110000
DURATION:PT1H0M0S
SUMMARY:WEST SHOCK vs. NORTH ARMADA
DESCRIPTION:Junior Varsity (3rd & 4th Grade) - Brunswick County Parks & Recreation
LOCATION:SMITHVILLE PARK J.V. #1
CATEGORIES:QuickScores, Soccer - Youth Game
TRANSP:OPAQUE
BEGIN:VALARM
TRIGGER:-PT2H
ACTION:DISPLAY
DESCRIPTION:WEST SHOCK vs. NORTH ARMADA
END:VALARM
END:VEVENT
BEGIN:VEVENT
UID:bcparks-39203838-20181110T110000@quickscores.com
DTSTAMP:20260422T230200Z
DTSTART;TZID=America/New_York:20181110T110000
DURATION:PT1H0M0S
SUMMARY:SOUTH STARS vs. NORTH DRAGONS
DESCRIPTION:Junior Varsity (3rd & 4th Grade) - Brunswick County Parks & Recreation
LOCATION:SMITHVILLE PARK
CATEGORIES:QuickScores, Soccer - Youth Game
TRANSP:OPAQUE
BEGIN:VALARM
TRIGGER:-PT2H
ACTION:DISPLAY
DESCRIPTION:SOUTH STARS vs. NORTH DRAGONS
END:VALARM
END:VEVENT
BEGIN:VEVENT
UID:bcparks-39203841-20181110T110000@quickscores.com
DTSTAMP:20260422T230200Z
DTSTART;TZID=America/New_York:20181110T110000
DURATION:PT1H0M0S
SUMMARY:WEST MONARCHS vs. SOUTH SILVERBACKS
DESCRIPTION:Junior Varsity (3rd & 4th Grade) - Brunswick County Parks & Recreation
LOCATION:SHALLOTTE PARK J.V. #1
CATEGORIES:QuickScores, Soccer - Youth Game
TRANSP:OPAQUE
BEGIN:VALARM
TRIGGER:-PT2H
ACTION:DISPLAY
DESCRIPTION:WEST MONARCHS vs. SOUTH SILVERBACKS
END:VALARM
END:VEVENT
BEGIN:VEVENT
UID:bcparks-39203840-20181110T121500@quickscores.com
DTSTAMP:20260422T230200Z
DTSTART;TZID=America/New_York:20181110T121500
DURATION:PT1H0M0S
SUMMARY:NORTH COWBOYS vs. SOUTH STARS
DESCRIPTION:Junior Varsity (3rd & 4th Grade) - Brunswick County Parks & Recreation
LOCATION:SMITHVILLE PARK J.V. #1
CATEGORIES:QuickScores, Soccer - Youth Game
TRANSP:OPAQUE
BEGIN:VALARM
TRIGGER:-PT2H
ACTION:DISPLAY
DESCRIPTION:NORTH COWBOYS vs. SOUTH STARS
END:VALARM
END:VEVENT
BEGIN:VEVENT
UID:bcparks-39233660-20181117T110000@quickscores.com
DTSTAMP:20260422T230200Z
DTSTART;TZID=America/New_York:20181117T110000
DURATION:PT1H0M0S
SUMMARY:NORTH ARMADA vs. NORTH COWBOYS
DESCRIPTION:Junior Varsity (3rd & 4th Grade) - Brunswick County Parks & Recreation
LOCATION:NORTHWEST PARK J.V. #1
CATEGORIES:QuickScores, Soccer - Youth Game
TRANSP:OPAQUE
BEGIN:VALARM
TRIGGER:-PT2H
ACTION:DISPLAY
DESCRIPTION:NORTH ARMADA vs. NORTH COWBOYS
END:VALARM
END:VEVENT
BEGIN:VEVENT
UID:bcparks-39233661-20181117T110000@quickscores.com
DTSTAMP:20260422T230200Z
DTSTART;TZID=America/New_York:20181117T110000
DURATION:PT1H0M0S
SUMMARY:WEST SHOCK vs. WEST MONARCHS
DESCRIPTION:Junior Varsity (3rd & 4th Grade) - Brunswick County Parks & Recreation
LOCATION:SHALLOTTE PARK J.V. #1
CATEGORIES:QuickScores, Soccer - Youth Game
TRANSP:OPAQUE
BEGIN:VALARM
TRIGGER:-PT2H
ACTION:DISPLAY
DESCRIPTION:WEST SHOCK vs. WEST MONARCHS
END:VALARM
END:VEVENT
BEGIN:VEVENT
UID:bcparks-39233662-20181117T110000@quickscores.com
DTSTAMP:20260422T230200Z
DTSTART;TZID=America/New_York:20181117T110000
DURATION:PT1H0M0S
SUMMARY:SOUTH STARS vs. SOUTH SILVERBACKS
DESCRIPTION:Junior Varsity (3rd & 4th Grade) - Brunswick County Parks & Recreation
LOCATION:SMITHVILLE PARK J.V. #1
CATEGORIES:QuickScores, Soccer - Youth Game
TRANSP:OPAQUE
BEGIN:VALARM
TRIGGER:-PT2H
ACTION:DISPLAY
DESCRIPTION:SOUTH STARS vs. SOUTH SILVERBACKS
END:VALARM
END:VEVENT
BEGIN:VEVENT
UID:bcparks-39233663-20181117T121500@quickscores.com
DTSTAMP:20260422T230200Z
DTSTART;TZID=America/New_York:20181117T121500
DURATION:PT1H0M0S
SUMMARY:NORTH DRAGONS vs. SOUTH SILVERBACKS
DESCRIPTION:Junior Varsity (3rd & 4th Grade) - Brunswick County Parks & Recreation
LOCATION:SMITHVILLE PARK
CATEGORIES:QuickScores, Soccer - Youth Game
TRANSP:OPAQUE
BEGIN:VALARM
TRIGGER:-PT2H
ACTION:DISPLAY
DESCRIPTION:NORTH DRAGONS vs. SOUTH SILVERBACKS
END:VALARM
END:VEVENT
END:VCALENDAR
