BEGIN:VCALENDAR
VERSION:2.0
PRODID:-//QuickScores.com//BQ Dynamic iCal Creator//EN
METHOD:PUBLISH
X-WR-CALNAME:2010 Women&#039;s Tennis - Fall 2010
X-WR-CALDESC:QuickScores game calendar
X-PUBLISHED-TTL:PT24H
REFRESH-INTERVAL;VALUE=DURATION:PT24H
CALSCALE:GREGORIAN
BEGIN:VTIMEZONE
TZID:America/New_York
X-LIC-LOCATION:America/New_York
BEGIN:DAYLIGHT
TZNAME:EDT
TZOFFSETFROM:-0500
TZOFFSETTO:-0400
DTSTART:19700308T020000
RRULE:FREQ=YEARLY;BYMONTH=3;BYDAY=2SU
END:DAYLIGHT
BEGIN:STANDARD
TZNAME:EST
TZOFFSETFROM:-0400
TZOFFSETTO:-0500
DTSTART:19701101T020000
RRULE:FREQ=YEARLY;BYMONTH=11;BYDAY=1SU
END:STANDARD
END:VTIMEZONE
BEGIN:VEVENT
UID:gnac-4385788-20100911@quickscores.com
DTSTAMP:20260424T105500Z
DTSTART;TZID=America/New_York:20100911
SUMMARY:Emmanuel vs. Saint Joseph CT
DESCRIPTION:2010 Women's Tennis - Great Northeast Athletic Conference
LOCATION:Emmanuel
CATEGORIES:QuickScores, Tennis Game
TRANSP:OPAQUE
BEGIN:VALARM
TRIGGER:-PT2H
ACTION:DISPLAY
DESCRIPTION:Emmanuel vs. Saint Joseph CT
END:VALARM
END:VEVENT
BEGIN:VEVENT
UID:gnac-4385770-20100911@quickscores.com
DTSTAMP:20260424T105500Z
DTSTART;TZID=America/New_York:20100911
SUMMARY:Johnson & Wales vs. Albertus Magnus
DESCRIPTION:2010 Women's Tennis - Great Northeast Athletic Conference
LOCATION:Providence, RI
CATEGORIES:QuickScores, Tennis Game
TRANSP:OPAQUE
BEGIN:VALARM
TRIGGER:-PT2H
ACTION:DISPLAY
DESCRIPTION:Johnson & Wales vs. Albertus Magnus
END:VALARM
END:VEVENT
BEGIN:VEVENT
UID:gnac-4385758-20100911@quickscores.com
DTSTAMP:20260424T105500Z
DTSTART;TZID=America/New_York:20100911
SUMMARY:Mount Ida vs. Pine Manor
DESCRIPTION:2010 Women's Tennis - Great Northeast Athletic Conference
LOCATION:Mount Ida
CATEGORIES:QuickScores, Tennis Game
TRANSP:OPAQUE
BEGIN:VALARM
TRIGGER:-PT2H
ACTION:DISPLAY
DESCRIPTION:Mount Ida vs. Pine Manor
END:VALARM
END:VEVENT
BEGIN:VEVENT
UID:gnac-4385768-20100911@quickscores.com
DTSTAMP:20260424T105500Z
DTSTART;TZID=America/New_York:20100911
SUMMARY:Emerson vs. Suffolk
DESCRIPTION:2010 Women's Tennis - Great Northeast Athletic Conference
LOCATION:Emerson
CATEGORIES:QuickScores, Tennis Game
TRANSP:OPAQUE
BEGIN:VALARM
TRIGGER:-PT2H
ACTION:DISPLAY
DESCRIPTION:Emerson vs. Suffolk
END:VALARM
END:VEVENT
BEGIN:VEVENT
UID:gnac-4385761-20100918@quickscores.com
DTSTAMP:20260424T105500Z
DTSTART;TZID=America/New_York:20100918
SUMMARY:Albertus Magnus vs. Mount Ida
DESCRIPTION:2010 Women's Tennis - Great Northeast Athletic Conference
LOCATION:New Haven, CT
CATEGORIES:QuickScores, Tennis Game
TRANSP:OPAQUE
BEGIN:VALARM
TRIGGER:-PT2H
ACTION:DISPLAY
DESCRIPTION:Albertus Magnus vs. Mount Ida
END:VALARM
END:VEVENT
BEGIN:VEVENT
UID:gnac-4385756-20100918@quickscores.com
DTSTAMP:20260424T105500Z
DTSTART;TZID=America/New_York:20100918
SUMMARY:Saint Joseph CT vs. Johnson & Wales
DESCRIPTION:DH. JWU share bus w WS. --- 2010 Women's Tennis - Great Northeast Athletic Conference
LOCATION:W. Hartford, CT
CATEGORIES:QuickScores, Tennis Game
TRANSP:OPAQUE
BEGIN:VALARM
TRIGGER:-PT2H
ACTION:DISPLAY
DESCRIPTION:Saint Joseph CT vs. Johnson & Wales
END:VALARM
END:VEVENT
BEGIN:VEVENT
UID:gnac-4385772-20100918@quickscores.com
DTSTAMP:20260424T105500Z
DTSTART;TZID=America/New_York:20100918
SUMMARY:Pine Manor vs. Suffolk
DESCRIPTION:2010 Women's Tennis - Great Northeast Athletic Conference
LOCATION:Chestnut Hill, MA
CATEGORIES:QuickScores, Tennis Game
TRANSP:OPAQUE
BEGIN:VALARM
TRIGGER:-PT2H
ACTION:DISPLAY
DESCRIPTION:Pine Manor vs. Suffolk
END:VALARM
END:VEVENT
BEGIN:VEVENT
UID:gnac-4385769-20100919@quickscores.com
DTSTAMP:20260424T105500Z
DTSTART;TZID=America/New_York:20100919
SUMMARY:Simmons vs. Emmanuel
DESCRIPTION:2010 Women's Tennis - Great Northeast Athletic Conference
LOCATION:Winsor
CATEGORIES:QuickScores, Tennis Game
TRANSP:OPAQUE
BEGIN:VALARM
TRIGGER:-PT2H
ACTION:DISPLAY
DESCRIPTION:Simmons vs. Emmanuel
END:VALARM
END:VEVENT
BEGIN:VEVENT
UID:gnac-4385787-20100922@quickscores.com
DTSTAMP:20260424T105500Z
DTSTART;TZID=America/New_York:20100922
SUMMARY:Pine Manor vs. Albertus Magnus
DESCRIPTION:AMC can share a bus w WS & WVB --- 2010 Women's Tennis - Great Northeast Athletic Conference
LOCATION:Chestnut Hill, MA
CATEGORIES:QuickScores, Tennis Game
TRANSP:OPAQUE
BEGIN:VALARM
TRIGGER:-PT2H
ACTION:DISPLAY
DESCRIPTION:Pine Manor vs. Albertus Magnus
END:VALARM
END:VEVENT
BEGIN:VEVENT
UID:gnac-4385760-20100922@quickscores.com
DTSTAMP:20260424T105500Z
DTSTART;TZID=America/New_York:20100922
SUMMARY:Mount Ida vs. Simmons
DESCRIPTION:2010 Women's Tennis - Great Northeast Athletic Conference
LOCATION:Mount Ida
CATEGORIES:QuickScores, Tennis Game
TRANSP:OPAQUE
BEGIN:VALARM
TRIGGER:-PT2H
ACTION:DISPLAY
DESCRIPTION:Mount Ida vs. Simmons
END:VALARM
END:VEVENT
BEGIN:VEVENT
UID:gnac-4385789-20100922@quickscores.com
DTSTAMP:20260424T105500Z
DTSTART;TZID=America/New_York:20100922
SUMMARY:Johnson & Wales vs. Emerson
DESCRIPTION:2010 Women's Tennis - Great Northeast Athletic Conference
LOCATION:Providence, RI
CATEGORIES:QuickScores, Tennis Game
TRANSP:OPAQUE
BEGIN:VALARM
TRIGGER:-PT2H
ACTION:DISPLAY
DESCRIPTION:Johnson & Wales vs. Emerson
END:VALARM
END:VEVENT
BEGIN:VEVENT
UID:gnac-4385790-20100922@quickscores.com
DTSTAMP:20260424T105500Z
DTSTART;TZID=America/New_York:20100922
SUMMARY:Suffolk vs. Emmanuel
DESCRIPTION:2010 Women's Tennis - Great Northeast Athletic Conference
LOCATION:Suffolk
CATEGORIES:QuickScores, Tennis Game
TRANSP:OPAQUE
BEGIN:VALARM
TRIGGER:-PT2H
ACTION:DISPLAY
DESCRIPTION:Suffolk vs. Emmanuel
END:VALARM
END:VEVENT
BEGIN:VEVENT
UID:gnac-4385780-20100925@quickscores.com
DTSTAMP:20260424T105500Z
DTSTART;TZID=America/New_York:20100925
SUMMARY:Emmanuel vs. Pine Manor
DESCRIPTION:2010 Women's Tennis - Great Northeast Athletic Conference
LOCATION:Emmanuel
CATEGORIES:QuickScores, Tennis Game
TRANSP:OPAQUE
BEGIN:VALARM
TRIGGER:-PT2H
ACTION:DISPLAY
DESCRIPTION:Emmanuel vs. Pine Manor
END:VALARM
END:VEVENT
BEGIN:VEVENT
UID:gnac-4385762-20100925@quickscores.com
DTSTAMP:20260424T105500Z
DTSTART;TZID=America/New_York:20100925
SUMMARY:Albertus Magnus vs. Simmons
DESCRIPTION:2010 Women's Tennis - Great Northeast Athletic Conference
LOCATION:New Haven, CT
CATEGORIES:QuickScores, Tennis Game
TRANSP:OPAQUE
BEGIN:VALARM
TRIGGER:-PT2H
ACTION:DISPLAY
DESCRIPTION:Albertus Magnus vs. Simmons
END:VALARM
END:VEVENT
BEGIN:VEVENT
UID:gnac-4385781-20100925@quickscores.com
DTSTAMP:20260424T105500Z
DTSTART;TZID=America/New_York:20100925
SUMMARY:Suffolk vs. Saint Joseph CT
DESCRIPTION:STCT can share a bus w WS --- 2010 Women's Tennis - Great Northeast Athletic Conference
LOCATION:Suffolk
CATEGORIES:QuickScores, Tennis Game
TRANSP:OPAQUE
BEGIN:VALARM
TRIGGER:-PT2H
ACTION:DISPLAY
DESCRIPTION:Suffolk vs. Saint Joseph CT
END:VALARM
END:VEVENT
BEGIN:VEVENT
UID:gnac-4385757-20100925@quickscores.com
DTSTAMP:20260424T105500Z
DTSTART;TZID=America/New_York:20100925
SUMMARY:Emerson vs. Mount Ida
DESCRIPTION:EME Homecoming & Ida has home football --- 2010 Women's Tennis - Great Northeast Athletic Conference
LOCATION:Emerson
CATEGORIES:QuickScores, Tennis Game
TRANSP:OPAQUE
BEGIN:VALARM
TRIGGER:-PT2H
ACTION:DISPLAY
DESCRIPTION:Emerson vs. Mount Ida
END:VALARM
END:VEVENT
BEGIN:VEVENT
UID:gnac-4385792-20100928@quickscores.com
DTSTAMP:20260424T105500Z
DTSTART;TZID=America/New_York:20100928
SUMMARY:Emerson vs. Emmanuel
DESCRIPTION:2010 Women's Tennis - Great Northeast Athletic Conference
LOCATION:Emerson
CATEGORIES:QuickScores, Tennis Game
TRANSP:OPAQUE
BEGIN:VALARM
TRIGGER:-PT2H
ACTION:DISPLAY
DESCRIPTION:Emerson vs. Emmanuel
END:VALARM
END:VEVENT
BEGIN:VEVENT
UID:gnac-4385782-20100928@quickscores.com
DTSTAMP:20260424T105500Z
DTSTART;TZID=America/New_York:20100928
SUMMARY:Simmons vs. Suffolk
DESCRIPTION:2010 Women's Tennis - Great Northeast Athletic Conference
LOCATION:Winsor
CATEGORIES:QuickScores, Tennis Game
TRANSP:OPAQUE
BEGIN:VALARM
TRIGGER:-PT2H
ACTION:DISPLAY
DESCRIPTION:Simmons vs. Suffolk
END:VALARM
END:VEVENT
BEGIN:VEVENT
UID:gnac-4385771-20101002@quickscores.com
DTSTAMP:20260424T105500Z
DTSTART;TZID=America/New_York:20101002
SUMMARY:Saint Joseph CT vs. Simmons
DESCRIPTION:STJCT Homecoming. SIM can share a bus (WS &  WT) --- 2010 Women's Tennis - Great Northeast Athletic Conference
LOCATION:W. Hartford, CT
CATEGORIES:QuickScores, Tennis Game
TRANSP:OPAQUE
BEGIN:VALARM
TRIGGER:-PT2H
ACTION:DISPLAY
DESCRIPTION:Saint Joseph CT vs. Simmons
END:VALARM
END:VEVENT
BEGIN:VEVENT
UID:gnac-4385774-20101002@quickscores.com
DTSTAMP:20260424T105500Z
DTSTART;TZID=America/New_York:20101002
SUMMARY:Emmanuel vs. Johnson & Wales
DESCRIPTION:2010 Women's Tennis - Great Northeast Athletic Conference
LOCATION:Emmanuel
CATEGORIES:QuickScores, Tennis Game
TRANSP:OPAQUE
BEGIN:VALARM
TRIGGER:-PT2H
ACTION:DISPLAY
DESCRIPTION:Emmanuel vs. Johnson & Wales
END:VALARM
END:VEVENT
BEGIN:VEVENT
UID:gnac-4385766-20101002@quickscores.com
DTSTAMP:20260424T105500Z
DTSTART;TZID=America/New_York:20101002
SUMMARY:Suffolk vs. Albertus Magnus
DESCRIPTION:2010 Women's Tennis - Great Northeast Athletic Conference
LOCATION:Suffolk
CATEGORIES:QuickScores, Tennis Game
TRANSP:OPAQUE
BEGIN:VALARM
TRIGGER:-PT2H
ACTION:DISPLAY
DESCRIPTION:Suffolk vs. Albertus Magnus
END:VALARM
END:VEVENT
BEGIN:VEVENT
UID:gnac-4385784-20101002@quickscores.com
DTSTAMP:20260424T105500Z
DTSTART;TZID=America/New_York:20101002
SUMMARY:Pine Manor vs. Emerson
DESCRIPTION:2010 Women's Tennis - Great Northeast Athletic Conference
LOCATION:Chestnut Hill, MA
CATEGORIES:QuickScores, Tennis Game
TRANSP:OPAQUE
BEGIN:VALARM
TRIGGER:-PT2H
ACTION:DISPLAY
DESCRIPTION:Pine Manor vs. Emerson
END:VALARM
END:VEVENT
BEGIN:VEVENT
UID:gnac-4385764-20101006@quickscores.com
DTSTAMP:20260424T105500Z
DTSTART;TZID=America/New_York:20101006
SUMMARY:Johnson & Wales vs. Simmons
DESCRIPTION:2010 Women's Tennis - Great Northeast Athletic Conference
LOCATION:Providence, RI
CATEGORIES:QuickScores, Tennis Game
TRANSP:OPAQUE
BEGIN:VALARM
TRIGGER:-PT2H
ACTION:DISPLAY
DESCRIPTION:Johnson & Wales vs. Simmons
END:VALARM
END:VEVENT
BEGIN:VEVENT
UID:gnac-4385767-20101006@quickscores.com
DTSTAMP:20260424T105500Z
DTSTART;TZID=America/New_York:20101006
SUMMARY:Pine Manor vs. Saint Joseph CT
DESCRIPTION:STJCT WT & WS can share a bus --- 2010 Women's Tennis - Great Northeast Athletic Conference
LOCATION:Chestnut Hill, MA
CATEGORIES:QuickScores, Tennis Game
TRANSP:OPAQUE
BEGIN:VALARM
TRIGGER:-PT2H
ACTION:DISPLAY
DESCRIPTION:Pine Manor vs. Saint Joseph CT
END:VALARM
END:VEVENT
BEGIN:VEVENT
UID:gnac-4385759-20101006@quickscores.com
DTSTAMP:20260424T105500Z
DTSTART;TZID=America/New_York:20101006
SUMMARY:Mount Ida vs. Suffolk
DESCRIPTION:2010 Women's Tennis - Great Northeast Athletic Conference
LOCATION:Mount Ida
CATEGORIES:QuickScores, Tennis Game
TRANSP:OPAQUE
BEGIN:VALARM
TRIGGER:-PT2H
ACTION:DISPLAY
DESCRIPTION:Mount Ida vs. Suffolk
END:VALARM
END:VEVENT
BEGIN:VEVENT
UID:gnac-4385793-20101009@quickscores.com
DTSTAMP:20260424T105500Z
DTSTART;TZID=America/New_York:20101009
SUMMARY:Albertus Magnus vs. Saint Joseph CT
DESCRIPTION:AMC Fall Fest --- 2010 Women's Tennis - Great Northeast Athletic Conference
LOCATION:New Haven, CT
CATEGORIES:QuickScores, Tennis Game
TRANSP:OPAQUE
BEGIN:VALARM
TRIGGER:-PT2H
ACTION:DISPLAY
DESCRIPTION:Albertus Magnus vs. Saint Joseph CT
END:VALARM
END:VEVENT
BEGIN:VEVENT
UID:gnac-4385794-20101009@quickscores.com
DTSTAMP:20260424T105500Z
DTSTART;TZID=America/New_York:20101009
SUMMARY:Johnson & Wales vs. Pine Manor
DESCRIPTION:2010 Women's Tennis - Great Northeast Athletic Conference
LOCATION:Providence, RI
CATEGORIES:QuickScores, Tennis Game
TRANSP:OPAQUE
BEGIN:VALARM
TRIGGER:-PT2H
ACTION:DISPLAY
DESCRIPTION:Johnson & Wales vs. Pine Manor
END:VALARM
END:VEVENT
BEGIN:VEVENT
UID:gnac-4385785-20101009@quickscores.com
DTSTAMP:20260424T105500Z
DTSTART;TZID=America/New_York:20101009
SUMMARY:Simmons vs. Emerson
DESCRIPTION:2010 Women's Tennis - Great Northeast Athletic Conference
LOCATION:Winsor
CATEGORIES:QuickScores, Tennis Game
TRANSP:OPAQUE
BEGIN:VALARM
TRIGGER:-PT2H
ACTION:DISPLAY
DESCRIPTION:Simmons vs. Emerson
END:VALARM
END:VEVENT
BEGIN:VEVENT
UID:gnac-4385795-20101009@quickscores.com
DTSTAMP:20260424T105500Z
DTSTART;TZID=America/New_York:20101009
SUMMARY:Emmanuel vs. Mount Ida
DESCRIPTION:Ida has home football --- 2010 Women's Tennis - Great Northeast Athletic Conference
LOCATION:Emmanuel
CATEGORIES:QuickScores, Tennis Game
TRANSP:OPAQUE
BEGIN:VALARM
TRIGGER:-PT2H
ACTION:DISPLAY
DESCRIPTION:Emmanuel vs. Mount Ida
END:VALARM
END:VEVENT
BEGIN:VEVENT
UID:gnac-4385783-20101011@quickscores.com
DTSTAMP:20260424T105500Z
DTSTART;TZID=America/New_York:20101011
SUMMARY:Albertus Magnus vs. Emmanuel
DESCRIPTION:Columbus Day. EMM MS &WS also at AMC --- 2010 Women's Tennis - Great Northeast Athletic Conference
LOCATION:New Haven, CT
CATEGORIES:QuickScores, Tennis Game
TRANSP:OPAQUE
BEGIN:VALARM
TRIGGER:-PT2H
ACTION:DISPLAY
DESCRIPTION:Albertus Magnus vs. Emmanuel
END:VALARM
END:VEVENT
BEGIN:VEVENT
UID:gnac-4385763-20101011@quickscores.com
DTSTAMP:20260424T105500Z
DTSTART;TZID=America/New_York:20101011
SUMMARY:Saint Joseph CT vs. Emerson
DESCRIPTION:Columbus Day --- 2010 Women's Tennis - Great Northeast Athletic Conference
LOCATION:W. Hartford, CT
CATEGORIES:QuickScores, Tennis Game
TRANSP:OPAQUE
BEGIN:VALARM
TRIGGER:-PT2H
ACTION:DISPLAY
DESCRIPTION:Saint Joseph CT vs. Emerson
END:VALARM
END:VEVENT
BEGIN:VEVENT
UID:gnac-4385765-20101011@quickscores.com
DTSTAMP:20260424T105500Z
DTSTART;TZID=America/New_York:20101011
SUMMARY:Mount Ida vs. Johnson & Wales
DESCRIPTION:Columbus Day --- 2010 Women's Tennis - Great Northeast Athletic Conference
LOCATION:Mount Ida
CATEGORIES:QuickScores, Tennis Game
TRANSP:OPAQUE
BEGIN:VALARM
TRIGGER:-PT2H
ACTION:DISPLAY
DESCRIPTION:Mount Ida vs. Johnson & Wales
END:VALARM
END:VEVENT
BEGIN:VEVENT
UID:gnac-4385791-20101011@quickscores.com
DTSTAMP:20260424T105500Z
DTSTART;TZID=America/New_York:20101011
SUMMARY:Simmons vs. Pine Manor
DESCRIPTION:Columbus Day --- 2010 Women's Tennis - Great Northeast Athletic Conference
LOCATION:Winsor
CATEGORIES:QuickScores, Tennis Game
TRANSP:OPAQUE
BEGIN:VALARM
TRIGGER:-PT2H
ACTION:DISPLAY
DESCRIPTION:Simmons vs. Pine Manor
END:VALARM
END:VEVENT
BEGIN:VEVENT
UID:gnac-4385786-20101016@quickscores.com
DTSTAMP:20260424T105500Z
DTSTART;TZID=America/New_York:20101016
SUMMARY:Suffolk vs. Johnson & Wales
DESCRIPTION:SUF Parents Weekend --- 2010 Women's Tennis - Great Northeast Athletic Conference
LOCATION:Suffolk
CATEGORIES:QuickScores, Tennis Game
TRANSP:OPAQUE
BEGIN:VALARM
TRIGGER:-PT2H
ACTION:DISPLAY
DESCRIPTION:Suffolk vs. Johnson & Wales
END:VALARM
END:VEVENT
BEGIN:VEVENT
UID:gnac-4385796-20101016@quickscores.com
DTSTAMP:20260424T105500Z
DTSTART;TZID=America/New_York:20101016
SUMMARY:Saint Joseph CT vs. Mount Ida
DESCRIPTION:2010 Women's Tennis - Great Northeast Athletic Conference
LOCATION:W. Hartford, CT
CATEGORIES:QuickScores, Tennis Game
TRANSP:OPAQUE
BEGIN:VALARM
TRIGGER:-PT2H
ACTION:DISPLAY
DESCRIPTION:Saint Joseph CT vs. Mount Ida
END:VALARM
END:VEVENT
BEGIN:VEVENT
UID:gnac-4385773-20101016@quickscores.com
DTSTAMP:20260424T105500Z
DTSTART;TZID=America/New_York:20101016
SUMMARY:Emerson vs. Albertus Magnus
DESCRIPTION:2010 Women's Tennis - Great Northeast Athletic Conference
LOCATION:Emerson
CATEGORIES:QuickScores, Tennis Game
TRANSP:OPAQUE
BEGIN:VALARM
TRIGGER:-PT2H
ACTION:DISPLAY
DESCRIPTION:Emerson vs. Albertus Magnus
END:VALARM
END:VEVENT
BEGIN:VEVENT
UID:gnac-4385779-20101020@quickscores.com
DTSTAMP:20260424T105500Z
DTSTART;TZID=America/New_York:20101020
SUMMARY:#3 Seed vs. #6 Seed
DESCRIPTION:2010 Women's Tennis - Great Northeast Athletic Conference
LOCATION:Court of #3 seed
CATEGORIES:QuickScores, Tennis Game
TRANSP:OPAQUE
BEGIN:VALARM
TRIGGER:-PT2H
ACTION:DISPLAY
DESCRIPTION:#3 Seed vs. #6 Seed
END:VALARM
END:VEVENT
BEGIN:VEVENT
UID:gnac-4385777-20101020@quickscores.com
DTSTAMP:20260424T105500Z
DTSTART;TZID=America/New_York:20101020
SUMMARY:#4 Seed vs. #5 Seed
DESCRIPTION:2010 Women's Tennis - Great Northeast Athletic Conference
LOCATION:Court of #4 seed
CATEGORIES:QuickScores, Tennis Game
TRANSP:OPAQUE
BEGIN:VALARM
TRIGGER:-PT2H
ACTION:DISPLAY
DESCRIPTION:#4 Seed vs. #5 Seed
END:VALARM
END:VEVENT
BEGIN:VEVENT
UID:gnac-4385778-20101023@quickscores.com
DTSTAMP:20260424T105500Z
DTSTART;TZID=America/New_York:20101023
SUMMARY:#2 Seed vs. Winner of Game 2
DESCRIPTION:2010 Women's Tennis - Great Northeast Athletic Conference
LOCATION:Court of #2 seed
CATEGORIES:QuickScores, Tennis Game
TRANSP:OPAQUE
BEGIN:VALARM
TRIGGER:-PT2H
ACTION:DISPLAY
DESCRIPTION:#2 Seed vs. Winner of Game 2
END:VALARM
END:VEVENT
BEGIN:VEVENT
UID:gnac-4385775-20101023@quickscores.com
DTSTAMP:20260424T105500Z
DTSTART;TZID=America/New_York:20101023
SUMMARY:#1 Seed vs. Winner of Game 1
DESCRIPTION:2010 Women's Tennis - Great Northeast Athletic Conference
LOCATION:Court of #1 seed
CATEGORIES:QuickScores, Tennis Game
TRANSP:OPAQUE
BEGIN:VALARM
TRIGGER:-PT2H
ACTION:DISPLAY
DESCRIPTION:#1 Seed vs. Winner of Game 1
END:VALARM
END:VEVENT
BEGIN:VEVENT
UID:gnac-4385776-20101024@quickscores.com
DTSTAMP:20260424T105500Z
DTSTART;TZID=America/New_York:20101024
SUMMARY:Winner of Game 3 vs. Winner of Game 4
DESCRIPTION:2010 Women's Tennis - Great Northeast Athletic Conference
LOCATION:Hosted by highest remaining seed
CATEGORIES:QuickScores, Tennis Game
TRANSP:OPAQUE
BEGIN:VALARM
TRIGGER:-PT2H
ACTION:DISPLAY
DESCRIPTION:Winner of Game 3 vs. Winner of Game 4
END:VALARM
END:VEVENT
END:VCALENDAR
