BEGIN:VCALENDAR
VERSION:2.0
PRODID:-//QuickScores.com//BQ Dynamic iCal Creator//EN
METHOD:PUBLISH
X-WR-CALNAME:Starter Boys Blue - Winter 2016-2017
X-WR-CALDESC:QuickScores game calendar
X-PUBLISHED-TTL:PT24H
REFRESH-INTERVAL;VALUE=DURATION:PT24H
CALSCALE:GREGORIAN
BEGIN:VTIMEZONE
TZID:America/Chicago
X-LIC-LOCATION:America/Chicago
BEGIN:DAYLIGHT
TZNAME:CDT
TZOFFSETFROM:-0600
TZOFFSETTO:-0500
DTSTART:19700308T020000
RRULE:FREQ=YEARLY;BYMONTH=3;BYDAY=2SU
END:DAYLIGHT
BEGIN:STANDARD
TZNAME:CST
TZOFFSETFROM:-0500
TZOFFSETTO:-0600
DTSTART:19701101T020000
RRULE:FREQ=YEARLY;BYMONTH=11;BYDAY=1SU
END:STANDARD
END:VTIMEZONE
BEGIN:VEVENT
UID:toybowl-32224075-20170114T100000@quickscores.com
DTSTAMP:20260425T173200Z
DTSTART;TZID=America/Chicago:20170114T100000
DURATION:PT1H0M0S
SUMMARY:OLS-F vs. OLS-M
DESCRIPTION:Starter Boys Blue - Toy Bowl
LOCATION:Our Lady of Sorrows
CATEGORIES:QuickScores, Basketball Game
TRANSP:OPAQUE
BEGIN:VALARM
TRIGGER:-PT2H
ACTION:DISPLAY
DESCRIPTION:OLS-F vs. OLS-M
END:VALARM
END:VEVENT
BEGIN:VEVENT
UID:toybowl-32224074-20170114T100000@quickscores.com
DTSTAMP:20260425T173200Z
DTSTART;TZID=America/Chicago:20170114T100000
DURATION:PT1H0M0S
SUMMARY:SRA vs. OLS-S
DESCRIPTION:Starter Boys Blue - Toy Bowl
LOCATION:St. Rose Academy
CATEGORIES:QuickScores, Basketball Game
TRANSP:OPAQUE
BEGIN:VALARM
TRIGGER:-PT2H
ACTION:DISPLAY
DESCRIPTION:SRA vs. OLS-S
END:VALARM
END:VEVENT
BEGIN:VEVENT
UID:toybowl-32224076-20170114T110000@quickscores.com
DTSTAMP:20260425T173200Z
DTSTART;TZID=America/Chicago:20170114T110000
DURATION:PT1H0M0S
SUMMARY:OLV-S vs. POP-M
DESCRIPTION:Starter Boys Blue - Toy Bowl
LOCATION:Our Lady of the Valley
CATEGORIES:QuickScores, Basketball Game
TRANSP:OPAQUE
BEGIN:VALARM
TRIGGER:-PT2H
ACTION:DISPLAY
DESCRIPTION:OLV-S vs. POP-M
END:VALARM
END:VEVENT
BEGIN:VEVENT
UID:toybowl-32224092-20170121T080000@quickscores.com
DTSTAMP:20260425T173200Z
DTSTART;TZID=America/Chicago:20170121T080000
DURATION:PT1H0M0S
SUMMARY:POP-S vs. SRA
DESCRIPTION:Starter Boys Blue - Toy Bowl
LOCATION:Prince of Peace
CATEGORIES:QuickScores, Basketball Game
TRANSP:OPAQUE
BEGIN:VALARM
TRIGGER:-PT2H
ACTION:DISPLAY
DESCRIPTION:POP-S vs. SRA
END:VALARM
END:VEVENT
BEGIN:VEVENT
UID:toybowl-32224090-20170121T150000@quickscores.com
DTSTAMP:20260425T173200Z
DTSTART;TZID=America/Chicago:20170121T150000
DURATION:PT1H0M0S
SUMMARY:OLS-F vs. POP-M
DESCRIPTION:Starter Boys Blue - Toy Bowl
LOCATION:Our Lady of Sorrows
CATEGORIES:QuickScores, Basketball Game
TRANSP:OPAQUE
BEGIN:VALARM
TRIGGER:-PT2H
ACTION:DISPLAY
DESCRIPTION:OLS-F vs. POP-M
END:VALARM
END:VEVENT
BEGIN:VEVENT
UID:toybowl-32224091-20170121T160000@quickscores.com
DTSTAMP:20260425T173200Z
DTSTART;TZID=America/Chicago:20170121T160000
DURATION:PT1H0M0S
SUMMARY:OLS-S vs. OLS-M
DESCRIPTION:Starter Boys Blue - Toy Bowl
LOCATION:Our Lady of Sorrows
CATEGORIES:QuickScores, Basketball Game
TRANSP:OPAQUE
BEGIN:VALARM
TRIGGER:-PT2H
ACTION:DISPLAY
DESCRIPTION:OLS-S vs. OLS-M
END:VALARM
END:VEVENT
BEGIN:VEVENT
UID:toybowl-32224066-20170122T140000@quickscores.com
DTSTAMP:20260425T173200Z
DTSTART;TZID=America/Chicago:20170122T140000
DURATION:PT1H0M0S
SUMMARY:OLV-S vs. OLS-S
DESCRIPTION:Starter Boys Blue - Toy Bowl
LOCATION:Our Lady of the Valley
CATEGORIES:QuickScores, Basketball Game
TRANSP:OPAQUE
BEGIN:VALARM
TRIGGER:-PT2H
ACTION:DISPLAY
DESCRIPTION:OLV-S vs. OLS-S
END:VALARM
END:VEVENT
BEGIN:VEVENT
UID:toybowl-32224070-20170128T080000@quickscores.com
DTSTAMP:20260425T173200Z
DTSTART;TZID=America/Chicago:20170128T080000
DURATION:PT1H0M0S
SUMMARY:POP-S vs. OLS-F
DESCRIPTION:Starter Boys Blue - Toy Bowl
LOCATION:Prince of Peace
CATEGORIES:QuickScores, Basketball Game
TRANSP:OPAQUE
BEGIN:VALARM
TRIGGER:-PT2H
ACTION:DISPLAY
DESCRIPTION:POP-S vs. OLS-F
END:VALARM
END:VEVENT
BEGIN:VEVENT
UID:toybowl-32224072-20170128T090000@quickscores.com
DTSTAMP:20260425T173200Z
DTSTART;TZID=America/Chicago:20170128T090000
DURATION:PT1H0M0S
SUMMARY:OLS-M vs. POP-M
DESCRIPTION:Starter Boys Blue - Toy Bowl
LOCATION:Our Lady of Sorrows
CATEGORIES:QuickScores, Basketball Game
TRANSP:OPAQUE
BEGIN:VALARM
TRIGGER:-PT2H
ACTION:DISPLAY
DESCRIPTION:OLS-M vs. POP-M
END:VALARM
END:VEVENT
BEGIN:VEVENT
UID:toybowl-32224071-20170128T100000@quickscores.com
DTSTAMP:20260425T173200Z
DTSTART;TZID=America/Chicago:20170128T100000
DURATION:PT1H0M0S
SUMMARY:SRA vs. OLV-S
DESCRIPTION:Starter Boys Blue - Toy Bowl
LOCATION:St. Rose Academy
CATEGORIES:QuickScores, Basketball Game
TRANSP:OPAQUE
BEGIN:VALARM
TRIGGER:-PT2H
ACTION:DISPLAY
DESCRIPTION:SRA vs. OLV-S
END:VALARM
END:VEVENT
BEGIN:VEVENT
UID:toybowl-32224068-20170129T130000@quickscores.com
DTSTAMP:20260425T173200Z
DTSTART;TZID=America/Chicago:20170129T130000
DURATION:PT1H0M0S
SUMMARY:SRA vs. OLS-M
DESCRIPTION:Starter Boys Blue - Toy Bowl
LOCATION:St. Rose Academy
CATEGORIES:QuickScores, Basketball Game
TRANSP:OPAQUE
BEGIN:VALARM
TRIGGER:-PT2H
ACTION:DISPLAY
DESCRIPTION:SRA vs. OLS-M
END:VALARM
END:VEVENT
BEGIN:VEVENT
UID:toybowl-32224079-20170204T080000@quickscores.com
DTSTAMP:20260425T173200Z
DTSTART;TZID=America/Chicago:20170204T080000
DURATION:PT1H0M0S
SUMMARY:OLS-F vs. SRA
DESCRIPTION:Starter Boys Blue - Toy Bowl
LOCATION:Our Lady of Sorrows
CATEGORIES:QuickScores, Basketball Game
TRANSP:OPAQUE
BEGIN:VALARM
TRIGGER:-PT2H
ACTION:DISPLAY
DESCRIPTION:OLS-F vs. SRA
END:VALARM
END:VEVENT
BEGIN:VEVENT
UID:toybowl-32224080-20170204T090000@quickscores.com
DTSTAMP:20260425T173200Z
DTSTART;TZID=America/Chicago:20170204T090000
DURATION:PT1H0M0S
SUMMARY:OLS-S vs. POP-S
DESCRIPTION:Starter Boys Blue - Toy Bowl
LOCATION:Our Lady of Sorrows
CATEGORIES:QuickScores, Basketball Game
TRANSP:OPAQUE
BEGIN:VALARM
TRIGGER:-PT2H
ACTION:DISPLAY
DESCRIPTION:OLS-S vs. POP-S
END:VALARM
END:VEVENT
BEGIN:VEVENT
UID:toybowl-32224078-20170204T100000@quickscores.com
DTSTAMP:20260425T173200Z
DTSTART;TZID=America/Chicago:20170204T100000
DURATION:PT1H0M0S
SUMMARY:OLS-M vs. OLV-S
DESCRIPTION:Starter Boys Blue - Toy Bowl
LOCATION:Our Lady of Sorrows
CATEGORIES:QuickScores, Basketball Game
TRANSP:OPAQUE
BEGIN:VALARM
TRIGGER:-PT2H
ACTION:DISPLAY
DESCRIPTION:OLS-M vs. OLV-S
END:VALARM
END:VEVENT
BEGIN:VEVENT
UID:toybowl-32224067-20170205T120000@quickscores.com
DTSTAMP:20260425T173200Z
DTSTART;TZID=America/Chicago:20170205T120000
DURATION:PT1H0M0S
SUMMARY:POP-S vs. POP-M
DESCRIPTION:Starter Boys Blue - Toy Bowl
LOCATION:Prince of Peace
CATEGORIES:QuickScores, Basketball Game
TRANSP:OPAQUE
BEGIN:VALARM
TRIGGER:-PT2H
ACTION:DISPLAY
DESCRIPTION:POP-S vs. POP-M
END:VALARM
END:VEVENT
BEGIN:VEVENT
UID:toybowl-32224082-20170211T080000@quickscores.com
DTSTAMP:20260425T173200Z
DTSTART;TZID=America/Chicago:20170211T080000
DURATION:PT1H0M0S
SUMMARY:OLS-M vs. POP-S
DESCRIPTION:Starter Boys Blue - Toy Bowl
LOCATION:Our Lady of Sorrows
CATEGORIES:QuickScores, Basketball Game
TRANSP:OPAQUE
BEGIN:VALARM
TRIGGER:-PT2H
ACTION:DISPLAY
DESCRIPTION:OLS-M vs. POP-S
END:VALARM
END:VEVENT
BEGIN:VEVENT
UID:toybowl-32224084-20170211T140000@quickscores.com
DTSTAMP:20260425T173200Z
DTSTART;TZID=America/Chicago:20170211T140000
DURATION:PT1H0M0S
SUMMARY:OLV-S vs. OLS-F
DESCRIPTION:Starter Boys Blue - Toy Bowl
LOCATION:Our Lady of the Valley
CATEGORIES:QuickScores, Basketball Game
TRANSP:OPAQUE
BEGIN:VALARM
TRIGGER:-PT2H
ACTION:DISPLAY
DESCRIPTION:OLV-S vs. OLS-F
END:VALARM
END:VEVENT
BEGIN:VEVENT
UID:toybowl-32224083-20170211T160000@quickscores.com
DTSTAMP:20260425T173200Z
DTSTART;TZID=America/Chicago:20170211T160000
DURATION:PT1H0M0S
SUMMARY:POP-M vs. OLS-S
DESCRIPTION:Starter Boys Blue - Toy Bowl
LOCATION:Prince of Peace
CATEGORIES:QuickScores, Basketball Game
TRANSP:OPAQUE
BEGIN:VALARM
TRIGGER:-PT2H
ACTION:DISPLAY
DESCRIPTION:POP-M vs. OLS-S
END:VALARM
END:VEVENT
BEGIN:VEVENT
UID:toybowl-32224086-20170218T080000@quickscores.com
DTSTAMP:20260425T173200Z
DTSTART;TZID=America/Chicago:20170218T080000
DURATION:PT1H0M0S
SUMMARY:POP-M vs. SRA
DESCRIPTION:Starter Boys Blue - Toy Bowl
LOCATION:Prince of Peace
CATEGORIES:QuickScores, Basketball Game
TRANSP:OPAQUE
BEGIN:VALARM
TRIGGER:-PT2H
ACTION:DISPLAY
DESCRIPTION:POP-M vs. SRA
END:VALARM
END:VEVENT
BEGIN:VEVENT
UID:toybowl-32224088-20170218T090000@quickscores.com
DTSTAMP:20260425T173200Z
DTSTART;TZID=America/Chicago:20170218T090000
DURATION:PT1H0M0S
SUMMARY:POP-S vs. OLV-S
DESCRIPTION:Starter Boys Blue - Toy Bowl
LOCATION:Prince of Peace
CATEGORIES:QuickScores, Basketball Game
TRANSP:OPAQUE
BEGIN:VALARM
TRIGGER:-PT2H
ACTION:DISPLAY
DESCRIPTION:POP-S vs. OLV-S
END:VALARM
END:VEVENT
BEGIN:VEVENT
UID:toybowl-32224087-20170218T100000@quickscores.com
DTSTAMP:20260425T173200Z
DTSTART;TZID=America/Chicago:20170218T100000
DURATION:PT1H0M0S
SUMMARY:OLS-S vs. OLS-F
DESCRIPTION:Starter Boys Blue - Toy Bowl
LOCATION:Our Lady of Sorrows
CATEGORIES:QuickScores, Basketball Game
TRANSP:OPAQUE
BEGIN:VALARM
TRIGGER:-PT2H
ACTION:DISPLAY
DESCRIPTION:OLS-S vs. OLS-F
END:VALARM
END:VEVENT
BEGIN:VEVENT
UID:toybowl-32224098-20170219T140000@quickscores.com
DTSTAMP:20260425T173200Z
DTSTART;TZID=America/Chicago:20170219T140000
DURATION:PT1H0M0S
SUMMARY:OLV-S vs. POP-S
DESCRIPTION:Starter Boys Blue - Toy Bowl
LOCATION:Our Lady of the Valley
CATEGORIES:QuickScores, Basketball Game
TRANSP:OPAQUE
BEGIN:VALARM
TRIGGER:-PT2H
ACTION:DISPLAY
DESCRIPTION:OLV-S vs. POP-S
END:VALARM
END:VEVENT
BEGIN:VEVENT
UID:toybowl-32224094-20170225T080000@quickscores.com
DTSTAMP:20260425T173200Z
DTSTART;TZID=America/Chicago:20170225T080000
DURATION:PT1H0M0S
SUMMARY:POP-M vs. OLS-F
DESCRIPTION:Starter Boys Blue - Toy Bowl
LOCATION:Prince of Peace
CATEGORIES:QuickScores, Basketball Game
TRANSP:OPAQUE
BEGIN:VALARM
TRIGGER:-PT2H
ACTION:DISPLAY
DESCRIPTION:POP-M vs. OLS-F
END:VALARM
END:VEVENT
BEGIN:VEVENT
UID:toybowl-32224095-20170225T090000@quickscores.com
DTSTAMP:20260425T173200Z
DTSTART;TZID=America/Chicago:20170225T090000
DURATION:PT1H0M0S
SUMMARY:OLS-M vs. OLS-S
DESCRIPTION:Starter Boys Blue - Toy Bowl
LOCATION:Our Lady of Sorrows
CATEGORIES:QuickScores, Basketball Game
TRANSP:OPAQUE
BEGIN:VALARM
TRIGGER:-PT2H
ACTION:DISPLAY
DESCRIPTION:OLS-M vs. OLS-S
END:VALARM
END:VEVENT
BEGIN:VEVENT
UID:toybowl-32224096-20170225T140000@quickscores.com
DTSTAMP:20260425T173200Z
DTSTART;TZID=America/Chicago:20170225T140000
DURATION:PT1H0M0S
SUMMARY:SRA vs. POP-S
DESCRIPTION:Starter Boys Blue - Toy Bowl
LOCATION:St. Rose Academy
CATEGORIES:QuickScores, Basketball Game
TRANSP:OPAQUE
BEGIN:VALARM
TRIGGER:-PT2H
ACTION:DISPLAY
DESCRIPTION:SRA vs. POP-S
END:VALARM
END:VEVENT
END:VCALENDAR
