BEGIN:VCALENDAR
VERSION:2.0
PRODID:-//QuickScores.com//BQ Dynamic iCal Creator//EN
METHOD:PUBLISH
X-WR-CALNAME:2010 Baseball - Spring 2010
X-WR-CALDESC:QuickScores game calendar
X-PUBLISHED-TTL:PT24H
REFRESH-INTERVAL;VALUE=DURATION:PT24H
CALSCALE:GREGORIAN
BEGIN:VTIMEZONE
TZID:America/New_York
X-LIC-LOCATION:America/New_York
BEGIN:DAYLIGHT
TZNAME:EDT
TZOFFSETFROM:-0500
TZOFFSETTO:-0400
DTSTART:19700308T020000
RRULE:FREQ=YEARLY;BYMONTH=3;BYDAY=2SU
END:DAYLIGHT
BEGIN:STANDARD
TZNAME:EST
TZOFFSETFROM:-0400
TZOFFSETTO:-0500
DTSTART:19701101T020000
RRULE:FREQ=YEARLY;BYMONTH=11;BYDAY=1SU
END:STANDARD
END:VTIMEZONE
BEGIN:VEVENT
UID:gnac-3728267-20100327@quickscores.com
DTSTAMP:20260424T004900Z
DTSTART;TZID=America/New_York:20100327
SUMMARY:Lasell vs. Norwich
DESCRIPTION:2010 Baseball - Great Northeast Athletic Conference
LOCATION:Lasell Newton
CATEGORIES:QuickScores, Baseball Game
TRANSP:OPAQUE
BEGIN:VALARM
TRIGGER:-PT2H
ACTION:DISPLAY
DESCRIPTION:Lasell vs. Norwich
END:VALARM
END:VEVENT
BEGIN:VEVENT
UID:gnac-3728268-20100327@quickscores.com
DTSTAMP:20260424T004900Z
DTSTART;TZID=America/New_York:20100327
SUMMARY:Saint Joseph's ME vs. Rivier
DESCRIPTION:2010 Baseball - Great Northeast Athletic Conference
LOCATION:Standish ME
CATEGORIES:QuickScores, Baseball Game
TRANSP:OPAQUE
BEGIN:VALARM
TRIGGER:-PT2H
ACTION:DISPLAY
DESCRIPTION:Saint Joseph's ME vs. Rivier
END:VALARM
END:VEVENT
BEGIN:VEVENT
UID:gnac-3728269-20100327@quickscores.com
DTSTAMP:20260424T004900Z
DTSTART;TZID=America/New_York:20100327
SUMMARY:Emerson vs. Albertus Magnus
DESCRIPTION:AMC can share a bus w men's tennis --- 2010 Baseball - Great Northeast Athletic Conference
LOCATION:Emerson
CATEGORIES:QuickScores, Baseball Game
TRANSP:OPAQUE
BEGIN:VALARM
TRIGGER:-PT2H
ACTION:DISPLAY
DESCRIPTION:Emerson vs. Albertus Magnus
END:VALARM
END:VEVENT
BEGIN:VEVENT
UID:gnac-3728266-20100327@quickscores.com
DTSTAMP:20260424T004900Z
DTSTART;TZID=America/New_York:20100327
SUMMARY:Suffolk vs. Johnson & Wales
DESCRIPTION:2010 Baseball - Great Northeast Athletic Conference
LOCATION:Suffolk
CATEGORIES:QuickScores, Baseball Game
TRANSP:OPAQUE
BEGIN:VALARM
TRIGGER:-PT2H
ACTION:DISPLAY
DESCRIPTION:Suffolk vs. Johnson & Wales
END:VALARM
END:VEVENT
BEGIN:VEVENT
UID:gnac-3728373-20100328@quickscores.com
DTSTAMP:20260424T004900Z
DTSTART;TZID=America/New_York:20100328
SUMMARY:Emerson vs. Lasell
DESCRIPTION:2010 Baseball - Great Northeast Athletic Conference
LOCATION:Emerson
CATEGORIES:QuickScores, Baseball Game
TRANSP:OPAQUE
BEGIN:VALARM
TRIGGER:-PT2H
ACTION:DISPLAY
DESCRIPTION:Emerson vs. Lasell
END:VALARM
END:VEVENT
BEGIN:VEVENT
UID:gnac-3728374-20100328@quickscores.com
DTSTAMP:20260424T004900Z
DTSTART;TZID=America/New_York:20100328
SUMMARY:Albertus Magnus vs. Rivier
DESCRIPTION:2010 Baseball - Great Northeast Athletic Conference
LOCATION:New Haven, CT
CATEGORIES:QuickScores, Baseball Game
TRANSP:OPAQUE
BEGIN:VALARM
TRIGGER:-PT2H
ACTION:DISPLAY
DESCRIPTION:Albertus Magnus vs. Rivier
END:VALARM
END:VEVENT
BEGIN:VEVENT
UID:gnac-3728375-20100328@quickscores.com
DTSTAMP:20260424T004900Z
DTSTART;TZID=America/New_York:20100328
SUMMARY:Johnson & Wales vs. Norwich
DESCRIPTION:2010 Baseball - Great Northeast Athletic Conference
LOCATION:Providence, RI
CATEGORIES:QuickScores, Baseball Game
TRANSP:OPAQUE
BEGIN:VALARM
TRIGGER:-PT2H
ACTION:DISPLAY
DESCRIPTION:Johnson & Wales vs. Norwich
END:VALARM
END:VEVENT
BEGIN:VEVENT
UID:gnac-3728261-20100328@quickscores.com
DTSTAMP:20260424T004900Z
DTSTART;TZID=America/New_York:20100328
SUMMARY:Suffolk vs. Saint Joseph's ME
DESCRIPTION:3 STJME can share a bus. SB @ SUF & WLAX going to PMC --- 2010 Baseball - Great Northeast Athletic Conference
LOCATION:Suffolk
CATEGORIES:QuickScores, Baseball Game
TRANSP:OPAQUE
BEGIN:VALARM
TRIGGER:-PT2H
ACTION:DISPLAY
DESCRIPTION:Suffolk vs. Saint Joseph's ME
END:VALARM
END:VEVENT
BEGIN:VEVENT
UID:gnac-3728277-20100403@quickscores.com
DTSTAMP:20260424T004900Z
DTSTART;TZID=America/New_York:20100403
SUMMARY:Lasell vs. Albertus Magnus
DESCRIPTION:2010 Baseball - Great Northeast Athletic Conference
LOCATION:Lasell Newton
CATEGORIES:QuickScores, Baseball Game
TRANSP:OPAQUE
BEGIN:VALARM
TRIGGER:-PT2H
ACTION:DISPLAY
DESCRIPTION:Lasell vs. Albertus Magnus
END:VALARM
END:VEVENT
BEGIN:VEVENT
UID:gnac-3728265-20100403@quickscores.com
DTSTAMP:20260424T004900Z
DTSTART;TZID=America/New_York:20100403
SUMMARY:Norwich vs. Suffolk
DESCRIPTION:SUF can share a bus w softball --- 2010 Baseball - Great Northeast Athletic Conference
LOCATION:Northfield, VT
CATEGORIES:QuickScores, Baseball Game
TRANSP:OPAQUE
BEGIN:VALARM
TRIGGER:-PT2H
ACTION:DISPLAY
DESCRIPTION:Norwich vs. Suffolk
END:VALARM
END:VEVENT
BEGIN:VEVENT
UID:gnac-3728264-20100403@quickscores.com
DTSTAMP:20260424T004900Z
DTSTART;TZID=America/New_York:20100403
SUMMARY:Emerson vs. Rivier
DESCRIPTION:2010 Baseball - Great Northeast Athletic Conference
LOCATION:Emerson
CATEGORIES:QuickScores, Baseball Game
TRANSP:OPAQUE
BEGIN:VALARM
TRIGGER:-PT2H
ACTION:DISPLAY
DESCRIPTION:Emerson vs. Rivier
END:VALARM
END:VEVENT
BEGIN:VEVENT
UID:gnac-3728259-20100403@quickscores.com
DTSTAMP:20260424T004900Z
DTSTART;TZID=America/New_York:20100403
SUMMARY:Saint Joseph's ME vs. Johnson & Wales
DESCRIPTION:JWU can share a bus w softball --- 2010 Baseball - Great Northeast Athletic Conference
LOCATION:Standish ME
CATEGORIES:QuickScores, Baseball Game
TRANSP:OPAQUE
BEGIN:VALARM
TRIGGER:-PT2H
ACTION:DISPLAY
DESCRIPTION:Saint Joseph's ME vs. Johnson & Wales
END:VALARM
END:VEVENT
BEGIN:VEVENT
UID:gnac-3728255-20100410@quickscores.com
DTSTAMP:20260424T004900Z
DTSTART;TZID=America/New_York:20100410
SUMMARY:Rivier vs. Johnson & Wales
DESCRIPTION:2010 Baseball - Great Northeast Athletic Conference
LOCATION:Nashua, NH
CATEGORIES:QuickScores, Baseball Game
TRANSP:OPAQUE
BEGIN:VALARM
TRIGGER:-PT2H
ACTION:DISPLAY
DESCRIPTION:Rivier vs. Johnson & Wales
END:VALARM
END:VEVENT
BEGIN:VEVENT
UID:gnac-3728271-20100410@quickscores.com
DTSTAMP:20260424T004900Z
DTSTART;TZID=America/New_York:20100410
SUMMARY:Suffolk vs. Emerson
DESCRIPTION:2010 Baseball - Great Northeast Athletic Conference
LOCATION:Suffolk
CATEGORIES:QuickScores, Baseball Game
TRANSP:OPAQUE
BEGIN:VALARM
TRIGGER:-PT2H
ACTION:DISPLAY
DESCRIPTION:Suffolk vs. Emerson
END:VALARM
END:VEVENT
BEGIN:VEVENT
UID:gnac-3728272-20100410@quickscores.com
DTSTAMP:20260424T004900Z
DTSTART;TZID=America/New_York:20100410
SUMMARY:Norwich vs. Albertus Magnus
DESCRIPTION:AMC can share a bus w softball --- 2010 Baseball - Great Northeast Athletic Conference
LOCATION:Northfield, VT
CATEGORIES:QuickScores, Baseball Game
TRANSP:OPAQUE
BEGIN:VALARM
TRIGGER:-PT2H
ACTION:DISPLAY
DESCRIPTION:Norwich vs. Albertus Magnus
END:VALARM
END:VEVENT
BEGIN:VEVENT
UID:gnac-3728273-20100410@quickscores.com
DTSTAMP:20260424T004900Z
DTSTART;TZID=America/New_York:20100410
SUMMARY:Lasell vs. Saint Joseph's ME
DESCRIPTION:2010 Baseball - Great Northeast Athletic Conference
LOCATION:Lasell Newton
CATEGORIES:QuickScores, Baseball Game
TRANSP:OPAQUE
BEGIN:VALARM
TRIGGER:-PT2H
ACTION:DISPLAY
DESCRIPTION:Lasell vs. Saint Joseph's ME
END:VALARM
END:VEVENT
BEGIN:VEVENT
UID:gnac-3728368-20100411@quickscores.com
DTSTAMP:20260424T004900Z
DTSTART;TZID=America/New_York:20100411
SUMMARY:Lasell vs. Suffolk
DESCRIPTION:2010 Baseball - Great Northeast Athletic Conference
LOCATION:Lasell Newton
CATEGORIES:QuickScores, Baseball Game
TRANSP:OPAQUE
BEGIN:VALARM
TRIGGER:-PT2H
ACTION:DISPLAY
DESCRIPTION:Lasell vs. Suffolk
END:VALARM
END:VEVENT
BEGIN:VEVENT
UID:gnac-3728254-20100411@quickscores.com
DTSTAMP:20260424T004900Z
DTSTART;TZID=America/New_York:20100411
SUMMARY:Johnson & Wales vs. Albertus Magnus
DESCRIPTION:2010 Baseball - Great Northeast Athletic Conference
LOCATION:Providence, RI
CATEGORIES:QuickScores, Baseball Game
TRANSP:OPAQUE
BEGIN:VALARM
TRIGGER:-PT2H
ACTION:DISPLAY
DESCRIPTION:Johnson & Wales vs. Albertus Magnus
END:VALARM
END:VEVENT
BEGIN:VEVENT
UID:gnac-3728270-20100411@quickscores.com
DTSTAMP:20260424T004900Z
DTSTART;TZID=America/New_York:20100411
SUMMARY:Emerson vs. Saint Joseph's ME
DESCRIPTION:2010 Baseball - Great Northeast Athletic Conference
LOCATION:Emerson
CATEGORIES:QuickScores, Baseball Game
TRANSP:OPAQUE
BEGIN:VALARM
TRIGGER:-PT2H
ACTION:DISPLAY
DESCRIPTION:Emerson vs. Saint Joseph's ME
END:VALARM
END:VEVENT
BEGIN:VEVENT
UID:gnac-3728257-20100411@quickscores.com
DTSTAMP:20260424T004900Z
DTSTART;TZID=America/New_York:20100411
SUMMARY:Rivier vs. Norwich
DESCRIPTION:2010 Baseball - Great Northeast Athletic Conference
LOCATION:Nashua, NH
CATEGORIES:QuickScores, Baseball Game
TRANSP:OPAQUE
BEGIN:VALARM
TRIGGER:-PT2H
ACTION:DISPLAY
DESCRIPTION:Rivier vs. Norwich
END:VALARM
END:VEVENT
BEGIN:VEVENT
UID:gnac-3728276-20100417@quickscores.com
DTSTAMP:20260424T004900Z
DTSTART;TZID=America/New_York:20100417
SUMMARY:Norwich vs. Saint Joseph's ME
DESCRIPTION:2010 Baseball - Great Northeast Athletic Conference
LOCATION:Standish ME
CATEGORIES:QuickScores, Baseball Game
TRANSP:OPAQUE
BEGIN:VALARM
TRIGGER:-PT2H
ACTION:DISPLAY
DESCRIPTION:Norwich vs. Saint Joseph's ME
END:VALARM
END:VEVENT
BEGIN:VEVENT
UID:gnac-3728355-20100417@quickscores.com
DTSTAMP:20260424T004900Z
DTSTART;TZID=America/New_York:20100417
SUMMARY:Johnson & Wales vs. Emerson
DESCRIPTION:2010 Baseball - Great Northeast Athletic Conference
LOCATION:Providence, RI
CATEGORIES:QuickScores, Baseball Game
TRANSP:OPAQUE
BEGIN:VALARM
TRIGGER:-PT2H
ACTION:DISPLAY
DESCRIPTION:Johnson & Wales vs. Emerson
END:VALARM
END:VEVENT
BEGIN:VEVENT
UID:gnac-3728362-20100417@quickscores.com
DTSTAMP:20260424T004900Z
DTSTART;TZID=America/New_York:20100417
SUMMARY:Rivier vs. Lasell
DESCRIPTION:2010 Baseball - Great Northeast Athletic Conference
LOCATION:Nashua, NH
CATEGORIES:QuickScores, Baseball Game
TRANSP:OPAQUE
BEGIN:VALARM
TRIGGER:-PT2H
ACTION:DISPLAY
DESCRIPTION:Rivier vs. Lasell
END:VALARM
END:VEVENT
BEGIN:VEVENT
UID:gnac-3728258-20100417@quickscores.com
DTSTAMP:20260424T004900Z
DTSTART;TZID=America/New_York:20100417
SUMMARY:Albertus Magnus vs. Suffolk
DESCRIPTION:2010 Baseball - Great Northeast Athletic Conference
LOCATION:New Haven, CT
CATEGORIES:QuickScores, Baseball Game
TRANSP:OPAQUE
BEGIN:VALARM
TRIGGER:-PT2H
ACTION:DISPLAY
DESCRIPTION:Albertus Magnus vs. Suffolk
END:VALARM
END:VEVENT
BEGIN:VEVENT
UID:gnac-3728256-20100418@quickscores.com
DTSTAMP:20260424T004900Z
DTSTART;TZID=America/New_York:20100418
SUMMARY:Norwich vs. Emerson
DESCRIPTION:2010 Baseball - Great Northeast Athletic Conference
LOCATION:Northfield, VT
CATEGORIES:QuickScores, Baseball Game
TRANSP:OPAQUE
BEGIN:VALARM
TRIGGER:-PT2H
ACTION:DISPLAY
DESCRIPTION:Norwich vs. Emerson
END:VALARM
END:VEVENT
BEGIN:VEVENT
UID:gnac-3728263-20100418@quickscores.com
DTSTAMP:20260424T004900Z
DTSTART;TZID=America/New_York:20100418
SUMMARY:Johnson & Wales vs. Lasell
DESCRIPTION:2010 Baseball - Great Northeast Athletic Conference
LOCATION:Providence, RI
CATEGORIES:QuickScores, Baseball Game
TRANSP:OPAQUE
BEGIN:VALARM
TRIGGER:-PT2H
ACTION:DISPLAY
DESCRIPTION:Johnson & Wales vs. Lasell
END:VALARM
END:VEVENT
BEGIN:VEVENT
UID:gnac-3728330-20100418@quickscores.com
DTSTAMP:20260424T004900Z
DTSTART;TZID=America/New_York:20100418
SUMMARY:Suffolk vs. Rivier
DESCRIPTION:2010 Baseball - Great Northeast Athletic Conference
LOCATION:Suffolk
CATEGORIES:QuickScores, Baseball Game
TRANSP:OPAQUE
BEGIN:VALARM
TRIGGER:-PT2H
ACTION:DISPLAY
DESCRIPTION:Suffolk vs. Rivier
END:VALARM
END:VEVENT
BEGIN:VEVENT
UID:gnac-3728278-20100418@quickscores.com
DTSTAMP:20260424T004900Z
DTSTART;TZID=America/New_York:20100418
SUMMARY:Saint Joseph's ME vs. Albertus Magnus
DESCRIPTION:2010 Baseball - Great Northeast Athletic Conference
LOCATION:Standish ME
CATEGORIES:QuickScores, Baseball Game
TRANSP:OPAQUE
BEGIN:VALARM
TRIGGER:-PT2H
ACTION:DISPLAY
DESCRIPTION:Saint Joseph's ME vs. Albertus Magnus
END:VALARM
END:VEVENT
BEGIN:VEVENT
UID:gnac-3728392-20100429@quickscores.com
DTSTAMP:20260424T004900Z
DTSTART;TZID=America/New_York:20100429
SUMMARY:#1 Seed vs. Winner of #5 vs. #4
DESCRIPTION:2010 Baseball - Great Northeast Athletic Conference
LOCATION:Field of #1 seed
CATEGORIES:QuickScores, Baseball Game
TRANSP:OPAQUE
BEGIN:VALARM
TRIGGER:-PT2H
ACTION:DISPLAY
DESCRIPTION:#1 Seed vs. Winner of #5 vs. #4
END:VALARM
END:VEVENT
BEGIN:VEVENT
UID:gnac-3728274-20100429@quickscores.com
DTSTAMP:20260424T004900Z
DTSTART;TZID=America/New_York:20100429
SUMMARY:#2 Seed vs. Winner of #6 vs. #3
DESCRIPTION:2010 Baseball - Great Northeast Athletic Conference
LOCATION:Field of #2 seed
CATEGORIES:QuickScores, Baseball Game
TRANSP:OPAQUE
BEGIN:VALARM
TRIGGER:-PT2H
ACTION:DISPLAY
DESCRIPTION:#2 Seed vs. Winner of #6 vs. #3
END:VALARM
END:VEVENT
BEGIN:VEVENT
UID:gnac-3728394-20100501@quickscores.com
DTSTAMP:20260424T004900Z
DTSTART;TZID=America/New_York:20100501
SUMMARY:Loser of Game 1 vs. Loser of Game 2
DESCRIPTION:2010 Baseball - Great Northeast Athletic Conference
LOCATION:Predetermined tournament host site
CATEGORIES:QuickScores, Baseball Game
TRANSP:OPAQUE
BEGIN:VALARM
TRIGGER:-PT2H
ACTION:DISPLAY
DESCRIPTION:Loser of Game 1 vs. Loser of Game 2
END:VALARM
END:VEVENT
BEGIN:VEVENT
UID:gnac-3728393-20100501@quickscores.com
DTSTAMP:20260424T004900Z
DTSTART;TZID=America/New_York:20100501
SUMMARY:Winner of Game 1 vs. Winner of Game 2
DESCRIPTION:2010 Baseball - Great Northeast Athletic Conference
LOCATION:Predetermined tournament host site
CATEGORIES:QuickScores, Baseball Game
TRANSP:OPAQUE
BEGIN:VALARM
TRIGGER:-PT2H
ACTION:DISPLAY
DESCRIPTION:Winner of Game 1 vs. Winner of Game 2
END:VALARM
END:VEVENT
BEGIN:VEVENT
UID:gnac-3728378-20100501@quickscores.com
DTSTAMP:20260424T004900Z
DTSTART;TZID=America/New_York:20100501
SUMMARY:Loser of Game 3 vs. Winner of Game 4
DESCRIPTION:2010 Baseball - Great Northeast Athletic Conference
LOCATION:Predetermined tournament host site
CATEGORIES:QuickScores, Baseball Game
TRANSP:OPAQUE
BEGIN:VALARM
TRIGGER:-PT2H
ACTION:DISPLAY
DESCRIPTION:Loser of Game 3 vs. Winner of Game 4
END:VALARM
END:VEVENT
BEGIN:VEVENT
UID:gnac-3728379-20100502@quickscores.com
DTSTAMP:20260424T004900Z
DTSTART;TZID=America/New_York:20100502
SUMMARY:Winner of Game 3 vs. Winner of Game 5
DESCRIPTION:2010 Baseball - Great Northeast Athletic Conference
LOCATION:Predetermined tournament host site
CATEGORIES:QuickScores, Baseball Game
TRANSP:OPAQUE
BEGIN:VALARM
TRIGGER:-PT2H
ACTION:DISPLAY
DESCRIPTION:Winner of Game 3 vs. Winner of Game 5
END:VALARM
END:VEVENT
BEGIN:VEVENT
UID:gnac-3728382-20100502@quickscores.com
DTSTAMP:20260424T004900Z
DTSTART;TZID=America/New_York:20100502
SUMMARY:Winner of Game 6 vs. Loser of Game 6
DESCRIPTION:2010 Baseball - Great Northeast Athletic Conference
LOCATION:Predetermined tournament host site
CATEGORIES:QuickScores, Baseball Game
TRANSP:OPAQUE
BEGIN:VALARM
TRIGGER:-PT2H
ACTION:DISPLAY
DESCRIPTION:Winner of Game 6 vs. Loser of Game 6
END:VALARM
END:VEVENT
END:VCALENDAR
