BEGIN:VCALENDAR
VERSION:2.0
PRODID:-//QuickScores.com//BQ Dynamic iCal Creator//EN
METHOD:PUBLISH
X-WR-CALNAME:2016 Men&#039;s Soccer - Fall 2016
X-WR-CALDESC:QuickScores game calendar
X-PUBLISHED-TTL:PT24H
REFRESH-INTERVAL;VALUE=DURATION:PT24H
CALSCALE:GREGORIAN
BEGIN:VTIMEZONE
TZID:America/New_York
X-LIC-LOCATION:America/New_York
BEGIN:DAYLIGHT
TZNAME:EDT
TZOFFSETFROM:-0500
TZOFFSETTO:-0400
DTSTART:19700308T020000
RRULE:FREQ=YEARLY;BYMONTH=3;BYDAY=2SU
END:DAYLIGHT
BEGIN:STANDARD
TZNAME:EST
TZOFFSETFROM:-0400
TZOFFSETTO:-0500
DTSTART:19701101T020000
RRULE:FREQ=YEARLY;BYMONTH=11;BYDAY=1SU
END:STANDARD
END:VTIMEZONE
BEGIN:VEVENT
UID:gnac-26165235-20160910@quickscores.com
DTSTAMP:20260425T052900Z
DTSTART;TZID=America/New_York:20160910
SUMMARY:Emmanuel vs. Norwich
DESCRIPTION:2016 DH. NOR can share a bus w WS --- 2016 Men's Soccer - Great Northeast Athletic Conference
LOCATION:Roberto Clemente Field
CATEGORIES:QuickScores, Soccer Game
TRANSP:OPAQUE
BEGIN:VALARM
TRIGGER:-PT2H
ACTION:DISPLAY
DESCRIPTION:Emmanuel vs. Norwich
END:VALARM
END:VEVENT
BEGIN:VEVENT
UID:gnac-26165240-20160910@quickscores.com
DTSTAMP:20260425T052900Z
DTSTART;TZID=America/New_York:20160910
SUMMARY:Mount Ida vs. Saint Joseph ME
DESCRIPTION:NODHP --- 2016 Men's Soccer - Great Northeast Athletic Conference
LOCATION:Mount Ida
CATEGORIES:QuickScores, Soccer Game
TRANSP:OPAQUE
BEGIN:VALARM
TRIGGER:-PT2H
ACTION:DISPLAY
DESCRIPTION:Mount Ida vs. Saint Joseph ME
END:VALARM
END:VEVENT
BEGIN:VEVENT
UID:gnac-26165222-20160910@quickscores.com
DTSTAMP:20260425T052900Z
DTSTART;TZID=America/New_York:20160910
SUMMARY:Anna Maria vs. Lasell
DESCRIPTION:2016 Men's Soccer - Great Northeast Athletic Conference
LOCATION:Paxton MA
CATEGORIES:QuickScores, Soccer Game
TRANSP:OPAQUE
BEGIN:VALARM
TRIGGER:-PT2H
ACTION:DISPLAY
DESCRIPTION:Anna Maria vs. Lasell
END:VALARM
END:VEVENT
BEGIN:VEVENT
UID:gnac-26165268-20160910@quickscores.com
DTSTAMP:20260425T052900Z
DTSTART;TZID=America/New_York:20160910
SUMMARY:Johnson & Wales vs. Rivier
DESCRIPTION:2016 Men's Soccer - Great Northeast Athletic Conference
LOCATION:Scotts Miracle Gro Athletic Complex
CATEGORIES:QuickScores, Soccer Game
TRANSP:OPAQUE
BEGIN:VALARM
TRIGGER:-PT2H
ACTION:DISPLAY
DESCRIPTION:Johnson & Wales vs. Rivier
END:VALARM
END:VEVENT
BEGIN:VEVENT
UID:gnac-26165245-20160910@quickscores.com
DTSTAMP:20260425T052900Z
DTSTART;TZID=America/New_York:20160910
SUMMARY:Albertus Magnus vs. Suffolk
DESCRIPTION:2016 Men's Soccer - Great Northeast Athletic Conference
LOCATION:New Haven, CT
CATEGORIES:QuickScores, Soccer Game
TRANSP:OPAQUE
BEGIN:VALARM
TRIGGER:-PT2H
ACTION:DISPLAY
DESCRIPTION:Albertus Magnus vs. Suffolk
END:VALARM
END:VEVENT
BEGIN:VEVENT
UID:gnac-26165232-20160917@quickscores.com
DTSTAMP:20260425T052900Z
DTSTART;TZID=America/New_York:20160917
SUMMARY:Mount Ida vs. Anna Maria
DESCRIPTION:2016 DH. Anna Maria can share a bus w WS --- 2016 Men's Soccer - Great Northeast Athletic Conference
LOCATION:Mount Ida
CATEGORIES:QuickScores, Soccer Game
TRANSP:OPAQUE
BEGIN:VALARM
TRIGGER:-PT2H
ACTION:DISPLAY
DESCRIPTION:Mount Ida vs. Anna Maria
END:VALARM
END:VEVENT
BEGIN:VEVENT
UID:gnac-26165253-20160917@quickscores.com
DTSTAMP:20260425T052900Z
DTSTART;TZID=America/New_York:20160917
SUMMARY:Lasell vs. Albertus Magnus
DESCRIPTION:2016 Men's Soccer - Great Northeast Athletic Conference
LOCATION:Taylor Field at Lasell College
CATEGORIES:QuickScores, Soccer Game
TRANSP:OPAQUE
BEGIN:VALARM
TRIGGER:-PT2H
ACTION:DISPLAY
DESCRIPTION:Lasell vs. Albertus Magnus
END:VALARM
END:VEVENT
BEGIN:VEVENT
UID:gnac-26165237-20160917@quickscores.com
DTSTAMP:20260425T052900Z
DTSTART;TZID=America/New_York:20160917
SUMMARY:Rivier vs. Saint Joseph ME
DESCRIPTION:2016 DH. STJME can share a bus with WS --- 2016 Men's Soccer - Great Northeast Athletic Conference
LOCATION:Nashua, NH
CATEGORIES:QuickScores, Soccer Game
TRANSP:OPAQUE
BEGIN:VALARM
TRIGGER:-PT2H
ACTION:DISPLAY
DESCRIPTION:Rivier vs. Saint Joseph ME
END:VALARM
END:VEVENT
BEGIN:VEVENT
UID:gnac-26165225-20160917@quickscores.com
DTSTAMP:20260425T052900Z
DTSTART;TZID=America/New_York:20160917
SUMMARY:Norwich vs. Johnson & Wales
DESCRIPTION:2016 DH. JWU MS&WS can share a bus --- 2016 Men's Soccer - Great Northeast Athletic Conference
LOCATION:Northfield, VT
CATEGORIES:QuickScores, Soccer Game
TRANSP:OPAQUE
BEGIN:VALARM
TRIGGER:-PT2H
ACTION:DISPLAY
DESCRIPTION:Norwich vs. Johnson & Wales
END:VALARM
END:VEVENT
BEGIN:VEVENT
UID:gnac-26165236-20160924@quickscores.com
DTSTAMP:20260425T052900Z
DTSTART;TZID=America/New_York:20160924
SUMMARY:Saint Joseph ME vs. Emmanuel
DESCRIPTION:2016 Men's Soccer - Great Northeast Athletic Conference
LOCATION:Standish ME
CATEGORIES:QuickScores, Soccer Game
TRANSP:OPAQUE
BEGIN:VALARM
TRIGGER:-PT2H
ACTION:DISPLAY
DESCRIPTION:Saint Joseph ME vs. Emmanuel
END:VALARM
END:VEVENT
BEGIN:VEVENT
UID:gnac-26165230-20160924@quickscores.com
DTSTAMP:20260425T052900Z
DTSTART;TZID=America/New_York:20160924
SUMMARY:Albertus Magnus vs. Mount Ida
DESCRIPTION:NODHP in soccer --- 2016 Men's Soccer - Great Northeast Athletic Conference
LOCATION:New Haven, CT
CATEGORIES:QuickScores, Soccer Game
TRANSP:OPAQUE
BEGIN:VALARM
TRIGGER:-PT2H
ACTION:DISPLAY
DESCRIPTION:Albertus Magnus vs. Mount Ida
END:VALARM
END:VEVENT
BEGIN:VEVENT
UID:gnac-26165229-20160924@quickscores.com
DTSTAMP:20260425T052900Z
DTSTART;TZID=America/New_York:20160924
SUMMARY:Lasell vs. Norwich
DESCRIPTION:NO DH possible. --- 2016 Men's Soccer - Great Northeast Athletic Conference
LOCATION:Taylor Field at Lasell College
CATEGORIES:QuickScores, Soccer Game
TRANSP:OPAQUE
BEGIN:VALARM
TRIGGER:-PT2H
ACTION:DISPLAY
DESCRIPTION:Lasell vs. Norwich
END:VALARM
END:VEVENT
BEGIN:VEVENT
UID:gnac-26165251-20160924@quickscores.com
DTSTAMP:20260425T052900Z
DTSTART;TZID=America/New_York:20160924
SUMMARY:Suffolk vs. Johnson & Wales
DESCRIPTION:2016 Men's Soccer - Great Northeast Athletic Conference
LOCATION:East Boston Memorial Field
CATEGORIES:QuickScores, Soccer Game
TRANSP:OPAQUE
BEGIN:VALARM
TRIGGER:-PT2H
ACTION:DISPLAY
DESCRIPTION:Suffolk vs. Johnson & Wales
END:VALARM
END:VEVENT
BEGIN:VEVENT
UID:gnac-26165218-20160924@quickscores.com
DTSTAMP:20260425T052900Z
DTSTART;TZID=America/New_York:20160924
SUMMARY:Anna Maria vs. Rivier
DESCRIPTION:2016 Men's Soccer - Great Northeast Athletic Conference
LOCATION:Paxton MA
CATEGORIES:QuickScores, Soccer Game
TRANSP:OPAQUE
BEGIN:VALARM
TRIGGER:-PT2H
ACTION:DISPLAY
DESCRIPTION:Anna Maria vs. Rivier
END:VALARM
END:VEVENT
BEGIN:VEVENT
UID:gnac-26165227-20161001@quickscores.com
DTSTAMP:20260425T052900Z
DTSTART;TZID=America/New_York:20161001
SUMMARY:Rivier vs. Mount Ida
DESCRIPTION:2016 DH. Anna Mount Ida can share a bus w WS --- 2016 Men's Soccer - Great Northeast Athletic Conference
LOCATION:Nashua, NH
CATEGORIES:QuickScores, Soccer Game
TRANSP:OPAQUE
BEGIN:VALARM
TRIGGER:-PT2H
ACTION:DISPLAY
DESCRIPTION:Rivier vs. Mount Ida
END:VALARM
END:VEVENT
BEGIN:VEVENT
UID:gnac-26165255-20161001@quickscores.com
DTSTAMP:20260425T052900Z
DTSTART;TZID=America/New_York:20161001
SUMMARY:Suffolk vs. Lasell
DESCRIPTION:2016 Men's Soccer - Great Northeast Athletic Conference
LOCATION:East Boston Memorial Field
CATEGORIES:QuickScores, Soccer Game
TRANSP:OPAQUE
BEGIN:VALARM
TRIGGER:-PT2H
ACTION:DISPLAY
DESCRIPTION:Suffolk vs. Lasell
END:VALARM
END:VEVENT
BEGIN:VEVENT
UID:gnac-26165254-20161001@quickscores.com
DTSTAMP:20260425T052900Z
DTSTART;TZID=America/New_York:20161001
SUMMARY:Albertus Magnus vs. Emmanuel
DESCRIPTION:2016 EMM can share a bus with WS --- 2016 Men's Soccer - Great Northeast Athletic Conference
LOCATION:New Haven, CT
CATEGORIES:QuickScores, Soccer Game
TRANSP:OPAQUE
BEGIN:VALARM
TRIGGER:-PT2H
ACTION:DISPLAY
DESCRIPTION:Albertus Magnus vs. Emmanuel
END:VALARM
END:VEVENT
BEGIN:VEVENT
UID:gnac-26165273-20161001@quickscores.com
DTSTAMP:20260425T052900Z
DTSTART;TZID=America/New_York:20161001
SUMMARY:Norwich vs. Anna Maria
DESCRIPTION:2016 DH. Anna Maria can share a bus w WS --- 2016 Men's Soccer - Great Northeast Athletic Conference
LOCATION:Northfield, VT
CATEGORIES:QuickScores, Soccer Game
TRANSP:OPAQUE
BEGIN:VALARM
TRIGGER:-PT2H
ACTION:DISPLAY
DESCRIPTION:Norwich vs. Anna Maria
END:VALARM
END:VEVENT
BEGIN:VEVENT
UID:gnac-26165262-20161001@quickscores.com
DTSTAMP:20260425T052900Z
DTSTART;TZID=America/New_York:20161001
SUMMARY:Saint Joseph ME vs. Johnson & Wales
DESCRIPTION:2016 Men's Soccer - Great Northeast Athletic Conference
LOCATION:Standish ME
CATEGORIES:QuickScores, Soccer Game
TRANSP:OPAQUE
BEGIN:VALARM
TRIGGER:-PT2H
ACTION:DISPLAY
DESCRIPTION:Saint Joseph ME vs. Johnson & Wales
END:VALARM
END:VEVENT
BEGIN:VEVENT
UID:gnac-26165260-20161005@quickscores.com
DTSTAMP:20260425T052900Z
DTSTART;TZID=America/New_York:20161005
SUMMARY:Emmanuel vs. Lasell
DESCRIPTION:2016 Men's Soccer - Great Northeast Athletic Conference
LOCATION:Roberto Clemente Field
CATEGORIES:QuickScores, Soccer Game
TRANSP:OPAQUE
BEGIN:VALARM
TRIGGER:-PT2H
ACTION:DISPLAY
DESCRIPTION:Emmanuel vs. Lasell
END:VALARM
END:VEVENT
BEGIN:VEVENT
UID:gnac-26165224-20161005@quickscores.com
DTSTAMP:20260425T052900Z
DTSTART;TZID=America/New_York:20161005
SUMMARY:Mount Ida vs. Suffolk
DESCRIPTION:2016 Men's Soccer - Great Northeast Athletic Conference
LOCATION:Mount Ida
CATEGORIES:QuickScores, Soccer Game
TRANSP:OPAQUE
BEGIN:VALARM
TRIGGER:-PT2H
ACTION:DISPLAY
DESCRIPTION:Mount Ida vs. Suffolk
END:VALARM
END:VEVENT
BEGIN:VEVENT
UID:gnac-26165243-20161008@quickscores.com
DTSTAMP:20260425T052900Z
DTSTART;TZID=America/New_York:20161008
SUMMARY:Albertus Magnus vs. Saint Joseph ME
DESCRIPTION:2016 NODHP in soccer --- 2016 Men's Soccer - Great Northeast Athletic Conference
LOCATION:New Haven, CT
CATEGORIES:QuickScores, Soccer Game
TRANSP:OPAQUE
BEGIN:VALARM
TRIGGER:-PT2H
ACTION:DISPLAY
DESCRIPTION:Albertus Magnus vs. Saint Joseph ME
END:VALARM
END:VEVENT
BEGIN:VEVENT
UID:gnac-26165221-20161008@quickscores.com
DTSTAMP:20260425T052900Z
DTSTART;TZID=America/New_York:20161008
SUMMARY:Emmanuel vs. Anna Maria
DESCRIPTION:2016 DH Anna Maria can share a bus w WS. 2016 Maria has home football --- 2016 Men's Soccer - Great Northeast Athletic Conference
LOCATION:Roberto Clemente Field
CATEGORIES:QuickScores, Soccer Game
TRANSP:OPAQUE
BEGIN:VALARM
TRIGGER:-PT2H
ACTION:DISPLAY
DESCRIPTION:Emmanuel vs. Anna Maria
END:VALARM
END:VEVENT
BEGIN:VEVENT
UID:gnac-26165238-20161008@quickscores.com
DTSTAMP:20260425T052900Z
DTSTART;TZID=America/New_York:20161008
SUMMARY:Lasell vs. Rivier
DESCRIPTION:2016 Men's Soccer - Great Northeast Athletic Conference
LOCATION:Taylor Field at Lasell College
CATEGORIES:QuickScores, Soccer Game
TRANSP:OPAQUE
BEGIN:VALARM
TRIGGER:-PT2H
ACTION:DISPLAY
DESCRIPTION:Lasell vs. Rivier
END:VALARM
END:VEVENT
BEGIN:VEVENT
UID:gnac-26165228-20161008@quickscores.com
DTSTAMP:20260425T052900Z
DTSTART;TZID=America/New_York:20161008
SUMMARY:Norwich vs. Suffolk
DESCRIPTION:2016 DH. SUF MS can share bus w WS --- 2016 Men's Soccer - Great Northeast Athletic Conference
LOCATION:Northfield, VT
CATEGORIES:QuickScores, Soccer Game
TRANSP:OPAQUE
BEGIN:VALARM
TRIGGER:-PT2H
ACTION:DISPLAY
DESCRIPTION:Norwich vs. Suffolk
END:VALARM
END:VEVENT
BEGIN:VEVENT
UID:gnac-26165261-20161008@quickscores.com
DTSTAMP:20260425T052900Z
DTSTART;TZID=America/New_York:20161008
SUMMARY:Johnson & Wales vs. Mount Ida
DESCRIPTION:2016 DH. IDA can bus w WS --- 2016 Men's Soccer - Great Northeast Athletic Conference
LOCATION:Scotts Miracle Gro Athletic Complex
CATEGORIES:QuickScores, Soccer Game
TRANSP:OPAQUE
BEGIN:VALARM
TRIGGER:-PT2H
ACTION:DISPLAY
DESCRIPTION:Johnson & Wales vs. Mount Ida
END:VALARM
END:VEVENT
BEGIN:VEVENT
UID:gnac-26165267-20161010@quickscores.com
DTSTAMP:20260425T052900Z
DTSTART;TZID=America/New_York:20161010
SUMMARY:Rivier vs. Albertus Magnus
DESCRIPTION:NO Soccer DHP --- 2016 Men's Soccer - Great Northeast Athletic Conference
LOCATION:Nashua, NH
CATEGORIES:QuickScores, Soccer Game
TRANSP:OPAQUE
BEGIN:VALARM
TRIGGER:-PT2H
ACTION:DISPLAY
DESCRIPTION:Rivier vs. Albertus Magnus
END:VALARM
END:VEVENT
BEGIN:VEVENT
UID:gnac-26165271-20161010@quickscores.com
DTSTAMP:20260425T052900Z
DTSTART;TZID=America/New_York:20161010
SUMMARY:Lasell vs. Johnson & Wales
DESCRIPTION:2016 Men's Soccer - Great Northeast Athletic Conference
LOCATION:Taylor Field at Lasell College
CATEGORIES:QuickScores, Soccer Game
TRANSP:OPAQUE
BEGIN:VALARM
TRIGGER:-PT2H
ACTION:DISPLAY
DESCRIPTION:Lasell vs. Johnson & Wales
END:VALARM
END:VEVENT
BEGIN:VEVENT
UID:gnac-26165252-20161010@quickscores.com
DTSTAMP:20260425T052900Z
DTSTART;TZID=America/New_York:20161010
SUMMARY:Norwich vs. Mount Ida
DESCRIPTION:2016 Men's Soccer - Great Northeast Athletic Conference
LOCATION:Northfield, VT
CATEGORIES:QuickScores, Soccer Game
TRANSP:OPAQUE
BEGIN:VALARM
TRIGGER:-PT2H
ACTION:DISPLAY
DESCRIPTION:Norwich vs. Mount Ida
END:VALARM
END:VEVENT
BEGIN:VEVENT
UID:gnac-26165241-20161010@quickscores.com
DTSTAMP:20260425T052900Z
DTSTART;TZID=America/New_York:20161010
SUMMARY:Suffolk vs. Emmanuel
DESCRIPTION:2016 Men's Soccer - Great Northeast Athletic Conference
LOCATION:Suffolk
CATEGORIES:QuickScores, Soccer Game
TRANSP:OPAQUE
BEGIN:VALARM
TRIGGER:-PT2H
ACTION:DISPLAY
DESCRIPTION:Suffolk vs. Emmanuel
END:VALARM
END:VEVENT
BEGIN:VEVENT
UID:gnac-26165231-20161010@quickscores.com
DTSTAMP:20260425T052900Z
DTSTART;TZID=America/New_York:20161010
SUMMARY:Anna Maria vs. Saint Joseph ME
DESCRIPTION:NO Soccer DHP --- 2016 Men's Soccer - Great Northeast Athletic Conference
LOCATION:Paxton MA
CATEGORIES:QuickScores, Soccer Game
TRANSP:OPAQUE
BEGIN:VALARM
TRIGGER:-PT2H
ACTION:DISPLAY
DESCRIPTION:Anna Maria vs. Saint Joseph ME
END:VALARM
END:VEVENT
BEGIN:VEVENT
UID:gnac-26165239-20161015@quickscores.com
DTSTAMP:20260425T052900Z
DTSTART;TZID=America/New_York:20161015
SUMMARY:Norwich vs. Saint Joseph ME
DESCRIPTION:2016 DH. STJME MS & WS can share a bus --- 2016 Men's Soccer - Great Northeast Athletic Conference
LOCATION:Northfield, VT
CATEGORIES:QuickScores, Soccer Game
TRANSP:OPAQUE
BEGIN:VALARM
TRIGGER:-PT2H
ACTION:DISPLAY
DESCRIPTION:Norwich vs. Saint Joseph ME
END:VALARM
END:VEVENT
BEGIN:VEVENT
UID:gnac-26165256-20161015@quickscores.com
DTSTAMP:20260425T052900Z
DTSTART;TZID=America/New_York:20161015
SUMMARY:Lasell vs. Mount Ida
DESCRIPTION:2016 LAS Family weekend. 2016 Mount Ida has home football --- 2016 Men's Soccer - Great Northeast Athletic Conference
LOCATION:Taylor Field at Lasell College
CATEGORIES:QuickScores, Soccer Game
TRANSP:OPAQUE
BEGIN:VALARM
TRIGGER:-PT2H
ACTION:DISPLAY
DESCRIPTION:Lasell vs. Mount Ida
END:VALARM
END:VEVENT
BEGIN:VEVENT
UID:gnac-26165242-20161015@quickscores.com
DTSTAMP:20260425T052900Z
DTSTART;TZID=America/New_York:20161015
SUMMARY:Emmanuel vs. Rivier
DESCRIPTION:2016 Men's Soccer - Great Northeast Athletic Conference
LOCATION:Roberto Clemente Field
CATEGORIES:QuickScores, Soccer Game
TRANSP:OPAQUE
BEGIN:VALARM
TRIGGER:-PT2H
ACTION:DISPLAY
DESCRIPTION:Emmanuel vs. Rivier
END:VALARM
END:VEVENT
BEGIN:VEVENT
UID:gnac-26165244-20161015@quickscores.com
DTSTAMP:20260425T052900Z
DTSTART;TZID=America/New_York:20161015
SUMMARY:Johnson & Wales vs. Albertus Magnus
DESCRIPTION:2016 DH. Albertus MS&WS can share a bus. --- 2016 Men's Soccer - Great Northeast Athletic Conference
LOCATION:Scotts Miracle Gro Athletic Complex
CATEGORIES:QuickScores, Soccer Game
TRANSP:OPAQUE
BEGIN:VALARM
TRIGGER:-PT2H
ACTION:DISPLAY
DESCRIPTION:Johnson & Wales vs. Albertus Magnus
END:VALARM
END:VEVENT
BEGIN:VEVENT
UID:gnac-26165217-20161015@quickscores.com
DTSTAMP:20260425T052900Z
DTSTART;TZID=America/New_York:20161015
SUMMARY:Suffolk vs. Anna Maria
DESCRIPTION:2016 MS could share bus w WS going to SIM --- 2016 Men's Soccer - Great Northeast Athletic Conference
LOCATION:East Boston Memorial Field
CATEGORIES:QuickScores, Soccer Game
TRANSP:OPAQUE
BEGIN:VALARM
TRIGGER:-PT2H
ACTION:DISPLAY
DESCRIPTION:Suffolk vs. Anna Maria
END:VALARM
END:VEVENT
BEGIN:VEVENT
UID:gnac-26165223-20161019@quickscores.com
DTSTAMP:20260425T052900Z
DTSTART;TZID=America/New_York:20161019
SUMMARY:Johnson & Wales vs. Emmanuel
DESCRIPTION:2016 Men's Soccer - Great Northeast Athletic Conference
LOCATION:Scotts Miracle Gro Athletic Complex
CATEGORIES:QuickScores, Soccer Game
TRANSP:OPAQUE
BEGIN:VALARM
TRIGGER:-PT2H
ACTION:DISPLAY
DESCRIPTION:Johnson & Wales vs. Emmanuel
END:VALARM
END:VEVENT
BEGIN:VEVENT
UID:gnac-26165226-20161019@quickscores.com
DTSTAMP:20260425T052900Z
DTSTART;TZID=America/New_York:20161019
SUMMARY:Rivier vs. Norwich
DESCRIPTION:2016 DH w WS. NOR could share a bus. --- 2016 Men's Soccer - Great Northeast Athletic Conference
LOCATION:Nashua, NH
CATEGORIES:QuickScores, Soccer Game
TRANSP:OPAQUE
BEGIN:VALARM
TRIGGER:-PT2H
ACTION:DISPLAY
DESCRIPTION:Rivier vs. Norwich
END:VALARM
END:VEVENT
BEGIN:VEVENT
UID:gnac-26165263-20161019@quickscores.com
DTSTAMP:20260425T052900Z
DTSTART;TZID=America/New_York:20161019
SUMMARY:Saint Joseph ME vs. Suffolk
DESCRIPTION:2016 Men's Soccer - Great Northeast Athletic Conference
LOCATION:Standish ME
CATEGORIES:QuickScores, Soccer Game
TRANSP:OPAQUE
BEGIN:VALARM
TRIGGER:-PT2H
ACTION:DISPLAY
DESCRIPTION:Saint Joseph ME vs. Suffolk
END:VALARM
END:VEVENT
BEGIN:VEVENT
UID:gnac-26165234-20161019@quickscores.com
DTSTAMP:20260425T052900Z
DTSTART;TZID=America/New_York:20161019
SUMMARY:Anna Maria vs. Albertus Magnus
DESCRIPTION:2016 Men's Soccer - Great Northeast Athletic Conference
LOCATION:Paxton MA
CATEGORIES:QuickScores, Soccer Game
TRANSP:OPAQUE
BEGIN:VALARM
TRIGGER:-PT2H
ACTION:DISPLAY
DESCRIPTION:Anna Maria vs. Albertus Magnus
END:VALARM
END:VEVENT
BEGIN:VEVENT
UID:gnac-26165233-20161022@quickscores.com
DTSTAMP:20260425T052900Z
DTSTART;TZID=America/New_York:20161022
SUMMARY:Anna Maria vs. Johnson & Wales
DESCRIPTION:2016 DH w WS --- 2016 Men's Soccer - Great Northeast Athletic Conference
LOCATION:Paxton MA
CATEGORIES:QuickScores, Soccer Game
TRANSP:OPAQUE
BEGIN:VALARM
TRIGGER:-PT2H
ACTION:DISPLAY
DESCRIPTION:Anna Maria vs. Johnson & Wales
END:VALARM
END:VEVENT
BEGIN:VEVENT
UID:gnac-26165258-20161022@quickscores.com
DTSTAMP:20260425T052900Z
DTSTART;TZID=America/New_York:20161022
SUMMARY:Suffolk vs. Rivier
DESCRIPTION:2016 Men's Soccer - Great Northeast Athletic Conference
LOCATION:Suffolk
CATEGORIES:QuickScores, Soccer Game
TRANSP:OPAQUE
BEGIN:VALARM
TRIGGER:-PT2H
ACTION:DISPLAY
DESCRIPTION:Suffolk vs. Rivier
END:VALARM
END:VEVENT
BEGIN:VEVENT
UID:gnac-26165264-20161022@quickscores.com
DTSTAMP:20260425T052900Z
DTSTART;TZID=America/New_York:20161022
SUMMARY:Albertus Magnus vs. Norwich
DESCRIPTION:2016 DH NOR can share bus w WS --- 2016 Men's Soccer - Great Northeast Athletic Conference
LOCATION:New Haven, CT
CATEGORIES:QuickScores, Soccer Game
TRANSP:OPAQUE
BEGIN:VALARM
TRIGGER:-PT2H
ACTION:DISPLAY
DESCRIPTION:Albertus Magnus vs. Norwich
END:VALARM
END:VEVENT
BEGIN:VEVENT
UID:gnac-26165269-20161022@quickscores.com
DTSTAMP:20260425T052900Z
DTSTART;TZID=America/New_York:20161022
SUMMARY:Mount Ida vs. Emmanuel
DESCRIPTION:2016 Men's Soccer - Great Northeast Athletic Conference
LOCATION:Mount Ida
CATEGORIES:QuickScores, Soccer Game
TRANSP:OPAQUE
BEGIN:VALARM
TRIGGER:-PT2H
ACTION:DISPLAY
DESCRIPTION:Mount Ida vs. Emmanuel
END:VALARM
END:VEVENT
BEGIN:VEVENT
UID:gnac-26165247-20161022@quickscores.com
DTSTAMP:20260425T052900Z
DTSTART;TZID=America/New_York:20161022
SUMMARY:Saint Joseph ME vs. Lasell
DESCRIPTION:2016 DH w WS --- 2016 Men's Soccer - Great Northeast Athletic Conference
LOCATION:Standish ME
CATEGORIES:QuickScores, Soccer Game
TRANSP:OPAQUE
BEGIN:VALARM
TRIGGER:-PT2H
ACTION:DISPLAY
DESCRIPTION:Saint Joseph ME vs. Lasell
END:VALARM
END:VEVENT
BEGIN:VEVENT
UID:gnac-26165266-20161029@quickscores.com
DTSTAMP:20260425T052900Z
DTSTART;TZID=America/New_York:20161029
SUMMARY:#7 Seed vs. #2 Seed
DESCRIPTION:2016 Men's Soccer - Great Northeast Athletic Conference
LOCATION:Field of #2 seed
CATEGORIES:QuickScores, Soccer Game
TRANSP:OPAQUE
BEGIN:VALARM
TRIGGER:-PT2H
ACTION:DISPLAY
DESCRIPTION:#7 Seed vs. #2 Seed
END:VALARM
END:VEVENT
BEGIN:VEVENT
UID:gnac-26165265-20161029@quickscores.com
DTSTAMP:20260425T052900Z
DTSTART;TZID=America/New_York:20161029
SUMMARY:#3 Seed vs. #6 Seed
DESCRIPTION:2016 Men's Soccer - Great Northeast Athletic Conference
LOCATION:Field of #3 seed
CATEGORIES:QuickScores, Soccer Game
TRANSP:OPAQUE
BEGIN:VALARM
TRIGGER:-PT2H
ACTION:DISPLAY
DESCRIPTION:#3 Seed vs. #6 Seed
END:VALARM
END:VEVENT
BEGIN:VEVENT
UID:gnac-26165259-20161029@quickscores.com
DTSTAMP:20260425T052900Z
DTSTART;TZID=America/New_York:20161029
SUMMARY:#1 Seed vs. #8 Seed
DESCRIPTION:2016 Men's Soccer - Great Northeast Athletic Conference
LOCATION:Field of #1 seed
CATEGORIES:QuickScores, Soccer Game
TRANSP:OPAQUE
BEGIN:VALARM
TRIGGER:-PT2H
ACTION:DISPLAY
DESCRIPTION:#1 Seed vs. #8 Seed
END:VALARM
END:VEVENT
BEGIN:VEVENT
UID:gnac-26165257-20161029@quickscores.com
DTSTAMP:20260425T052900Z
DTSTART;TZID=America/New_York:20161029
SUMMARY:#5 Seed vs. #4 Seed
DESCRIPTION:2016 Men's Soccer - Great Northeast Athletic Conference
LOCATION:Field of #4 seed
CATEGORIES:QuickScores, Soccer Game
TRANSP:OPAQUE
BEGIN:VALARM
TRIGGER:-PT2H
ACTION:DISPLAY
DESCRIPTION:#5 Seed vs. #4 Seed
END:VALARM
END:VEVENT
BEGIN:VEVENT
UID:gnac-26165250-20161101@quickscores.com
DTSTAMP:20260425T052900Z
DTSTART;TZID=America/New_York:20161101
SUMMARY:Winner of Game 1 vs. Winner of Game 2
DESCRIPTION:2016 Men's Soccer - Great Northeast Athletic Conference
LOCATION:Hosted by highest remaining seed
CATEGORIES:QuickScores, Soccer Game
TRANSP:OPAQUE
BEGIN:VALARM
TRIGGER:-PT2H
ACTION:DISPLAY
DESCRIPTION:Winner of Game 1 vs. Winner of Game 2
END:VALARM
END:VEVENT
BEGIN:VEVENT
UID:gnac-26165246-20161101@quickscores.com
DTSTAMP:20260425T052900Z
DTSTART;TZID=America/New_York:20161101
SUMMARY:Winner of Game 3 vs. Winner of Game 4
DESCRIPTION:2016 Men's Soccer - Great Northeast Athletic Conference
LOCATION:Hosted by highest remaining seed
CATEGORIES:QuickScores, Soccer Game
TRANSP:OPAQUE
BEGIN:VALARM
TRIGGER:-PT2H
ACTION:DISPLAY
DESCRIPTION:Winner of Game 3 vs. Winner of Game 4
END:VALARM
END:VEVENT
BEGIN:VEVENT
UID:gnac-26165249-20161105@quickscores.com
DTSTAMP:20260425T052900Z
DTSTART;TZID=America/New_York:20161105
SUMMARY:Winner of Game 5 vs. Winner of Game 6
DESCRIPTION:2016 Men's Soccer - Great Northeast Athletic Conference
LOCATION:Hosted by highest remaining seed
CATEGORIES:QuickScores, Soccer Game
TRANSP:OPAQUE
BEGIN:VALARM
TRIGGER:-PT2H
ACTION:DISPLAY
DESCRIPTION:Winner of Game 5 vs. Winner of Game 6
END:VALARM
END:VEVENT
END:VCALENDAR
