BEGIN:VCALENDAR
VERSION:2.0
PRODID:-//QuickScores.com//BQ Dynamic iCal Creator//EN
METHOD:PUBLISH
X-WR-CALNAME:2016 Men&#039;s Tennis - Spring 2016
X-WR-CALDESC:QuickScores game calendar
X-PUBLISHED-TTL:PT24H
REFRESH-INTERVAL;VALUE=DURATION:PT24H
CALSCALE:GREGORIAN
BEGIN:VTIMEZONE
TZID:America/New_York
X-LIC-LOCATION:America/New_York
BEGIN:DAYLIGHT
TZNAME:EDT
TZOFFSETFROM:-0500
TZOFFSETTO:-0400
DTSTART:19700308T020000
RRULE:FREQ=YEARLY;BYMONTH=3;BYDAY=2SU
END:DAYLIGHT
BEGIN:STANDARD
TZNAME:EST
TZOFFSETFROM:-0400
TZOFFSETTO:-0500
DTSTART:19701101T020000
RRULE:FREQ=YEARLY;BYMONTH=11;BYDAY=1SU
END:STANDARD
END:VTIMEZONE
BEGIN:VEVENT
UID:gnac-24078021-20160409@quickscores.com
DTSTAMP:20260423T101100Z
DTSTART;TZID=America/New_York:20160409
SUMMARY:Ramapo vs. Albertus Magnus
DESCRIPTION:2016 Men's Tennis - Great Northeast Athletic Conference
LOCATION:Ramapo
CATEGORIES:QuickScores, Tennis Game
TRANSP:OPAQUE
BEGIN:VALARM
TRIGGER:-PT2H
ACTION:DISPLAY
DESCRIPTION:Ramapo vs. Albertus Magnus
END:VALARM
END:VEVENT
BEGIN:VEVENT
UID:gnac-24078020-20160409@quickscores.com
DTSTAMP:20260423T101100Z
DTSTART;TZID=America/New_York:20160409
SUMMARY:Johnson & Wales vs. Norwich
DESCRIPTION:2016 Men's Tennis - Great Northeast Athletic Conference
LOCATION:Johnson & Wales
CATEGORIES:QuickScores, Tennis Game
TRANSP:OPAQUE
BEGIN:VALARM
TRIGGER:-PT2H
ACTION:DISPLAY
DESCRIPTION:Johnson & Wales vs. Norwich
END:VALARM
END:VEVENT
BEGIN:VEVENT
UID:gnac-25076749-20160409@quickscores.com
DTSTAMP:20260423T101100Z
DTSTART;TZID=America/New_York:20160409
SUMMARY:Rutgers Camden vs. Rutgers Newark
DESCRIPTION:2016 Men's Tennis - Great Northeast Athletic Conference
LOCATION:Camden NJ
CATEGORIES:QuickScores, Tennis Game
TRANSP:OPAQUE
BEGIN:VALARM
TRIGGER:-PT2H
ACTION:DISPLAY
DESCRIPTION:Rutgers Camden vs. Rutgers Newark
END:VALARM
END:VEVENT
BEGIN:VEVENT
UID:gnac-24078017-20160416@quickscores.com
DTSTAMP:20260423T101100Z
DTSTART;TZID=America/New_York:20160416
SUMMARY:Rutgers Newark vs. Ramapo
DESCRIPTION:2016 Men's Tennis - Great Northeast Athletic Conference
LOCATION:Rutgers Newark
CATEGORIES:QuickScores, Tennis Game
TRANSP:OPAQUE
BEGIN:VALARM
TRIGGER:-PT2H
ACTION:DISPLAY
DESCRIPTION:Rutgers Newark vs. Ramapo
END:VALARM
END:VEVENT
BEGIN:VEVENT
UID:gnac-24078026-20160416@quickscores.com
DTSTAMP:20260423T101100Z
DTSTART;TZID=America/New_York:20160416
SUMMARY:Johnson & Wales vs. Suffolk
DESCRIPTION:2016 Men's Tennis - Great Northeast Athletic Conference
LOCATION:Johnson & Wales
CATEGORIES:QuickScores, Tennis Game
TRANSP:OPAQUE
BEGIN:VALARM
TRIGGER:-PT2H
ACTION:DISPLAY
DESCRIPTION:Johnson & Wales vs. Suffolk
END:VALARM
END:VEVENT
BEGIN:VEVENT
UID:gnac-25076856-20160416@quickscores.com
DTSTAMP:20260423T101100Z
DTSTART;TZID=America/New_York:20160416
SUMMARY:Rutgers Camden vs. Albertus Magnus
DESCRIPTION:2016 Men's Tennis - Great Northeast Athletic Conference
LOCATION:Camden NJ
CATEGORIES:QuickScores, Tennis Game
TRANSP:OPAQUE
BEGIN:VALARM
TRIGGER:-PT2H
ACTION:DISPLAY
DESCRIPTION:Rutgers Camden vs. Albertus Magnus
END:VALARM
END:VEVENT
BEGIN:VEVENT
UID:gnac-24078019-20160423@quickscores.com
DTSTAMP:20260423T101100Z
DTSTART;TZID=America/New_York:20160423
SUMMARY:Albertus Magnus vs. Rutgers Newark
DESCRIPTION:2016 Men's Tennis - Great Northeast Athletic Conference
LOCATION:New Haven, CT
CATEGORIES:QuickScores, Tennis Game
TRANSP:OPAQUE
BEGIN:VALARM
TRIGGER:-PT2H
ACTION:DISPLAY
DESCRIPTION:Albertus Magnus vs. Rutgers Newark
END:VALARM
END:VEVENT
BEGIN:VEVENT
UID:gnac-24078023-20160423@quickscores.com
DTSTAMP:20260423T101100Z
DTSTART;TZID=America/New_York:20160423
SUMMARY:Norwich vs. Suffolk
DESCRIPTION:2016 Men's Tennis - Great Northeast Athletic Conference
LOCATION:Northfield, VT
CATEGORIES:QuickScores, Tennis Game
TRANSP:OPAQUE
BEGIN:VALARM
TRIGGER:-PT2H
ACTION:DISPLAY
DESCRIPTION:Norwich vs. Suffolk
END:VALARM
END:VEVENT
BEGIN:VEVENT
UID:gnac-25076835-20160423@quickscores.com
DTSTAMP:20260423T101100Z
DTSTART;TZID=America/New_York:20160423
SUMMARY:Ramapo vs. Rutgers Camden
DESCRIPTION:2016 Men's Tennis - Great Northeast Athletic Conference
LOCATION:Ramapo
CATEGORIES:QuickScores, Tennis Game
TRANSP:OPAQUE
BEGIN:VALARM
TRIGGER:-PT2H
ACTION:DISPLAY
DESCRIPTION:Ramapo vs. Rutgers Camden
END:VALARM
END:VEVENT
BEGIN:VEVENT
UID:gnac-24078024-20160507@quickscores.com
DTSTAMP:20260423T101100Z
DTSTART;TZID=America/New_York:20160507
SUMMARY:Winner of Game 1 vs. Winner of Game 2
DESCRIPTION:2016 Men's Tennis - Great Northeast Athletic Conference
LOCATION:Court of # 1 South Seed
CATEGORIES:QuickScores, Tennis Game
TRANSP:OPAQUE
BEGIN:VALARM
TRIGGER:-PT2H
ACTION:DISPLAY
DESCRIPTION:Winner of Game 1 vs. Winner of Game 2
END:VALARM
END:VEVENT
END:VCALENDAR
