BEGIN:VCALENDAR
VERSION:2.0
PRODID:-//QuickScores.com//BQ Dynamic iCal Creator//EN
METHOD:PUBLISH
X-WR-CALNAME:Senior Girls - Winter 2013-2014
X-WR-CALDESC:QuickScores game calendar
X-PUBLISHED-TTL:PT24H
REFRESH-INTERVAL;VALUE=DURATION:PT24H
CALSCALE:GREGORIAN
BEGIN:VTIMEZONE
TZID:America/Chicago
X-LIC-LOCATION:America/Chicago
BEGIN:DAYLIGHT
TZNAME:CDT
TZOFFSETFROM:-0600
TZOFFSETTO:-0500
DTSTART:19700308T020000
RRULE:FREQ=YEARLY;BYMONTH=3;BYDAY=2SU
END:DAYLIGHT
BEGIN:STANDARD
TZNAME:CST
TZOFFSETFROM:-0500
TZOFFSETTO:-0600
DTSTART:19701101T020000
RRULE:FREQ=YEARLY;BYMONTH=11;BYDAY=1SU
END:STANDARD
END:VTIMEZONE
BEGIN:VEVENT
UID:toybowl-19630708-20131207T130000@quickscores.com
DTSTAMP:20260420T014700Z
DTSTART;TZID=America/Chicago:20131207T130000
DURATION:PT1H0M0S
SUMMARY:OLF vs. SRA
DESCRIPTION:Senior Girls - Toy Bowl
LOCATION:DO NOT USE Our Lady of Fatima
CATEGORIES:QuickScores, Basketball Game
TRANSP:OPAQUE
BEGIN:VALARM
TRIGGER:-PT2H
ACTION:DISPLAY
DESCRIPTION:OLF vs. SRA
END:VALARM
END:VEVENT
BEGIN:VEVENT
UID:toybowl-19630704-20131214T140000@quickscores.com
DTSTAMP:20260420T014700Z
DTSTART;TZID=America/Chicago:20131214T140000
DURATION:PT1H0M0S
SUMMARY:OLV-M vs. OLF
DESCRIPTION:Senior Girls - Toy Bowl
LOCATION:Our Lady of the Valley
CATEGORIES:QuickScores, Basketball Game
TRANSP:OPAQUE
BEGIN:VALARM
TRIGGER:-PT2H
ACTION:DISPLAY
DESCRIPTION:OLV-M vs. OLF
END:VALARM
END:VEVENT
BEGIN:VEVENT
UID:toybowl-19630712-20140111T110000@quickscores.com
DTSTAMP:20260420T014700Z
DTSTART;TZID=America/Chicago:20140111T110000
DURATION:PT1H0M0S
SUMMARY:SRA vs. OLV-M
DESCRIPTION:Senior Girls - Toy Bowl
LOCATION:DO NOT USE St. Aloysius
CATEGORIES:QuickScores, Basketball Game
TRANSP:OPAQUE
BEGIN:VALARM
TRIGGER:-PT2H
ACTION:DISPLAY
DESCRIPTION:SRA vs. OLV-M
END:VALARM
END:VEVENT
BEGIN:VEVENT
UID:toybowl-19630706-20140118T120000@quickscores.com
DTSTAMP:20260420T014700Z
DTSTART;TZID=America/Chicago:20140118T120000
DURATION:PT1H0M0S
SUMMARY:OLF vs. OLV-M
DESCRIPTION:Senior Girls - Toy Bowl
LOCATION:DO NOT USE Our Lady of Fatima
CATEGORIES:QuickScores, Basketball Game
TRANSP:OPAQUE
BEGIN:VALARM
TRIGGER:-PT2H
ACTION:DISPLAY
DESCRIPTION:OLF vs. OLV-M
END:VALARM
END:VEVENT
BEGIN:VEVENT
UID:toybowl-19630710-20140125T130000@quickscores.com
DTSTAMP:20260420T014700Z
DTSTART;TZID=America/Chicago:20140125T130000
DURATION:PT1H0M0S
SUMMARY:SRA vs. OLF
DESCRIPTION:Senior Girls - Toy Bowl
LOCATION:St. Francis Xavier
CATEGORIES:QuickScores, Basketball Game
TRANSP:OPAQUE
BEGIN:VALARM
TRIGGER:-PT2H
ACTION:DISPLAY
DESCRIPTION:SRA vs. OLF
END:VALARM
END:VEVENT
BEGIN:VEVENT
UID:toybowl-19630698-20140208T140000@quickscores.com
DTSTAMP:20260420T014700Z
DTSTART;TZID=America/Chicago:20140208T140000
DURATION:PT1H0M0S
SUMMARY:OLV-M vs. OLF
DESCRIPTION:Senior Girls - Toy Bowl
LOCATION:Our Lady of the Valley
CATEGORIES:QuickScores, Basketball Game
TRANSP:OPAQUE
BEGIN:VALARM
TRIGGER:-PT2H
ACTION:DISPLAY
DESCRIPTION:OLV-M vs. OLF
END:VALARM
END:VEVENT
BEGIN:VEVENT
UID:toybowl-19630702-20140215T100000@quickscores.com
DTSTAMP:20260420T014700Z
DTSTART;TZID=America/Chicago:20140215T100000
DURATION:PT1H0M0S
SUMMARY:SRA vs. OLV-M
DESCRIPTION:Senior Girls - Toy Bowl
LOCATION:DO NOT USE St. Barnabas Gym
CATEGORIES:QuickScores, Basketball Game
TRANSP:OPAQUE
BEGIN:VALARM
TRIGGER:-PT2H
ACTION:DISPLAY
DESCRIPTION:SRA vs. OLV-M
END:VALARM
END:VEVENT
BEGIN:VEVENT
UID:toybowl-19630700-20140222T090000@quickscores.com
DTSTAMP:20260420T014700Z
DTSTART;TZID=America/Chicago:20140222T090000
DURATION:PT1H0M0S
SUMMARY:OLF vs. SRA
DESCRIPTION:Senior Girls - Toy Bowl
LOCATION:DO NOT USE Our Lady of Fatima
CATEGORIES:QuickScores, Basketball Game
TRANSP:OPAQUE
BEGIN:VALARM
TRIGGER:-PT2H
ACTION:DISPLAY
DESCRIPTION:OLF vs. SRA
END:VALARM
END:VEVENT
BEGIN:VEVENT
UID:toybowl-19630714-20140223T160000@quickscores.com
DTSTAMP:20260420T014700Z
DTSTART;TZID=America/Chicago:20140223T160000
DURATION:PT1H0M0S
SUMMARY:OLV-M vs. SRA
DESCRIPTION:Re-scheduled game --- Senior Girls - Toy Bowl
LOCATION:Our Lady of the Valley
CATEGORIES:QuickScores, Basketball Game
TRANSP:OPAQUE
BEGIN:VALARM
TRIGGER:-PT2H
ACTION:DISPLAY
DESCRIPTION:OLV-M vs. SRA
END:VALARM
END:VEVENT
BEGIN:VEVENT
UID:toybowl-20474591-20140306T193000@quickscores.com
DTSTAMP:20260420T014700Z
DTSTART;TZID=America/Chicago:20140306T193000
DURATION:PT1H0M0S
SUMMARY:[2] OLV-M vs. [3] OLF
DESCRIPTION:Senior Girls - Toy Bowl
LOCATION:Our Lady of the Valley
CATEGORIES:QuickScores, Basketball Game
TRANSP:OPAQUE
BEGIN:VALARM
TRIGGER:-PT2H
ACTION:DISPLAY
DESCRIPTION:[2] OLV-M vs. [3] OLF
END:VALARM
END:VEVENT
BEGIN:VEVENT
UID:toybowl-20474592-20140309T180000@quickscores.com
DTSTAMP:20260420T014700Z
DTSTART;TZID=America/Chicago:20140309T180000
DURATION:PT1H0M0S
SUMMARY:[1] SRA vs. [2] OLV-M
DESCRIPTION:Senior Girls - Toy Bowl
LOCATION:John Carroll Catholic High School
CATEGORIES:QuickScores, Basketball Game
TRANSP:OPAQUE
BEGIN:VALARM
TRIGGER:-PT2H
ACTION:DISPLAY
DESCRIPTION:[1] SRA vs. [2] OLV-M
END:VALARM
END:VEVENT
END:VCALENDAR
