BEGIN:VCALENDAR
VERSION:2.0
PRODID:-//QuickScores.com//BQ Dynamic iCal Creator//EN
METHOD:PUBLISH
X-WR-CALNAME:8th Boys East - Spring Basketball League
X-WR-CALDESC:QuickScores game calendar
X-PUBLISHED-TTL:PT24H
REFRESH-INTERVAL;VALUE=DURATION:PT24H
CALSCALE:GREGORIAN
BEGIN:VTIMEZONE
TZID:America/Phoenix
X-LIC-LOCATION:America/Phoenix
BEGIN:STANDARD
TZNAME:MST
TZOFFSETFROM:-0700
TZOFFSETTO:-0700
DTSTART:19700101T000000
END:STANDARD
END:VTIMEZONE
BEGIN:VEVENT
UID:legacyyouthsports-74705598-20260425T114000@quickscores.com
DTSTAMP:20260425T144200Z
DTSTART;TZID=America/Phoenix:20260425T114000
DURATION:PT0H55M0S
SUMMARY:Humble Savage 2030 vs. FYG White
DESCRIPTION:8th Boys East - Legacy Youth Sports
LOCATION:Edurpize
CATEGORIES:QuickScores, Basketball Game
TRANSP:OPAQUE
BEGIN:VALARM
TRIGGER:-PT2H
ACTION:DISPLAY
DESCRIPTION:Humble Savage 2030 vs. FYG White
END:VALARM
END:VEVENT
BEGIN:VEVENT
UID:legacyyouthsports-74705600-20260425T114000@quickscores.com
DTSTAMP:20260425T144200Z
DTSTART;TZID=America/Phoenix:20260425T114000
DURATION:PT0H55M0S
SUMMARY:FYG Elite vs. Hunters Elite -  Oscar
DESCRIPTION:8th Boys East - Legacy Youth Sports
LOCATION:Willis Jr. High
CATEGORIES:QuickScores, Basketball Game
TRANSP:OPAQUE
BEGIN:VALARM
TRIGGER:-PT2H
ACTION:DISPLAY
DESCRIPTION:FYG Elite vs. Hunters Elite -  Oscar
END:VALARM
END:VEVENT
BEGIN:VEVENT
UID:legacyyouthsports-74705601-20260425T133000@quickscores.com
DTSTAMP:20260425T144200Z
DTSTART;TZID=America/Phoenix:20260425T133000
DURATION:PT0H55M0S
SUMMARY:Skilled Game vs. Winner of Game 1
DESCRIPTION:8th Boys East - Legacy Youth Sports
LOCATION:Edurpize
CATEGORIES:QuickScores, Basketball Game
TRANSP:OPAQUE
BEGIN:VALARM
TRIGGER:-PT2H
ACTION:DISPLAY
DESCRIPTION:Skilled Game vs. Winner of Game 1
END:VALARM
END:VEVENT
BEGIN:VEVENT
UID:legacyyouthsports-74705602-20260425T133000@quickscores.com
DTSTAMP:20260425T144200Z
DTSTART;TZID=America/Phoenix:20260425T133000
DURATION:PT0H55M0S
SUMMARY:NDO vs. Winner of Game 2
DESCRIPTION:8th Boys East - Legacy Youth Sports
LOCATION:Willis Jr. High
CATEGORIES:QuickScores, Basketball Game
TRANSP:OPAQUE
BEGIN:VALARM
TRIGGER:-PT2H
ACTION:DISPLAY
DESCRIPTION:NDO vs. Winner of Game 2
END:VALARM
END:VEVENT
BEGIN:VEVENT
UID:legacyyouthsports-74705603-20260425T152000@quickscores.com
DTSTAMP:20260425T144200Z
DTSTART;TZID=America/Phoenix:20260425T152000
DURATION:PT0H55M0S
SUMMARY:Winner of Game 3 vs. Winner of Game 4
DESCRIPTION:8th Boys East - Legacy Youth Sports
LOCATION:Willis Jr. High
CATEGORIES:QuickScores, Basketball Game
TRANSP:OPAQUE
BEGIN:VALARM
TRIGGER:-PT2H
ACTION:DISPLAY
DESCRIPTION:Winner of Game 3 vs. Winner of Game 4
END:VALARM
END:VEVENT
END:VCALENDAR
