BEGIN:VCALENDAR
VERSION:2.0
PRODID:-//QuickScores.com//BQ Dynamic iCal Creator//EN
METHOD:PUBLISH
X-WR-CALNAME:7th Boys East - Spring Basketball League
X-WR-CALDESC:QuickScores game calendar
X-PUBLISHED-TTL:PT24H
REFRESH-INTERVAL;VALUE=DURATION:PT24H
CALSCALE:GREGORIAN
BEGIN:VTIMEZONE
TZID:America/Phoenix
X-LIC-LOCATION:America/Phoenix
BEGIN:STANDARD
TZNAME:MST
TZOFFSETFROM:-0700
TZOFFSETTO:-0700
DTSTART:19700101T000000
END:STANDARD
END:VTIMEZONE
BEGIN:VEVENT
UID:legacyyouthsports-74705131-20260425T085500@quickscores.com
DTSTAMP:20260425T113800Z
DTSTART;TZID=America/Phoenix:20260425T085500
DURATION:PT0H55M0S
SUMMARY:Hunters Elite 2032 - Chris vs. Gremlins
DESCRIPTION:7th Boys East - Legacy Youth Sports
LOCATION:Edurpize
CATEGORIES:QuickScores, Basketball Game
TRANSP:OPAQUE
BEGIN:VALARM
TRIGGER:-PT2H
ACTION:DISPLAY
DESCRIPTION:Hunters Elite 2032 - Chris vs. Gremlins
END:VALARM
END:VEVENT
BEGIN:VEVENT
UID:legacyyouthsports-74705134-20260425T104500@quickscores.com
DTSTAMP:20260425T113800Z
DTSTART;TZID=America/Phoenix:20260425T104500
DURATION:PT0H55M0S
SUMMARY:Work Athletics vs. Winner of Game 1
DESCRIPTION:7th Boys East - Legacy Youth Sports
LOCATION:Edurpize
CATEGORIES:QuickScores, Basketball Game
TRANSP:OPAQUE
BEGIN:VALARM
TRIGGER:-PT2H
ACTION:DISPLAY
DESCRIPTION:Work Athletics vs. Winner of Game 1
END:VALARM
END:VEVENT
BEGIN:VEVENT
UID:legacyyouthsports-74705135-20260425T104500@quickscores.com
DTSTAMP:20260425T113800Z
DTSTART;TZID=America/Phoenix:20260425T104500
DURATION:PT0H55M0S
SUMMARY:FYG vs. Humble Savage 2031
DESCRIPTION:7th Boys East - Legacy Youth Sports
LOCATION:Willis Jr. High
CATEGORIES:QuickScores, Basketball Game
TRANSP:OPAQUE
BEGIN:VALARM
TRIGGER:-PT2H
ACTION:DISPLAY
DESCRIPTION:FYG vs. Humble Savage 2031
END:VALARM
END:VEVENT
BEGIN:VEVENT
UID:legacyyouthsports-74705136-20260425T123500@quickscores.com
DTSTAMP:20260425T113800Z
DTSTART;TZID=America/Phoenix:20260425T123500
DURATION:PT0H55M0S
SUMMARY:Winner of Game 3 vs. Winner of Game 2
DESCRIPTION:7th Boys East - Legacy Youth Sports
LOCATION:Edurpize
CATEGORIES:QuickScores, Basketball Game
TRANSP:OPAQUE
BEGIN:VALARM
TRIGGER:-PT2H
ACTION:DISPLAY
DESCRIPTION:Winner of Game 3 vs. Winner of Game 2
END:VALARM
END:VEVENT
END:VCALENDAR
