BEGIN:VCALENDAR
VERSION:2.0
PRODID:-//QuickScores.com//BQ Dynamic iCal Creator//EN
METHOD:PUBLISH
X-WR-CALNAME:Axes Paddle Battle Triples Dupr 10 - 9am Start - Completed Tournaments 2025-2026
X-WR-CALDESC:QuickScores game calendar
X-PUBLISHED-TTL:PT24H
REFRESH-INTERVAL;VALUE=DURATION:PT24H
CALSCALE:GREGORIAN
BEGIN:VTIMEZONE
TZID:America/Chicago
X-LIC-LOCATION:America/Chicago
BEGIN:DAYLIGHT
TZNAME:CDT
TZOFFSETFROM:-0600
TZOFFSETTO:-0500
DTSTART:19700308T020000
RRULE:FREQ=YEARLY;BYMONTH=3;BYDAY=2SU
END:DAYLIGHT
BEGIN:STANDARD
TZNAME:CST
TZOFFSETFROM:-0500
TZOFFSETTO:-0600
DTSTART:19701101T020000
RRULE:FREQ=YEARLY;BYMONTH=11;BYDAY=1SU
END:STANDARD
END:VTIMEZONE
BEGIN:VEVENT
UID:pupc-74607389-20260419T091000@quickscores.com
DTSTAMP:20260420T184200Z
DTSTART;TZID=America/Chicago:20260419T091000
DURATION:PT0H40M0S
SUMMARY:ChrisDelfosse/DinaDougherty/CindyBall vs. MarcusGonzales/DexterWayas/MorganOdysseos
DESCRIPTION:Axes Paddle Battle Triples Dupr 10 - 9am Start - Paddle Up Pickleball Club
LOCATION:Court 5
CATEGORIES:QuickScores, Pickleball Game
TRANSP:OPAQUE
BEGIN:VALARM
TRIGGER:-PT2H
ACTION:DISPLAY
DESCRIPTION:ChrisDelfosse/DinaDougherty/CindyBall vs. MarcusGonzales/DexterWayas/MorganOdysseos
END:VALARM
END:VEVENT
BEGIN:VEVENT
UID:pupc-74607390-20260419T091000@quickscores.com
DTSTAMP:20260420T184200Z
DTSTART;TZID=America/Chicago:20260419T091000
DURATION:PT0H40M0S
SUMMARY:AngelaLamb/BrettLamb/GaryNielsen vs. BruceWatson/BrianFreund/AshleyRaines
DESCRIPTION:Axes Paddle Battle Triples Dupr 10 - 9am Start - Paddle Up Pickleball Club
LOCATION:Court 4
CATEGORIES:QuickScores, Pickleball Game
TRANSP:OPAQUE
BEGIN:VALARM
TRIGGER:-PT2H
ACTION:DISPLAY
DESCRIPTION:AngelaLamb/BrettLamb/GaryNielsen vs. BruceWatson/BrianFreund/AshleyRaines
END:VALARM
END:VEVENT
BEGIN:VEVENT
UID:pupc-74607391-20260419T091000@quickscores.com
DTSTAMP:20260420T184200Z
DTSTART;TZID=America/Chicago:20260419T091000
DURATION:PT0H40M0S
SUMMARY:SydneyArnold/BaileyStrauch/GregParks vs. BillBearden/DawnHildebrand/GlennGamayo
DESCRIPTION:Axes Paddle Battle Triples Dupr 10 - 9am Start - Paddle Up Pickleball Club
LOCATION:Court 8
CATEGORIES:QuickScores, Pickleball Game
TRANSP:OPAQUE
BEGIN:VALARM
TRIGGER:-PT2H
ACTION:DISPLAY
DESCRIPTION:SydneyArnold/BaileyStrauch/GregParks vs. BillBearden/DawnHildebrand/GlennGamayo
END:VALARM
END:VEVENT
BEGIN:VEVENT
UID:pupc-74607392-20260419T091000@quickscores.com
DTSTAMP:20260420T184200Z
DTSTART;TZID=America/Chicago:20260419T091000
DURATION:PT0H40M0S
SUMMARY:MikeChambers/TiffanyChambers/BobbyHines vs. MarieHornbach/BradMorgenthaler/MeganWestrich
DESCRIPTION:Axes Paddle Battle Triples Dupr 10 - 9am Start - Paddle Up Pickleball Club
LOCATION:Court 9
CATEGORIES:QuickScores, Pickleball Game
TRANSP:OPAQUE
BEGIN:VALARM
TRIGGER:-PT2H
ACTION:DISPLAY
DESCRIPTION:MikeChambers/TiffanyChambers/BobbyHines vs. MarieHornbach/BradMorgenthaler/MeganWestrich
END:VALARM
END:VEVENT
BEGIN:VEVENT
UID:pupc-74607393-20260419T091000@quickscores.com
DTSTAMP:20260420T184200Z
DTSTART;TZID=America/Chicago:20260419T091000
DURATION:PT0H40M0S
SUMMARY:WhitneyDurham/ScottDurham/AdamBrown vs. MikeHertz/NickHertz/DaliHertz
DESCRIPTION:Axes Paddle Battle Triples Dupr 10 - 9am Start - Paddle Up Pickleball Club
LOCATION:Court 2
CATEGORIES:QuickScores, Pickleball Game
TRANSP:OPAQUE
BEGIN:VALARM
TRIGGER:-PT2H
ACTION:DISPLAY
DESCRIPTION:WhitneyDurham/ScottDurham/AdamBrown vs. MikeHertz/NickHertz/DaliHertz
END:VALARM
END:VEVENT
BEGIN:VEVENT
UID:pupc-74607398-20260419T095500@quickscores.com
DTSTAMP:20260420T184200Z
DTSTART;TZID=America/Chicago:20260419T095500
DURATION:PT0H40M0S
SUMMARY:MarieHornbach/BradMorgenthaler/MeganWestrich vs. MikeHertz/NickHertz/DaliHertz
DESCRIPTION:Axes Paddle Battle Triples Dupr 10 - 9am Start - Paddle Up Pickleball Club
LOCATION:Court 8
CATEGORIES:QuickScores, Pickleball Game
TRANSP:OPAQUE
BEGIN:VALARM
TRIGGER:-PT2H
ACTION:DISPLAY
DESCRIPTION:MarieHornbach/BradMorgenthaler/MeganWestrich vs. MikeHertz/NickHertz/DaliHertz
END:VALARM
END:VEVENT
BEGIN:VEVENT
UID:pupc-74607397-20260419T095500@quickscores.com
DTSTAMP:20260420T184200Z
DTSTART;TZID=America/Chicago:20260419T095500
DURATION:PT0H40M0S
SUMMARY:BillBearden/DawnHildebrand/GlennGamayo vs. WhitneyDurham/ScottDurham/AdamBrown
DESCRIPTION:Axes Paddle Battle Triples Dupr 10 - 9am Start - Paddle Up Pickleball Club
LOCATION:Court 4
CATEGORIES:QuickScores, Pickleball Game
TRANSP:OPAQUE
BEGIN:VALARM
TRIGGER:-PT2H
ACTION:DISPLAY
DESCRIPTION:BillBearden/DawnHildebrand/GlennGamayo vs. WhitneyDurham/ScottDurham/AdamBrown
END:VALARM
END:VEVENT
BEGIN:VEVENT
UID:pupc-74607396-20260419T095500@quickscores.com
DTSTAMP:20260420T184200Z
DTSTART;TZID=America/Chicago:20260419T095500
DURATION:PT0H40M0S
SUMMARY:BruceWatson/BrianFreund/AshleyRaines vs. MikeChambers/TiffanyChambers/BobbyHines
DESCRIPTION:Axes Paddle Battle Triples Dupr 10 - 9am Start - Paddle Up Pickleball Club
LOCATION:Court 5
CATEGORIES:QuickScores, Pickleball Game
TRANSP:OPAQUE
BEGIN:VALARM
TRIGGER:-PT2H
ACTION:DISPLAY
DESCRIPTION:BruceWatson/BrianFreund/AshleyRaines vs. MikeChambers/TiffanyChambers/BobbyHines
END:VALARM
END:VEVENT
BEGIN:VEVENT
UID:pupc-74607395-20260419T095500@quickscores.com
DTSTAMP:20260420T184200Z
DTSTART;TZID=America/Chicago:20260419T095500
DURATION:PT0H40M0S
SUMMARY:SydneyArnold/BaileyStrauch/GregParks vs. ChrisDelfosse/DinaDougherty/CindyBall
DESCRIPTION:Axes Paddle Battle Triples Dupr 10 - 9am Start - Paddle Up Pickleball Club
LOCATION:Court 2
CATEGORIES:QuickScores, Pickleball Game
TRANSP:OPAQUE
BEGIN:VALARM
TRIGGER:-PT2H
ACTION:DISPLAY
DESCRIPTION:SydneyArnold/BaileyStrauch/GregParks vs. ChrisDelfosse/DinaDougherty/CindyBall
END:VALARM
END:VEVENT
BEGIN:VEVENT
UID:pupc-74607394-20260419T095500@quickscores.com
DTSTAMP:20260420T184200Z
DTSTART;TZID=America/Chicago:20260419T095500
DURATION:PT0H40M0S
SUMMARY:MarcusGonzales/DexterWayas/MorganOdysseos vs. AngelaLamb/BrettLamb/GaryNielsen
DESCRIPTION:Axes Paddle Battle Triples Dupr 10 - 9am Start - Paddle Up Pickleball Club
LOCATION:Court 9
CATEGORIES:QuickScores, Pickleball Game
TRANSP:OPAQUE
BEGIN:VALARM
TRIGGER:-PT2H
ACTION:DISPLAY
DESCRIPTION:MarcusGonzales/DexterWayas/MorganOdysseos vs. AngelaLamb/BrettLamb/GaryNielsen
END:VALARM
END:VEVENT
BEGIN:VEVENT
UID:pupc-74607399-20260419T104000@quickscores.com
DTSTAMP:20260420T184200Z
DTSTART;TZID=America/Chicago:20260419T104000
DURATION:PT0H40M0S
SUMMARY:BruceWatson/BrianFreund/AshleyRaines vs. MarcusGonzales/DexterWayas/MorganOdysseos
DESCRIPTION:Axes Paddle Battle Triples Dupr 10 - 9am Start - Paddle Up Pickleball Club
LOCATION:Court 9
CATEGORIES:QuickScores, Pickleball Game
TRANSP:OPAQUE
BEGIN:VALARM
TRIGGER:-PT2H
ACTION:DISPLAY
DESCRIPTION:BruceWatson/BrianFreund/AshleyRaines vs. MarcusGonzales/DexterWayas/MorganOdysseos
END:VALARM
END:VEVENT
BEGIN:VEVENT
UID:pupc-74607400-20260419T104000@quickscores.com
DTSTAMP:20260420T184200Z
DTSTART;TZID=America/Chicago:20260419T104000
DURATION:PT0H40M0S
SUMMARY:BillBearden/DawnHildebrand/GlennGamayo vs. ChrisDelfosse/DinaDougherty/CindyBall
DESCRIPTION:Axes Paddle Battle Triples Dupr 10 - 9am Start - Paddle Up Pickleball Club
LOCATION:Court 4
CATEGORIES:QuickScores, Pickleball Game
TRANSP:OPAQUE
BEGIN:VALARM
TRIGGER:-PT2H
ACTION:DISPLAY
DESCRIPTION:BillBearden/DawnHildebrand/GlennGamayo vs. ChrisDelfosse/DinaDougherty/CindyBall
END:VALARM
END:VEVENT
BEGIN:VEVENT
UID:pupc-74607401-20260419T104000@quickscores.com
DTSTAMP:20260420T184200Z
DTSTART;TZID=America/Chicago:20260419T104000
DURATION:PT0H40M0S
SUMMARY:MarieHornbach/BradMorgenthaler/MeganWestrich vs. AngelaLamb/BrettLamb/GaryNielsen
DESCRIPTION:Axes Paddle Battle Triples Dupr 10 - 9am Start - Paddle Up Pickleball Club
LOCATION:Court 2
CATEGORIES:QuickScores, Pickleball Game
TRANSP:OPAQUE
BEGIN:VALARM
TRIGGER:-PT2H
ACTION:DISPLAY
DESCRIPTION:MarieHornbach/BradMorgenthaler/MeganWestrich vs. AngelaLamb/BrettLamb/GaryNielsen
END:VALARM
END:VEVENT
BEGIN:VEVENT
UID:pupc-74607402-20260419T104000@quickscores.com
DTSTAMP:20260420T184200Z
DTSTART;TZID=America/Chicago:20260419T104000
DURATION:PT0H40M0S
SUMMARY:MikeHertz/NickHertz/DaliHertz vs. SydneyArnold/BaileyStrauch/GregParks
DESCRIPTION:Axes Paddle Battle Triples Dupr 10 - 9am Start - Paddle Up Pickleball Club
LOCATION:Court 8
CATEGORIES:QuickScores, Pickleball Game
TRANSP:OPAQUE
BEGIN:VALARM
TRIGGER:-PT2H
ACTION:DISPLAY
DESCRIPTION:MikeHertz/NickHertz/DaliHertz vs. SydneyArnold/BaileyStrauch/GregParks
END:VALARM
END:VEVENT
BEGIN:VEVENT
UID:pupc-74607403-20260419T104000@quickscores.com
DTSTAMP:20260420T184200Z
DTSTART;TZID=America/Chicago:20260419T104000
DURATION:PT0H40M0S
SUMMARY:MikeChambers/TiffanyChambers/BobbyHines vs. WhitneyDurham/ScottDurham/AdamBrown
DESCRIPTION:Axes Paddle Battle Triples Dupr 10 - 9am Start - Paddle Up Pickleball Club
LOCATION:Court 5
CATEGORIES:QuickScores, Pickleball Game
TRANSP:OPAQUE
BEGIN:VALARM
TRIGGER:-PT2H
ACTION:DISPLAY
DESCRIPTION:MikeChambers/TiffanyChambers/BobbyHines vs. WhitneyDurham/ScottDurham/AdamBrown
END:VALARM
END:VEVENT
END:VCALENDAR
