BEGIN:VCALENDAR
VERSION:2.0
PRODID:-//QuickScores.com//BQ Dynamic iCal Creator//EN
METHOD:PUBLISH
X-WR-CALNAME:Nc Kinder & 1st - Girls - Spring 2026
X-WR-CALDESC:QuickScores game calendar
X-PUBLISHED-TTL:PT24H
REFRESH-INTERVAL;VALUE=DURATION:PT24H
CALSCALE:GREGORIAN
BEGIN:VTIMEZONE
TZID:America/New_York
X-LIC-LOCATION:America/New_York
BEGIN:DAYLIGHT
TZNAME:EDT
TZOFFSETFROM:-0500
TZOFFSETTO:-0400
DTSTART:19700308T020000
RRULE:FREQ=YEARLY;BYMONTH=3;BYDAY=2SU
END:DAYLIGHT
BEGIN:STANDARD
TZNAME:EST
TZOFFSETFROM:-0400
TZOFFSETTO:-0500
DTSTART:19701101T020000
RRULE:FREQ=YEARLY;BYMONTH=11;BYDAY=1SU
END:STANDARD
END:VTIMEZONE
BEGIN:VEVENT
UID:ymcastark-74403319-20260418T110000@quickscores.com
DTSTAMP:20260420T184100Z
DTSTART;TZID=America/New_York:20260418T110000
DURATION:PT1H0M0S
SUMMARY:Team 1 - SHARDO vs. Team 2 - BUSSEY
DESCRIPTION:Nc Kinder & 1st - Girls - YMCA of Central Stark County Sports
LOCATION:North Canton YMCA - East Gym
CATEGORIES:QuickScores, Basketball Game
TRANSP:OPAQUE
BEGIN:VALARM
TRIGGER:-PT2H
ACTION:DISPLAY
DESCRIPTION:Team 1 - SHARDO vs. Team 2 - BUSSEY
END:VALARM
END:VEVENT
BEGIN:VEVENT
UID:ymcastark-74403320-20260418T120000@quickscores.com
DTSTAMP:20260420T184100Z
DTSTART;TZID=America/New_York:20260418T120000
DURATION:PT1H0M0S
SUMMARY:Team 2 - BUSSEY vs. Team 3 - HOUSE/DAVENPORT
DESCRIPTION:Nc Kinder & 1st - Girls - YMCA of Central Stark County Sports
LOCATION:North Canton YMCA - East Gym
CATEGORIES:QuickScores, Basketball Game
TRANSP:OPAQUE
BEGIN:VALARM
TRIGGER:-PT2H
ACTION:DISPLAY
DESCRIPTION:Team 2 - BUSSEY vs. Team 3 - HOUSE/DAVENPORT
END:VALARM
END:VEVENT
BEGIN:VEVENT
UID:ymcastark-74403322-20260502T110000@quickscores.com
DTSTAMP:20260420T184100Z
DTSTART;TZID=America/New_York:20260502T110000
DURATION:PT1H0M0S
SUMMARY:Team 3 - HOUSE/DAVENPORT vs. Team 1 - SHARDO
DESCRIPTION:Nc Kinder & 1st - Girls - YMCA of Central Stark County Sports
LOCATION:North Canton YMCA - East Gym
CATEGORIES:QuickScores, Basketball Game
TRANSP:OPAQUE
BEGIN:VALARM
TRIGGER:-PT2H
ACTION:DISPLAY
DESCRIPTION:Team 3 - HOUSE/DAVENPORT vs. Team 1 - SHARDO
END:VALARM
END:VEVENT
BEGIN:VEVENT
UID:ymcastark-74403321-20260502T120000@quickscores.com
DTSTAMP:20260420T184100Z
DTSTART;TZID=America/New_York:20260502T120000
DURATION:PT1H0M0S
SUMMARY:Team 2 - BUSSEY vs. Team 1 - SHARDO
DESCRIPTION:Nc Kinder & 1st - Girls - YMCA of Central Stark County Sports
LOCATION:North Canton YMCA - East Gym
CATEGORIES:QuickScores, Basketball Game
TRANSP:OPAQUE
BEGIN:VALARM
TRIGGER:-PT2H
ACTION:DISPLAY
DESCRIPTION:Team 2 - BUSSEY vs. Team 1 - SHARDO
END:VALARM
END:VEVENT
BEGIN:VEVENT
UID:ymcastark-74403323-20260509T110000@quickscores.com
DTSTAMP:20260420T184100Z
DTSTART;TZID=America/New_York:20260509T110000
DURATION:PT1H0M0S
SUMMARY:Team 3 - HOUSE/DAVENPORT vs. Team 2 - BUSSEY
DESCRIPTION:Nc Kinder & 1st - Girls - YMCA of Central Stark County Sports
LOCATION:North Canton YMCA - East Gym
CATEGORIES:QuickScores, Basketball Game
TRANSP:OPAQUE
BEGIN:VALARM
TRIGGER:-PT2H
ACTION:DISPLAY
DESCRIPTION:Team 3 - HOUSE/DAVENPORT vs. Team 2 - BUSSEY
END:VALARM
END:VEVENT
BEGIN:VEVENT
UID:ymcastark-74403329-20260509T120000@quickscores.com
DTSTAMP:20260420T184100Z
DTSTART;TZID=America/New_York:20260509T120000
DURATION:PT1H0M0S
SUMMARY:Team 1 - SHARDO vs. Team 3 - HOUSE/DAVENPORT
DESCRIPTION:Nc Kinder & 1st - Girls - YMCA of Central Stark County Sports
LOCATION:North Canton YMCA - East Gym
CATEGORIES:QuickScores, Basketball Game
TRANSP:OPAQUE
BEGIN:VALARM
TRIGGER:-PT2H
ACTION:DISPLAY
DESCRIPTION:Team 1 - SHARDO vs. Team 3 - HOUSE/DAVENPORT
END:VALARM
END:VEVENT
BEGIN:VEVENT
UID:ymcastark-74403326-20260516T110000@quickscores.com
DTSTAMP:20260420T184100Z
DTSTART;TZID=America/New_York:20260516T110000
DURATION:PT1H0M0S
SUMMARY:Team 1 - SHARDO vs. Team 2 - BUSSEY
DESCRIPTION:Nc Kinder & 1st - Girls - YMCA of Central Stark County Sports
LOCATION:North Canton YMCA - East Gym
CATEGORIES:QuickScores, Basketball Game
TRANSP:OPAQUE
BEGIN:VALARM
TRIGGER:-PT2H
ACTION:DISPLAY
DESCRIPTION:Team 1 - SHARDO vs. Team 2 - BUSSEY
END:VALARM
END:VEVENT
BEGIN:VEVENT
UID:ymcastark-74403325-20260516T120000@quickscores.com
DTSTAMP:20260420T184100Z
DTSTART;TZID=America/New_York:20260516T120000
DURATION:PT1H0M0S
SUMMARY:Team 3 - HOUSE/DAVENPORT vs. Team 2 - BUSSEY
DESCRIPTION:Nc Kinder & 1st - Girls - YMCA of Central Stark County Sports
LOCATION:North Canton YMCA - East Gym
CATEGORIES:QuickScores, Basketball Game
TRANSP:OPAQUE
BEGIN:VALARM
TRIGGER:-PT2H
ACTION:DISPLAY
DESCRIPTION:Team 3 - HOUSE/DAVENPORT vs. Team 2 - BUSSEY
END:VALARM
END:VEVENT
BEGIN:VEVENT
UID:ymcastark-74403328-20260523T110000@quickscores.com
DTSTAMP:20260420T184100Z
DTSTART;TZID=America/New_York:20260523T110000
DURATION:PT1H0M0S
SUMMARY:Team 3 - HOUSE/DAVENPORT vs. Team 1 - SHARDO
DESCRIPTION:Nc Kinder & 1st - Girls - YMCA of Central Stark County Sports
LOCATION:North Canton YMCA - East Gym
CATEGORIES:QuickScores, Basketball Game
TRANSP:OPAQUE
BEGIN:VALARM
TRIGGER:-PT2H
ACTION:DISPLAY
DESCRIPTION:Team 3 - HOUSE/DAVENPORT vs. Team 1 - SHARDO
END:VALARM
END:VEVENT
BEGIN:VEVENT
UID:ymcastark-74403327-20260523T120000@quickscores.com
DTSTAMP:20260420T184100Z
DTSTART;TZID=America/New_York:20260523T120000
DURATION:PT1H0M0S
SUMMARY:Team 2 - BUSSEY vs. Team 1 - SHARDO
DESCRIPTION:Nc Kinder & 1st - Girls - YMCA of Central Stark County Sports
LOCATION:North Canton YMCA - East Gym
CATEGORIES:QuickScores, Basketball Game
TRANSP:OPAQUE
BEGIN:VALARM
TRIGGER:-PT2H
ACTION:DISPLAY
DESCRIPTION:Team 2 - BUSSEY vs. Team 1 - SHARDO
END:VALARM
END:VEVENT
END:VCALENDAR
