BEGIN:VCALENDAR
VERSION:2.0
PRODID:-//QuickScores.com//BQ Dynamic iCal Creator//EN
METHOD:PUBLISH
X-WR-CALNAME:Men&#039;s Upper League 2026 - Spring 2026
X-WR-CALDESC:QuickScores game calendar
X-PUBLISHED-TTL:PT24H
REFRESH-INTERVAL;VALUE=DURATION:PT24H
CALSCALE:GREGORIAN
BEGIN:VTIMEZONE
TZID:America/Denver
X-LIC-LOCATION:America/Denver
BEGIN:DAYLIGHT
TZNAME:MDT
TZOFFSETFROM:-0700
TZOFFSETTO:-0600
DTSTART:19700308T020000
RRULE:FREQ=YEARLY;BYMONTH=3;BYDAY=2SU
END:DAYLIGHT
BEGIN:STANDARD
TZNAME:MST
TZOFFSETFROM:-0600
TZOFFSETTO:-0700
DTSTART:19701101T020000
RRULE:FREQ=YEARLY;BYMONTH=11;BYDAY=1SU
END:STANDARD
END:VTIMEZONE
BEGIN:VEVENT
UID:draper-74347033-20260414T180000@quickscores.com
DTSTAMP:20260420T230100Z
DTSTART;TZID=America/Denver:20260414T180000
DURATION:PT1H0M0S
SUMMARY:Blue Ballers vs. The Fellas
DESCRIPTION:Men's Upper League 2026 - Draper City UT Parks and Recreation
LOCATION:Galena 2 (Softball)
CATEGORIES:QuickScores, Softball - Adult Game
TRANSP:OPAQUE
BEGIN:VALARM
TRIGGER:-PT2H
ACTION:DISPLAY
DESCRIPTION:Blue Ballers vs. The Fellas
END:VALARM
END:VEVENT
BEGIN:VEVENT
UID:draper-74347034-20260414T190000@quickscores.com
DTSTAMP:20260420T230100Z
DTSTART;TZID=America/Denver:20260414T190000
DURATION:PT1H0M0S
SUMMARY:The Draper Wizards vs. The Fellas
DESCRIPTION:Men's Upper League 2026 - Draper City UT Parks and Recreation
LOCATION:Galena 1 (Softball)
CATEGORIES:QuickScores, Softball - Adult Game
TRANSP:OPAQUE
BEGIN:VALARM
TRIGGER:-PT2H
ACTION:DISPLAY
DESCRIPTION:The Draper Wizards vs. The Fellas
END:VALARM
END:VEVENT
BEGIN:VEVENT
UID:draper-74347039-20260414T190000@quickscores.com
DTSTAMP:20260420T230100Z
DTSTART;TZID=America/Denver:20260414T190000
DURATION:PT1H0M0S
SUMMARY:Local 354 Boys vs. Blue Ballers
DESCRIPTION:Men's Upper League 2026 - Draper City UT Parks and Recreation
LOCATION:Galena 2 (Softball)
CATEGORIES:QuickScores, Softball - Adult Game
TRANSP:OPAQUE
BEGIN:VALARM
TRIGGER:-PT2H
ACTION:DISPLAY
DESCRIPTION:Local 354 Boys vs. Blue Ballers
END:VALARM
END:VEVENT
BEGIN:VEVENT
UID:draper-74347035-20260414T200000@quickscores.com
DTSTAMP:20260420T230100Z
DTSTART;TZID=America/Denver:20260414T200000
DURATION:PT1H0M0S
SUMMARY:The Draper Wizards vs. Zynners
DESCRIPTION:Men's Upper League 2026 - Draper City UT Parks and Recreation
LOCATION:Galena 1 (Softball)
CATEGORIES:QuickScores, Softball - Adult Game
TRANSP:OPAQUE
BEGIN:VALARM
TRIGGER:-PT2H
ACTION:DISPLAY
DESCRIPTION:The Draper Wizards vs. Zynners
END:VALARM
END:VEVENT
BEGIN:VEVENT
UID:draper-74347037-20260414T200000@quickscores.com
DTSTAMP:20260420T230100Z
DTSTART;TZID=America/Denver:20260414T200000
DURATION:PT1H0M0S
SUMMARY:Sons of Pitches vs. Swingers
DESCRIPTION:Men's Upper League 2026 - Draper City UT Parks and Recreation
LOCATION:Galena 2 (Softball)
CATEGORIES:QuickScores, Softball - Adult Game
TRANSP:OPAQUE
BEGIN:VALARM
TRIGGER:-PT2H
ACTION:DISPLAY
DESCRIPTION:Sons of Pitches vs. Swingers
END:VALARM
END:VEVENT
BEGIN:VEVENT
UID:draper-74347038-20260414T210000@quickscores.com
DTSTAMP:20260420T230100Z
DTSTART;TZID=America/Denver:20260414T210000
DURATION:PT1H0M0S
SUMMARY:Sons of Pitches vs. Local 354 Boys
DESCRIPTION:Men's Upper League 2026 - Draper City UT Parks and Recreation
LOCATION:Galena 2 (Softball)
CATEGORIES:QuickScores, Softball - Adult Game
TRANSP:OPAQUE
BEGIN:VALARM
TRIGGER:-PT2H
ACTION:DISPLAY
DESCRIPTION:Sons of Pitches vs. Local 354 Boys
END:VALARM
END:VEVENT
BEGIN:VEVENT
UID:draper-74347036-20260414T210000@quickscores.com
DTSTAMP:20260420T230100Z
DTSTART;TZID=America/Denver:20260414T210000
DURATION:PT1H0M0S
SUMMARY:Zynners vs. Swingers
DESCRIPTION:Men's Upper League 2026 - Draper City UT Parks and Recreation
LOCATION:Galena 1 (Softball)
CATEGORIES:QuickScores, Softball - Adult Game
TRANSP:OPAQUE
BEGIN:VALARM
TRIGGER:-PT2H
ACTION:DISPLAY
DESCRIPTION:Zynners vs. Swingers
END:VALARM
END:VEVENT
BEGIN:VEVENT
UID:draper-74347044-20260421T180000@quickscores.com
DTSTAMP:20260420T230100Z
DTSTART;TZID=America/Denver:20260421T180000
DURATION:PT1H0M0S
SUMMARY:The Draper Wizards vs. Blue Ballers
DESCRIPTION:Men's Upper League 2026 - Draper City UT Parks and Recreation
LOCATION:Galena 3 (Softball)
CATEGORIES:QuickScores, Softball - Adult Game
TRANSP:OPAQUE
BEGIN:VALARM
TRIGGER:-PT2H
ACTION:DISPLAY
DESCRIPTION:The Draper Wizards vs. Blue Ballers
END:VALARM
END:VEVENT
BEGIN:VEVENT
UID:draper-74347045-20260421T190000@quickscores.com
DTSTAMP:20260420T230100Z
DTSTART;TZID=America/Denver:20260421T190000
DURATION:PT1H0M0S
SUMMARY:Blue Ballers vs. Zynners
DESCRIPTION:Men's Upper League 2026 - Draper City UT Parks and Recreation
LOCATION:Galena 3 (Softball)
CATEGORIES:QuickScores, Softball - Adult Game
TRANSP:OPAQUE
BEGIN:VALARM
TRIGGER:-PT2H
ACTION:DISPLAY
DESCRIPTION:Blue Ballers vs. Zynners
END:VALARM
END:VEVENT
BEGIN:VEVENT
UID:draper-74347043-20260421T190000@quickscores.com
DTSTAMP:20260420T230100Z
DTSTART;TZID=America/Denver:20260421T190000
DURATION:PT1H0M0S
SUMMARY:Sons of Pitches vs. The Draper Wizards
DESCRIPTION:Men's Upper League 2026 - Draper City UT Parks and Recreation
LOCATION:Galena 4 (Softball)
CATEGORIES:QuickScores, Softball - Adult Game
TRANSP:OPAQUE
BEGIN:VALARM
TRIGGER:-PT2H
ACTION:DISPLAY
DESCRIPTION:Sons of Pitches vs. The Draper Wizards
END:VALARM
END:VEVENT
BEGIN:VEVENT
UID:draper-74347041-20260421T200000@quickscores.com
DTSTAMP:20260420T230100Z
DTSTART;TZID=America/Denver:20260421T200000
DURATION:PT1H0M0S
SUMMARY:Swingers vs. The Fellas
DESCRIPTION:Men's Upper League 2026 - Draper City UT Parks and Recreation
LOCATION:Galena 4 (Softball)
CATEGORIES:QuickScores, Softball - Adult Game
TRANSP:OPAQUE
BEGIN:VALARM
TRIGGER:-PT2H
ACTION:DISPLAY
DESCRIPTION:Swingers vs. The Fellas
END:VALARM
END:VEVENT
BEGIN:VEVENT
UID:draper-74347046-20260421T200000@quickscores.com
DTSTAMP:20260420T230100Z
DTSTART;TZID=America/Denver:20260421T200000
DURATION:PT1H0M0S
SUMMARY:Zynners vs. Local 354 Boys
DESCRIPTION:Men's Upper League 2026 - Draper City UT Parks and Recreation
LOCATION:Galena 3 (Softball)
CATEGORIES:QuickScores, Softball - Adult Game
TRANSP:OPAQUE
BEGIN:VALARM
TRIGGER:-PT2H
ACTION:DISPLAY
DESCRIPTION:Zynners vs. Local 354 Boys
END:VALARM
END:VEVENT
BEGIN:VEVENT
UID:draper-74347042-20260421T210000@quickscores.com
DTSTAMP:20260420T230100Z
DTSTART;TZID=America/Denver:20260421T210000
DURATION:PT1H0M0S
SUMMARY:The Fellas vs. Sons of Pitches
DESCRIPTION:Men's Upper League 2026 - Draper City UT Parks and Recreation
LOCATION:Galena 4 (Softball)
CATEGORIES:QuickScores, Softball - Adult Game
TRANSP:OPAQUE
BEGIN:VALARM
TRIGGER:-PT2H
ACTION:DISPLAY
DESCRIPTION:The Fellas vs. Sons of Pitches
END:VALARM
END:VEVENT
BEGIN:VEVENT
UID:draper-74347040-20260421T210000@quickscores.com
DTSTAMP:20260420T230100Z
DTSTART;TZID=America/Denver:20260421T210000
DURATION:PT1H0M0S
SUMMARY:Local 354 Boys vs. Swingers
DESCRIPTION:Men's Upper League 2026 - Draper City UT Parks and Recreation
LOCATION:Galena 3 (Softball)
CATEGORIES:QuickScores, Softball - Adult Game
TRANSP:OPAQUE
BEGIN:VALARM
TRIGGER:-PT2H
ACTION:DISPLAY
DESCRIPTION:Local 354 Boys vs. Swingers
END:VALARM
END:VEVENT
BEGIN:VEVENT
UID:draper-74347048-20260428T180000@quickscores.com
DTSTAMP:20260420T230100Z
DTSTART;TZID=America/Denver:20260428T180000
DURATION:PT1H0M0S
SUMMARY:Zynners vs. Sons of Pitches
DESCRIPTION:Men's Upper League 2026 - Draper City UT Parks and Recreation
LOCATION:Galena 2 (Softball)
CATEGORIES:QuickScores, Softball - Adult Game
TRANSP:OPAQUE
BEGIN:VALARM
TRIGGER:-PT2H
ACTION:DISPLAY
DESCRIPTION:Zynners vs. Sons of Pitches
END:VALARM
END:VEVENT
BEGIN:VEVENT
UID:draper-74347047-20260428T190000@quickscores.com
DTSTAMP:20260420T230100Z
DTSTART;TZID=America/Denver:20260428T190000
DURATION:PT1H0M0S
SUMMARY:The Fellas vs. Zynners
DESCRIPTION:Men's Upper League 2026 - Draper City UT Parks and Recreation
LOCATION:Galena 2 (Softball)
CATEGORIES:QuickScores, Softball - Adult Game
TRANSP:OPAQUE
BEGIN:VALARM
TRIGGER:-PT2H
ACTION:DISPLAY
DESCRIPTION:The Fellas vs. Zynners
END:VALARM
END:VEVENT
BEGIN:VEVENT
UID:draper-74347049-20260428T190000@quickscores.com
DTSTAMP:20260420T230100Z
DTSTART;TZID=America/Denver:20260428T190000
DURATION:PT1H0M0S
SUMMARY:Blue Ballers vs. Sons of Pitches
DESCRIPTION:Men's Upper League 2026 - Draper City UT Parks and Recreation
LOCATION:Galena 1 (Softball)
CATEGORIES:QuickScores, Softball - Adult Game
TRANSP:OPAQUE
BEGIN:VALARM
TRIGGER:-PT2H
ACTION:DISPLAY
DESCRIPTION:Blue Ballers vs. Sons of Pitches
END:VALARM
END:VEVENT
BEGIN:VEVENT
UID:draper-74347052-20260428T200000@quickscores.com
DTSTAMP:20260420T230100Z
DTSTART;TZID=America/Denver:20260428T200000
DURATION:PT1H0M0S
SUMMARY:Local 354 Boys vs. The Draper Wizards
DESCRIPTION:Men's Upper League 2026 - Draper City UT Parks and Recreation
LOCATION:Galena 2 (Softball)
CATEGORIES:QuickScores, Softball - Adult Game
TRANSP:OPAQUE
BEGIN:VALARM
TRIGGER:-PT2H
ACTION:DISPLAY
DESCRIPTION:Local 354 Boys vs. The Draper Wizards
END:VALARM
END:VEVENT
BEGIN:VEVENT
UID:draper-74347050-20260428T200000@quickscores.com
DTSTAMP:20260420T230100Z
DTSTART;TZID=America/Denver:20260428T200000
DURATION:PT1H0M0S
SUMMARY:Swingers vs. Blue Ballers
DESCRIPTION:Men's Upper League 2026 - Draper City UT Parks and Recreation
LOCATION:Galena 1 (Softball)
CATEGORIES:QuickScores, Softball - Adult Game
TRANSP:OPAQUE
BEGIN:VALARM
TRIGGER:-PT2H
ACTION:DISPLAY
DESCRIPTION:Swingers vs. Blue Ballers
END:VALARM
END:VEVENT
BEGIN:VEVENT
UID:draper-74347051-20260428T210000@quickscores.com
DTSTAMP:20260420T230100Z
DTSTART;TZID=America/Denver:20260428T210000
DURATION:PT1H0M0S
SUMMARY:Swingers vs. The Draper Wizards
DESCRIPTION:Men's Upper League 2026 - Draper City UT Parks and Recreation
LOCATION:Galena 1 (Softball)
CATEGORIES:QuickScores, Softball - Adult Game
TRANSP:OPAQUE
BEGIN:VALARM
TRIGGER:-PT2H
ACTION:DISPLAY
DESCRIPTION:Swingers vs. The Draper Wizards
END:VALARM
END:VEVENT
BEGIN:VEVENT
UID:draper-74347053-20260428T210000@quickscores.com
DTSTAMP:20260420T230100Z
DTSTART;TZID=America/Denver:20260428T210000
DURATION:PT1H0M0S
SUMMARY:The Fellas vs. Local 354 Boys
DESCRIPTION:Men's Upper League 2026 - Draper City UT Parks and Recreation
LOCATION:Galena 2 (Softball)
CATEGORIES:QuickScores, Softball - Adult Game
TRANSP:OPAQUE
BEGIN:VALARM
TRIGGER:-PT2H
ACTION:DISPLAY
DESCRIPTION:The Fellas vs. Local 354 Boys
END:VALARM
END:VEVENT
BEGIN:VEVENT
UID:draper-74347058-20260505T180000@quickscores.com
DTSTAMP:20260420T230100Z
DTSTART;TZID=America/Denver:20260505T180000
DURATION:PT1H0M0S
SUMMARY:Swingers vs. Sons of Pitches
DESCRIPTION:Men's Upper League 2026 - Draper City UT Parks and Recreation
LOCATION:Galena 3 (Softball)
CATEGORIES:QuickScores, Softball - Adult Game
TRANSP:OPAQUE
BEGIN:VALARM
TRIGGER:-PT2H
ACTION:DISPLAY
DESCRIPTION:Swingers vs. Sons of Pitches
END:VALARM
END:VEVENT
BEGIN:VEVENT
UID:draper-74347059-20260505T190000@quickscores.com
DTSTAMP:20260420T230100Z
DTSTART;TZID=America/Denver:20260505T190000
DURATION:PT1H0M0S
SUMMARY:Local 354 Boys vs. Sons of Pitches
DESCRIPTION:Men's Upper League 2026 - Draper City UT Parks and Recreation
LOCATION:Galena 3 (Softball)
CATEGORIES:QuickScores, Softball - Adult Game
TRANSP:OPAQUE
BEGIN:VALARM
TRIGGER:-PT2H
ACTION:DISPLAY
DESCRIPTION:Local 354 Boys vs. Sons of Pitches
END:VALARM
END:VEVENT
BEGIN:VEVENT
UID:draper-74347057-20260505T190000@quickscores.com
DTSTAMP:20260420T230100Z
DTSTART;TZID=America/Denver:20260505T190000
DURATION:PT1H0M0S
SUMMARY:Swingers vs. Zynners
DESCRIPTION:Men's Upper League 2026 - Draper City UT Parks and Recreation
LOCATION:Galena 4 (Softball)
CATEGORIES:QuickScores, Softball - Adult Game
TRANSP:OPAQUE
BEGIN:VALARM
TRIGGER:-PT2H
ACTION:DISPLAY
DESCRIPTION:Swingers vs. Zynners
END:VALARM
END:VEVENT
BEGIN:VEVENT
UID:draper-74347055-20260505T200000@quickscores.com
DTSTAMP:20260420T230100Z
DTSTART;TZID=America/Denver:20260505T200000
DURATION:PT1H0M0S
SUMMARY:The Fellas vs. The Draper Wizards
DESCRIPTION:Men's Upper League 2026 - Draper City UT Parks and Recreation
LOCATION:Galena 4 (Softball)
CATEGORIES:QuickScores, Softball - Adult Game
TRANSP:OPAQUE
BEGIN:VALARM
TRIGGER:-PT2H
ACTION:DISPLAY
DESCRIPTION:The Fellas vs. The Draper Wizards
END:VALARM
END:VEVENT
BEGIN:VEVENT
UID:draper-74347060-20260505T200000@quickscores.com
DTSTAMP:20260420T230100Z
DTSTART;TZID=America/Denver:20260505T200000
DURATION:PT1H0M0S
SUMMARY:Blue Ballers vs. Local 354 Boys
DESCRIPTION:Men's Upper League 2026 - Draper City UT Parks and Recreation
LOCATION:Galena 3 (Softball)
CATEGORIES:QuickScores, Softball - Adult Game
TRANSP:OPAQUE
BEGIN:VALARM
TRIGGER:-PT2H
ACTION:DISPLAY
DESCRIPTION:Blue Ballers vs. Local 354 Boys
END:VALARM
END:VEVENT
BEGIN:VEVENT
UID:draper-74347056-20260505T210000@quickscores.com
DTSTAMP:20260420T230100Z
DTSTART;TZID=America/Denver:20260505T210000
DURATION:PT1H0M0S
SUMMARY:Zynners vs. The Draper Wizards
DESCRIPTION:Men's Upper League 2026 - Draper City UT Parks and Recreation
LOCATION:Galena 4 (Softball)
CATEGORIES:QuickScores, Softball - Adult Game
TRANSP:OPAQUE
BEGIN:VALARM
TRIGGER:-PT2H
ACTION:DISPLAY
DESCRIPTION:Zynners vs. The Draper Wizards
END:VALARM
END:VEVENT
BEGIN:VEVENT
UID:draper-74347054-20260505T210000@quickscores.com
DTSTAMP:20260420T230100Z
DTSTART;TZID=America/Denver:20260505T210000
DURATION:PT1H0M0S
SUMMARY:The Fellas vs. Blue Ballers
DESCRIPTION:Men's Upper League 2026 - Draper City UT Parks and Recreation
LOCATION:Galena 3 (Softball)
CATEGORIES:QuickScores, Softball - Adult Game
TRANSP:OPAQUE
BEGIN:VALARM
TRIGGER:-PT2H
ACTION:DISPLAY
DESCRIPTION:The Fellas vs. Blue Ballers
END:VALARM
END:VEVENT
BEGIN:VEVENT
UID:draper-74347067-20260512T180000@quickscores.com
DTSTAMP:20260420T230100Z
DTSTART;TZID=America/Denver:20260512T180000
DURATION:PT1H0M0S
SUMMARY:Local 354 Boys vs. Zynners
DESCRIPTION:Men's Upper League 2026 - Draper City UT Parks and Recreation
LOCATION:Galena 2 (Softball)
CATEGORIES:QuickScores, Softball - Adult Game
TRANSP:OPAQUE
BEGIN:VALARM
TRIGGER:-PT2H
ACTION:DISPLAY
DESCRIPTION:Local 354 Boys vs. Zynners
END:VALARM
END:VEVENT
BEGIN:VEVENT
UID:draper-74347061-20260512T190000@quickscores.com
DTSTAMP:20260420T230100Z
DTSTART;TZID=America/Denver:20260512T190000
DURATION:PT1H0M0S
SUMMARY:Swingers vs. Local 354 Boys
DESCRIPTION:Men's Upper League 2026 - Draper City UT Parks and Recreation
LOCATION:Galena 1 (Softball)
CATEGORIES:QuickScores, Softball - Adult Game
TRANSP:OPAQUE
BEGIN:VALARM
TRIGGER:-PT2H
ACTION:DISPLAY
DESCRIPTION:Swingers vs. Local 354 Boys
END:VALARM
END:VEVENT
BEGIN:VEVENT
UID:draper-74347066-20260512T190000@quickscores.com
DTSTAMP:20260420T230100Z
DTSTART;TZID=America/Denver:20260512T190000
DURATION:PT1H0M0S
SUMMARY:Zynners vs. Blue Ballers
DESCRIPTION:Men's Upper League 2026 - Draper City UT Parks and Recreation
LOCATION:Galena 2 (Softball)
CATEGORIES:QuickScores, Softball - Adult Game
TRANSP:OPAQUE
BEGIN:VALARM
TRIGGER:-PT2H
ACTION:DISPLAY
DESCRIPTION:Zynners vs. Blue Ballers
END:VALARM
END:VEVENT
BEGIN:VEVENT
UID:draper-74347062-20260512T200000@quickscores.com
DTSTAMP:20260420T230100Z
DTSTART;TZID=America/Denver:20260512T200000
DURATION:PT1H0M0S
SUMMARY:The Fellas vs. Swingers
DESCRIPTION:Men's Upper League 2026 - Draper City UT Parks and Recreation
LOCATION:Galena 1 (Softball)
CATEGORIES:QuickScores, Softball - Adult Game
TRANSP:OPAQUE
BEGIN:VALARM
TRIGGER:-PT2H
ACTION:DISPLAY
DESCRIPTION:The Fellas vs. Swingers
END:VALARM
END:VEVENT
BEGIN:VEVENT
UID:draper-74347064-20260512T200000@quickscores.com
DTSTAMP:20260420T230100Z
DTSTART;TZID=America/Denver:20260512T200000
DURATION:PT1H0M0S
SUMMARY:The Draper Wizards vs. Sons of Pitches
DESCRIPTION:Men's Upper League 2026 - Draper City UT Parks and Recreation
LOCATION:Galena 2 (Softball)
CATEGORIES:QuickScores, Softball - Adult Game
TRANSP:OPAQUE
BEGIN:VALARM
TRIGGER:-PT2H
ACTION:DISPLAY
DESCRIPTION:The Draper Wizards vs. Sons of Pitches
END:VALARM
END:VEVENT
BEGIN:VEVENT
UID:draper-74347065-20260512T210000@quickscores.com
DTSTAMP:20260420T230100Z
DTSTART;TZID=America/Denver:20260512T210000
DURATION:PT1H0M0S
SUMMARY:Blue Ballers vs. The Draper Wizards
DESCRIPTION:Men's Upper League 2026 - Draper City UT Parks and Recreation
LOCATION:Galena 2 (Softball)
CATEGORIES:QuickScores, Softball - Adult Game
TRANSP:OPAQUE
BEGIN:VALARM
TRIGGER:-PT2H
ACTION:DISPLAY
DESCRIPTION:Blue Ballers vs. The Draper Wizards
END:VALARM
END:VEVENT
BEGIN:VEVENT
UID:draper-74347063-20260512T210000@quickscores.com
DTSTAMP:20260420T230100Z
DTSTART;TZID=America/Denver:20260512T210000
DURATION:PT1H0M0S
SUMMARY:Sons of Pitches vs. The Fellas
DESCRIPTION:Men's Upper League 2026 - Draper City UT Parks and Recreation
LOCATION:Galena 1 (Softball)
CATEGORIES:QuickScores, Softball - Adult Game
TRANSP:OPAQUE
BEGIN:VALARM
TRIGGER:-PT2H
ACTION:DISPLAY
DESCRIPTION:Sons of Pitches vs. The Fellas
END:VALARM
END:VEVENT
BEGIN:VEVENT
UID:draper-74347073-20260519T180000@quickscores.com
DTSTAMP:20260420T230100Z
DTSTART;TZID=America/Denver:20260519T180000
DURATION:PT1H0M0S
SUMMARY:The Draper Wizards vs. Local 354 Boys
DESCRIPTION:Men's Upper League 2026 - Draper City UT Parks and Recreation
LOCATION:Galena 3 (Softball)
CATEGORIES:QuickScores, Softball - Adult Game
TRANSP:OPAQUE
BEGIN:VALARM
TRIGGER:-PT2H
ACTION:DISPLAY
DESCRIPTION:The Draper Wizards vs. Local 354 Boys
END:VALARM
END:VEVENT
BEGIN:VEVENT
UID:draper-74347074-20260519T190000@quickscores.com
DTSTAMP:20260420T230100Z
DTSTART;TZID=America/Denver:20260519T190000
DURATION:PT1H0M0S
SUMMARY:Local 354 Boys vs. The Fellas
DESCRIPTION:Men's Upper League 2026 - Draper City UT Parks and Recreation
LOCATION:Galena 3 (Softball)
CATEGORIES:QuickScores, Softball - Adult Game
TRANSP:OPAQUE
BEGIN:VALARM
TRIGGER:-PT2H
ACTION:DISPLAY
DESCRIPTION:Local 354 Boys vs. The Fellas
END:VALARM
END:VEVENT
BEGIN:VEVENT
UID:draper-74347072-20260519T190000@quickscores.com
DTSTAMP:20260420T230100Z
DTSTART;TZID=America/Denver:20260519T190000
DURATION:PT1H0M0S
SUMMARY:The Draper Wizards vs. Swingers
DESCRIPTION:Men's Upper League 2026 - Draper City UT Parks and Recreation
LOCATION:Galena 4 (Softball)
CATEGORIES:QuickScores, Softball - Adult Game
TRANSP:OPAQUE
BEGIN:VALARM
TRIGGER:-PT2H
ACTION:DISPLAY
DESCRIPTION:The Draper Wizards vs. Swingers
END:VALARM
END:VEVENT
BEGIN:VEVENT
UID:draper-74347068-20260519T200000@quickscores.com
DTSTAMP:20260420T230100Z
DTSTART;TZID=America/Denver:20260519T200000
DURATION:PT1H0M0S
SUMMARY:Zynners vs. The Fellas
DESCRIPTION:Men's Upper League 2026 - Draper City UT Parks and Recreation
LOCATION:Galena 3 (Softball)
CATEGORIES:QuickScores, Softball - Adult Game
TRANSP:OPAQUE
BEGIN:VALARM
TRIGGER:-PT2H
ACTION:DISPLAY
DESCRIPTION:Zynners vs. The Fellas
END:VALARM
END:VEVENT
BEGIN:VEVENT
UID:draper-74347070-20260519T200000@quickscores.com
DTSTAMP:20260420T230100Z
DTSTART;TZID=America/Denver:20260519T200000
DURATION:PT1H0M0S
SUMMARY:Sons of Pitches vs. Blue Ballers
DESCRIPTION:Men's Upper League 2026 - Draper City UT Parks and Recreation
LOCATION:Galena 4 (Softball)
CATEGORIES:QuickScores, Softball - Adult Game
TRANSP:OPAQUE
BEGIN:VALARM
TRIGGER:-PT2H
ACTION:DISPLAY
DESCRIPTION:Sons of Pitches vs. Blue Ballers
END:VALARM
END:VEVENT
BEGIN:VEVENT
UID:draper-74347071-20260519T210000@quickscores.com
DTSTAMP:20260420T230100Z
DTSTART;TZID=America/Denver:20260519T210000
DURATION:PT1H0M0S
SUMMARY:Blue Ballers vs. Swingers
DESCRIPTION:Men's Upper League 2026 - Draper City UT Parks and Recreation
LOCATION:Galena 4 (Softball)
CATEGORIES:QuickScores, Softball - Adult Game
TRANSP:OPAQUE
BEGIN:VALARM
TRIGGER:-PT2H
ACTION:DISPLAY
DESCRIPTION:Blue Ballers vs. Swingers
END:VALARM
END:VEVENT
BEGIN:VEVENT
UID:draper-74347069-20260519T210000@quickscores.com
DTSTAMP:20260420T230100Z
DTSTART;TZID=America/Denver:20260519T210000
DURATION:PT1H0M0S
SUMMARY:Sons of Pitches vs. Zynners
DESCRIPTION:Men's Upper League 2026 - Draper City UT Parks and Recreation
LOCATION:Galena 3 (Softball)
CATEGORIES:QuickScores, Softball - Adult Game
TRANSP:OPAQUE
BEGIN:VALARM
TRIGGER:-PT2H
ACTION:DISPLAY
DESCRIPTION:Sons of Pitches vs. Zynners
END:VALARM
END:VEVENT
BEGIN:VEVENT
UID:draper-74347075-20260526T180000@quickscores.com
DTSTAMP:20260420T230100Z
DTSTART;TZID=America/Denver:20260526T180000
DURATION:PT1H0M0S
SUMMARY:Blue Ballers vs. The Fellas
DESCRIPTION:Men's Upper League 2026 - Draper City UT Parks and Recreation
LOCATION:Galena 1 (Softball)
CATEGORIES:QuickScores, Softball - Adult Game
TRANSP:OPAQUE
BEGIN:VALARM
TRIGGER:-PT2H
ACTION:DISPLAY
DESCRIPTION:Blue Ballers vs. The Fellas
END:VALARM
END:VEVENT
BEGIN:VEVENT
UID:draper-74347080-20260526T180000@quickscores.com
DTSTAMP:20260420T230100Z
DTSTART;TZID=America/Denver:20260526T180000
DURATION:PT1H0M0S
SUMMARY:Sons of Pitches vs. Local 354 Boys
DESCRIPTION:Men's Upper League 2026 - Draper City UT Parks and Recreation
LOCATION:Galena 2 (Softball)
CATEGORIES:QuickScores, Softball - Adult Game
TRANSP:OPAQUE
BEGIN:VALARM
TRIGGER:-PT2H
ACTION:DISPLAY
DESCRIPTION:Sons of Pitches vs. Local 354 Boys
END:VALARM
END:VEVENT
BEGIN:VEVENT
UID:draper-74347076-20260526T190000@quickscores.com
DTSTAMP:20260420T230100Z
DTSTART;TZID=America/Denver:20260526T190000
DURATION:PT1H0M0S
SUMMARY:The Fellas vs. The Draper Wizards
DESCRIPTION:Men's Upper League 2026 - Draper City UT Parks and Recreation
LOCATION:Galena 1 (Softball)
CATEGORIES:QuickScores, Softball - Adult Game
TRANSP:OPAQUE
BEGIN:VALARM
TRIGGER:-PT2H
ACTION:DISPLAY
DESCRIPTION:The Fellas vs. The Draper Wizards
END:VALARM
END:VEVENT
BEGIN:VEVENT
UID:draper-74347081-20260526T190000@quickscores.com
DTSTAMP:20260420T230100Z
DTSTART;TZID=America/Denver:20260526T190000
DURATION:PT1H0M0S
SUMMARY:Local 354 Boys vs. Blue Ballers
DESCRIPTION:Men's Upper League 2026 - Draper City UT Parks and Recreation
LOCATION:Galena 2 (Softball)
CATEGORIES:QuickScores, Softball - Adult Game
TRANSP:OPAQUE
BEGIN:VALARM
TRIGGER:-PT2H
ACTION:DISPLAY
DESCRIPTION:Local 354 Boys vs. Blue Ballers
END:VALARM
END:VEVENT
BEGIN:VEVENT
UID:draper-74347077-20260526T200000@quickscores.com
DTSTAMP:20260420T230100Z
DTSTART;TZID=America/Denver:20260526T200000
DURATION:PT1H0M0S
SUMMARY:The Draper Wizards vs. Zynners
DESCRIPTION:Men's Upper League 2026 - Draper City UT Parks and Recreation
LOCATION:Galena 1 (Softball)
CATEGORIES:QuickScores, Softball - Adult Game
TRANSP:OPAQUE
BEGIN:VALARM
TRIGGER:-PT2H
ACTION:DISPLAY
DESCRIPTION:The Draper Wizards vs. Zynners
END:VALARM
END:VEVENT
BEGIN:VEVENT
UID:draper-74347079-20260526T200000@quickscores.com
DTSTAMP:20260420T230100Z
DTSTART;TZID=America/Denver:20260526T200000
DURATION:PT1H0M0S
SUMMARY:Swingers vs. Sons of Pitches
DESCRIPTION:Men's Upper League 2026 - Draper City UT Parks and Recreation
LOCATION:Galena 2 (Softball)
CATEGORIES:QuickScores, Softball - Adult Game
TRANSP:OPAQUE
BEGIN:VALARM
TRIGGER:-PT2H
ACTION:DISPLAY
DESCRIPTION:Swingers vs. Sons of Pitches
END:VALARM
END:VEVENT
BEGIN:VEVENT
UID:draper-74347078-20260526T210000@quickscores.com
DTSTAMP:20260420T230100Z
DTSTART;TZID=America/Denver:20260526T210000
DURATION:PT1H0M0S
SUMMARY:Zynners vs. Swingers
DESCRIPTION:Men's Upper League 2026 - Draper City UT Parks and Recreation
LOCATION:Galena 1 (Softball)
CATEGORIES:QuickScores, Softball - Adult Game
TRANSP:OPAQUE
BEGIN:VALARM
TRIGGER:-PT2H
ACTION:DISPLAY
DESCRIPTION:Zynners vs. Swingers
END:VALARM
END:VEVENT
END:VCALENDAR
