BEGIN:VCALENDAR
VERSION:2.0
PRODID:-//QuickScores.com//BQ Dynamic iCal Creator//EN
METHOD:PUBLISH
X-WR-CALNAME:Harrison Thursday Coed Lower Bracket - Spring 2026
X-WR-CALDESC:QuickScores game calendar
X-PUBLISHED-TTL:PT24H
REFRESH-INTERVAL;VALUE=DURATION:PT24H
CALSCALE:GREGORIAN
BEGIN:VTIMEZONE
TZID:America/New_York
X-LIC-LOCATION:America/New_York
BEGIN:DAYLIGHT
TZNAME:EDT
TZOFFSETFROM:-0500
TZOFFSETTO:-0400
DTSTART:19700308T020000
RRULE:FREQ=YEARLY;BYMONTH=3;BYDAY=2SU
END:DAYLIGHT
BEGIN:STANDARD
TZNAME:EST
TZOFFSETFROM:-0400
TZOFFSETTO:-0500
DTSTART:19701101T020000
RRULE:FREQ=YEARLY;BYMONTH=11;BYDAY=1SU
END:STANDARD
END:VTIMEZONE
BEGIN:VEVENT
UID:cobbcounty-74324224-20260423T183000@quickscores.com
DTSTAMP:20260422T195000Z
DTSTART;TZID=America/New_York:20260423T183000
DURATION:PT0H30M0S
SUMMARY:[4] That’s What She Said vs. [5] Two-morrows
DESCRIPTION:Harrison Thursday Coed Lower Bracket - Cobb County PARKS
LOCATION:Harrison Court 4
CATEGORIES:QuickScores, Pickleball Game
TRANSP:OPAQUE
BEGIN:VALARM
TRIGGER:-PT2H
ACTION:DISPLAY
DESCRIPTION:[4] That’s What She Said vs. [5] Two-morrows
END:VALARM
END:VEVENT
BEGIN:VEVENT
UID:cobbcounty-74324225-20260423T183000@quickscores.com
DTSTAMP:20260422T195000Z
DTSTART;TZID=America/New_York:20260423T183000
DURATION:PT0H30M0S
SUMMARY:[2] Pickle Me Elmo vs. [7] Gin&Juice
DESCRIPTION:Harrison Thursday Coed Lower Bracket - Cobb County PARKS
LOCATION:Harrison Court 5
CATEGORIES:QuickScores, Pickleball Game
TRANSP:OPAQUE
BEGIN:VALARM
TRIGGER:-PT2H
ACTION:DISPLAY
DESCRIPTION:[2] Pickle Me Elmo vs. [7] Gin&Juice
END:VALARM
END:VEVENT
BEGIN:VEVENT
UID:cobbcounty-74324226-20260423T183000@quickscores.com
DTSTAMP:20260422T195000Z
DTSTART;TZID=America/New_York:20260423T183000
DURATION:PT0H30M0S
SUMMARY:[3] The Kitchen Violators vs. [6] heat wave
DESCRIPTION:Harrison Thursday Coed Lower Bracket - Cobb County PARKS
LOCATION:Harrison Court 6
CATEGORIES:QuickScores, Pickleball Game
TRANSP:OPAQUE
BEGIN:VALARM
TRIGGER:-PT2H
ACTION:DISPLAY
DESCRIPTION:[3] The Kitchen Violators vs. [6] heat wave
END:VALARM
END:VEVENT
BEGIN:VEVENT
UID:cobbcounty-74324227-20260423T190000@quickscores.com
DTSTAMP:20260422T195000Z
DTSTART;TZID=America/New_York:20260423T190000
DURATION:PT0H30M0S
SUMMARY:[1] Big Kosher Dill vs. Winner of Game 1
DESCRIPTION:Harrison Thursday Coed Lower Bracket - Cobb County PARKS
LOCATION:Harrison Court 5
CATEGORIES:QuickScores, Pickleball Game
TRANSP:OPAQUE
BEGIN:VALARM
TRIGGER:-PT2H
ACTION:DISPLAY
DESCRIPTION:[1] Big Kosher Dill vs. Winner of Game 1
END:VALARM
END:VEVENT
BEGIN:VEVENT
UID:cobbcounty-74324228-20260423T190000@quickscores.com
DTSTAMP:20260422T195000Z
DTSTART;TZID=America/New_York:20260423T190000
DURATION:PT0H30M0S
SUMMARY:Winner of Game 2 vs. Winner of Game 3
DESCRIPTION:Harrison Thursday Coed Lower Bracket - Cobb County PARKS
LOCATION:Harrison Court 6
CATEGORIES:QuickScores, Pickleball Game
TRANSP:OPAQUE
BEGIN:VALARM
TRIGGER:-PT2H
ACTION:DISPLAY
DESCRIPTION:Winner of Game 2 vs. Winner of Game 3
END:VALARM
END:VEVENT
BEGIN:VEVENT
UID:cobbcounty-74324229-20260423T193000@quickscores.com
DTSTAMP:20260422T195000Z
DTSTART;TZID=America/New_York:20260423T193000
DURATION:PT0H30M0S
SUMMARY:Winner of Game 4 vs. Winner of Game 5
DESCRIPTION:Harrison Thursday Coed Lower Bracket - Cobb County PARKS
LOCATION:Harrison Court 6
CATEGORIES:QuickScores, Pickleball Game
TRANSP:OPAQUE
BEGIN:VALARM
TRIGGER:-PT2H
ACTION:DISPLAY
DESCRIPTION:Winner of Game 4 vs. Winner of Game 5
END:VALARM
END:VEVENT
END:VCALENDAR
