BEGIN:VCALENDAR
VERSION:2.0
PRODID:-//QuickScores.com//BQ Dynamic iCal Creator//EN
METHOD:PUBLISH
X-WR-CALNAME:6th - 8th Boys South Stadium (saturday Mornings) - Spring 2026
X-WR-CALDESC:QuickScores game calendar
X-PUBLISHED-TTL:PT24H
REFRESH-INTERVAL;VALUE=DURATION:PT24H
CALSCALE:GREGORIAN
BEGIN:VTIMEZONE
TZID:America/Chicago
X-LIC-LOCATION:America/Chicago
BEGIN:DAYLIGHT
TZNAME:CDT
TZOFFSETFROM:-0600
TZOFFSETTO:-0500
DTSTART:19700308T020000
RRULE:FREQ=YEARLY;BYMONTH=3;BYDAY=2SU
END:DAYLIGHT
BEGIN:STANDARD
TZNAME:CST
TZOFFSETFROM:-0500
TZOFFSETTO:-0600
DTSTART:19701101T020000
RRULE:FREQ=YEARLY;BYMONTH=11;BYDAY=1SU
END:STANDARD
END:VTIMEZONE
BEGIN:VEVENT
UID:mke-74622575-20260425T090000@quickscores.com
DTSTAMP:20260424T051900Z
DTSTART;TZID=America/Chicago:20260425T090000
DURATION:PT1H0M0S
SUMMARY:Wedgewood Park vs. Rogers St (Orange)
DESCRIPTION:6th - 8th Boys South Stadium (saturday Mornings) - Milwaukee Recreation Youth Sports
LOCATION:South Stadium
CATEGORIES:QuickScores, Soccer - Youth Game
TRANSP:OPAQUE
BEGIN:VALARM
TRIGGER:-PT2H
ACTION:DISPLAY
DESCRIPTION:Wedgewood Park vs. Rogers St (Orange)
END:VALARM
END:VEVENT
BEGIN:VEVENT
UID:mke-74622572-20260425T100000@quickscores.com
DTSTAMP:20260424T051900Z
DTSTART;TZID=America/Chicago:20260425T100000
DURATION:PT1H0M0S
SUMMARY:Burdick vs. Kagel
DESCRIPTION:6th - 8th Boys South Stadium (saturday Mornings) - Milwaukee Recreation Youth Sports
LOCATION:South Stadium
CATEGORIES:QuickScores, Soccer - Youth Game
TRANSP:OPAQUE
BEGIN:VALARM
TRIGGER:-PT2H
ACTION:DISPLAY
DESCRIPTION:Burdick vs. Kagel
END:VALARM
END:VEVENT
BEGIN:VEVENT
UID:mke-74622574-20260425T110000@quickscores.com
DTSTAMP:20260424T051900Z
DTSTART;TZID=America/Chicago:20260425T110000
DURATION:PT1H0M0S
SUMMARY:IDEAL vs. Notre Dame
DESCRIPTION:6th - 8th Boys South Stadium (saturday Mornings) - Milwaukee Recreation Youth Sports
LOCATION:South Stadium
CATEGORIES:QuickScores, Soccer - Youth Game
TRANSP:OPAQUE
BEGIN:VALARM
TRIGGER:-PT2H
ACTION:DISPLAY
DESCRIPTION:IDEAL vs. Notre Dame
END:VALARM
END:VEVENT
BEGIN:VEVENT
UID:mke-74622573-20260425T120000@quickscores.com
DTSTAMP:20260424T051900Z
DTSTART;TZID=America/Chicago:20260425T120000
DURATION:PT1H0M0S
SUMMARY:Morgandale vs. Garland 1
DESCRIPTION:6th - 8th Boys South Stadium (saturday Mornings) - Milwaukee Recreation Youth Sports
LOCATION:South Stadium
CATEGORIES:QuickScores, Soccer - Youth Game
TRANSP:OPAQUE
BEGIN:VALARM
TRIGGER:-PT2H
ACTION:DISPLAY
DESCRIPTION:Morgandale vs. Garland 1
END:VALARM
END:VEVENT
BEGIN:VEVENT
UID:mke-74622577-20260502T090000@quickscores.com
DTSTAMP:20260424T051900Z
DTSTART;TZID=America/Chicago:20260502T090000
DURATION:PT1H0M0S
SUMMARY:Garland 1 vs. Rogers St (Orange)
DESCRIPTION:6th - 8th Boys South Stadium (saturday Mornings) - Milwaukee Recreation Youth Sports
LOCATION:South Stadium
CATEGORIES:QuickScores, Soccer - Youth Game
TRANSP:OPAQUE
BEGIN:VALARM
TRIGGER:-PT2H
ACTION:DISPLAY
DESCRIPTION:Garland 1 vs. Rogers St (Orange)
END:VALARM
END:VEVENT
BEGIN:VEVENT
UID:mke-74622576-20260502T100000@quickscores.com
DTSTAMP:20260424T051900Z
DTSTART;TZID=America/Chicago:20260502T100000
DURATION:PT1H0M0S
SUMMARY:Notre Dame vs. Wedgewood Park
DESCRIPTION:6th - 8th Boys South Stadium (saturday Mornings) - Milwaukee Recreation Youth Sports
LOCATION:South Stadium
CATEGORIES:QuickScores, Soccer - Youth Game
TRANSP:OPAQUE
BEGIN:VALARM
TRIGGER:-PT2H
ACTION:DISPLAY
DESCRIPTION:Notre Dame vs. Wedgewood Park
END:VALARM
END:VEVENT
BEGIN:VEVENT
UID:mke-74622578-20260502T110000@quickscores.com
DTSTAMP:20260424T051900Z
DTSTART;TZID=America/Chicago:20260502T110000
DURATION:PT1H0M0S
SUMMARY:Burdick vs. Morgandale
DESCRIPTION:6th - 8th Boys South Stadium (saturday Mornings) - Milwaukee Recreation Youth Sports
LOCATION:South Stadium
CATEGORIES:QuickScores, Soccer - Youth Game
TRANSP:OPAQUE
BEGIN:VALARM
TRIGGER:-PT2H
ACTION:DISPLAY
DESCRIPTION:Burdick vs. Morgandale
END:VALARM
END:VEVENT
BEGIN:VEVENT
UID:mke-74622579-20260502T120000@quickscores.com
DTSTAMP:20260424T051900Z
DTSTART;TZID=America/Chicago:20260502T120000
DURATION:PT1H0M0S
SUMMARY:Kagel vs. IDEAL
DESCRIPTION:6th - 8th Boys South Stadium (saturday Mornings) - Milwaukee Recreation Youth Sports
LOCATION:South Stadium
CATEGORIES:QuickScores, Soccer - Youth Game
TRANSP:OPAQUE
BEGIN:VALARM
TRIGGER:-PT2H
ACTION:DISPLAY
DESCRIPTION:Kagel vs. IDEAL
END:VALARM
END:VEVENT
BEGIN:VEVENT
UID:mke-74622580-20260509T090000@quickscores.com
DTSTAMP:20260424T051900Z
DTSTART;TZID=America/Chicago:20260509T090000
DURATION:PT1H0M0S
SUMMARY:Rogers St (Orange) vs. Morgandale
DESCRIPTION:6th - 8th Boys South Stadium (saturday Mornings) - Milwaukee Recreation Youth Sports
LOCATION:South Stadium
CATEGORIES:QuickScores, Soccer - Youth Game
TRANSP:OPAQUE
BEGIN:VALARM
TRIGGER:-PT2H
ACTION:DISPLAY
DESCRIPTION:Rogers St (Orange) vs. Morgandale
END:VALARM
END:VEVENT
BEGIN:VEVENT
UID:mke-74622581-20260509T100000@quickscores.com
DTSTAMP:20260424T051900Z
DTSTART;TZID=America/Chicago:20260509T100000
DURATION:PT1H0M0S
SUMMARY:Wedgewood Park vs. IDEAL
DESCRIPTION:6th - 8th Boys South Stadium (saturday Mornings) - Milwaukee Recreation Youth Sports
LOCATION:South Stadium
CATEGORIES:QuickScores, Soccer - Youth Game
TRANSP:OPAQUE
BEGIN:VALARM
TRIGGER:-PT2H
ACTION:DISPLAY
DESCRIPTION:Wedgewood Park vs. IDEAL
END:VALARM
END:VEVENT
BEGIN:VEVENT
UID:mke-74622582-20260509T110000@quickscores.com
DTSTAMP:20260424T051900Z
DTSTART;TZID=America/Chicago:20260509T110000
DURATION:PT1H0M0S
SUMMARY:Garland 1 vs. Kagel
DESCRIPTION:6th - 8th Boys South Stadium (saturday Mornings) - Milwaukee Recreation Youth Sports
LOCATION:South Stadium
CATEGORIES:QuickScores, Soccer - Youth Game
TRANSP:OPAQUE
BEGIN:VALARM
TRIGGER:-PT2H
ACTION:DISPLAY
DESCRIPTION:Garland 1 vs. Kagel
END:VALARM
END:VEVENT
BEGIN:VEVENT
UID:mke-74622583-20260509T120000@quickscores.com
DTSTAMP:20260424T051900Z
DTSTART;TZID=America/Chicago:20260509T120000
DURATION:PT1H0M0S
SUMMARY:Notre Dame vs. Burdick
DESCRIPTION:6th - 8th Boys South Stadium (saturday Mornings) - Milwaukee Recreation Youth Sports
LOCATION:South Stadium
CATEGORIES:QuickScores, Soccer - Youth Game
TRANSP:OPAQUE
BEGIN:VALARM
TRIGGER:-PT2H
ACTION:DISPLAY
DESCRIPTION:Notre Dame vs. Burdick
END:VALARM
END:VEVENT
BEGIN:VEVENT
UID:mke-74622585-20260516T090000@quickscores.com
DTSTAMP:20260424T051900Z
DTSTART;TZID=America/Chicago:20260516T090000
DURATION:PT1H0M0S
SUMMARY:Notre Dame vs. Rogers St (Orange)
DESCRIPTION:6th - 8th Boys South Stadium (saturday Mornings) - Milwaukee Recreation Youth Sports
LOCATION:South Stadium
CATEGORIES:QuickScores, Soccer - Youth Game
TRANSP:OPAQUE
BEGIN:VALARM
TRIGGER:-PT2H
ACTION:DISPLAY
DESCRIPTION:Notre Dame vs. Rogers St (Orange)
END:VALARM
END:VEVENT
BEGIN:VEVENT
UID:mke-74622584-20260516T100000@quickscores.com
DTSTAMP:20260424T051900Z
DTSTART;TZID=America/Chicago:20260516T100000
DURATION:PT1H0M0S
SUMMARY:Burdick vs. Garland 1
DESCRIPTION:6th - 8th Boys South Stadium (saturday Mornings) - Milwaukee Recreation Youth Sports
LOCATION:South Stadium
CATEGORIES:QuickScores, Soccer - Youth Game
TRANSP:OPAQUE
BEGIN:VALARM
TRIGGER:-PT2H
ACTION:DISPLAY
DESCRIPTION:Burdick vs. Garland 1
END:VALARM
END:VEVENT
BEGIN:VEVENT
UID:mke-74622587-20260516T110000@quickscores.com
DTSTAMP:20260424T051900Z
DTSTART;TZID=America/Chicago:20260516T110000
DURATION:PT1H0M0S
SUMMARY:IDEAL vs. Morgandale
DESCRIPTION:6th - 8th Boys South Stadium (saturday Mornings) - Milwaukee Recreation Youth Sports
LOCATION:South Stadium
CATEGORIES:QuickScores, Soccer - Youth Game
TRANSP:OPAQUE
BEGIN:VALARM
TRIGGER:-PT2H
ACTION:DISPLAY
DESCRIPTION:IDEAL vs. Morgandale
END:VALARM
END:VEVENT
BEGIN:VEVENT
UID:mke-74622586-20260516T120000@quickscores.com
DTSTAMP:20260424T051900Z
DTSTART;TZID=America/Chicago:20260516T120000
DURATION:PT1H0M0S
SUMMARY:Kagel vs. Wedgewood Park
DESCRIPTION:6th - 8th Boys South Stadium (saturday Mornings) - Milwaukee Recreation Youth Sports
LOCATION:South Stadium
CATEGORIES:QuickScores, Soccer - Youth Game
TRANSP:OPAQUE
BEGIN:VALARM
TRIGGER:-PT2H
ACTION:DISPLAY
DESCRIPTION:Kagel vs. Wedgewood Park
END:VALARM
END:VEVENT
BEGIN:VEVENT
UID:mke-74622588-20260530T090000@quickscores.com
DTSTAMP:20260424T051900Z
DTSTART;TZID=America/Chicago:20260530T090000
DURATION:PT1H0M0S
SUMMARY:Rogers St (Orange) vs. IDEAL
DESCRIPTION:6th - 8th Boys South Stadium (saturday Mornings) - Milwaukee Recreation Youth Sports
LOCATION:South Stadium
CATEGORIES:QuickScores, Soccer - Youth Game
TRANSP:OPAQUE
BEGIN:VALARM
TRIGGER:-PT2H
ACTION:DISPLAY
DESCRIPTION:Rogers St (Orange) vs. IDEAL
END:VALARM
END:VEVENT
BEGIN:VEVENT
UID:mke-74622589-20260530T100000@quickscores.com
DTSTAMP:20260424T051900Z
DTSTART;TZID=America/Chicago:20260530T100000
DURATION:PT1H0M0S
SUMMARY:Morgandale vs. Kagel
DESCRIPTION:6th - 8th Boys South Stadium (saturday Mornings) - Milwaukee Recreation Youth Sports
LOCATION:South Stadium
CATEGORIES:QuickScores, Soccer - Youth Game
TRANSP:OPAQUE
BEGIN:VALARM
TRIGGER:-PT2H
ACTION:DISPLAY
DESCRIPTION:Morgandale vs. Kagel
END:VALARM
END:VEVENT
BEGIN:VEVENT
UID:mke-74622590-20260530T110000@quickscores.com
DTSTAMP:20260424T051900Z
DTSTART;TZID=America/Chicago:20260530T110000
DURATION:PT1H0M0S
SUMMARY:Wedgewood Park vs. Burdick
DESCRIPTION:6th - 8th Boys South Stadium (saturday Mornings) - Milwaukee Recreation Youth Sports
LOCATION:South Stadium
CATEGORIES:QuickScores, Soccer - Youth Game
TRANSP:OPAQUE
BEGIN:VALARM
TRIGGER:-PT2H
ACTION:DISPLAY
DESCRIPTION:Wedgewood Park vs. Burdick
END:VALARM
END:VEVENT
BEGIN:VEVENT
UID:mke-74622591-20260530T120000@quickscores.com
DTSTAMP:20260424T051900Z
DTSTART;TZID=America/Chicago:20260530T120000
DURATION:PT1H0M0S
SUMMARY:Garland 1 vs. Notre Dame
DESCRIPTION:6th - 8th Boys South Stadium (saturday Mornings) - Milwaukee Recreation Youth Sports
LOCATION:South Stadium
CATEGORIES:QuickScores, Soccer - Youth Game
TRANSP:OPAQUE
BEGIN:VALARM
TRIGGER:-PT2H
ACTION:DISPLAY
DESCRIPTION:Garland 1 vs. Notre Dame
END:VALARM
END:VEVENT
BEGIN:VEVENT
UID:mke-74622594-20260606T090000@quickscores.com
DTSTAMP:20260424T051900Z
DTSTART;TZID=America/Chicago:20260606T090000
DURATION:PT1H0M0S
SUMMARY:Rogers St (Orange) vs. Burdick
DESCRIPTION:6th - 8th Boys South Stadium (saturday Mornings) - Milwaukee Recreation Youth Sports
LOCATION:South Stadium
CATEGORIES:QuickScores, Soccer - Youth Game
TRANSP:OPAQUE
BEGIN:VALARM
TRIGGER:-PT2H
ACTION:DISPLAY
DESCRIPTION:Rogers St (Orange) vs. Burdick
END:VALARM
END:VEVENT
BEGIN:VEVENT
UID:mke-74622592-20260606T100000@quickscores.com
DTSTAMP:20260424T051900Z
DTSTART;TZID=America/Chicago:20260606T100000
DURATION:PT1H0M0S
SUMMARY:IDEAL vs. Garland 1
DESCRIPTION:6th - 8th Boys South Stadium (saturday Mornings) - Milwaukee Recreation Youth Sports
LOCATION:South Stadium
CATEGORIES:QuickScores, Soccer - Youth Game
TRANSP:OPAQUE
BEGIN:VALARM
TRIGGER:-PT2H
ACTION:DISPLAY
DESCRIPTION:IDEAL vs. Garland 1
END:VALARM
END:VEVENT
BEGIN:VEVENT
UID:mke-74622593-20260606T110000@quickscores.com
DTSTAMP:20260424T051900Z
DTSTART;TZID=America/Chicago:20260606T110000
DURATION:PT1H0M0S
SUMMARY:Kagel vs. Notre Dame
DESCRIPTION:6th - 8th Boys South Stadium (saturday Mornings) - Milwaukee Recreation Youth Sports
LOCATION:South Stadium
CATEGORIES:QuickScores, Soccer - Youth Game
TRANSP:OPAQUE
BEGIN:VALARM
TRIGGER:-PT2H
ACTION:DISPLAY
DESCRIPTION:Kagel vs. Notre Dame
END:VALARM
END:VEVENT
BEGIN:VEVENT
UID:mke-74622595-20260606T120000@quickscores.com
DTSTAMP:20260424T051900Z
DTSTART;TZID=America/Chicago:20260606T120000
DURATION:PT1H0M0S
SUMMARY:Morgandale vs. Wedgewood Park
DESCRIPTION:6th - 8th Boys South Stadium (saturday Mornings) - Milwaukee Recreation Youth Sports
LOCATION:South Stadium
CATEGORIES:QuickScores, Soccer - Youth Game
TRANSP:OPAQUE
BEGIN:VALARM
TRIGGER:-PT2H
ACTION:DISPLAY
DESCRIPTION:Morgandale vs. Wedgewood Park
END:VALARM
END:VEVENT
END:VCALENDAR
