BEGIN:VCALENDAR
VERSION:2.0
PRODID:-//QuickScores.com//BQ Dynamic iCal Creator//EN
METHOD:PUBLISH
X-WR-CALNAME:(aurora Ymca) 3y-5y Coed Soccer Academy - April Session - Spring 2026
X-WR-CALDESC:QuickScores game calendar
X-PUBLISHED-TTL:PT24H
REFRESH-INTERVAL;VALUE=DURATION:PT24H
CALSCALE:GREGORIAN
BEGIN:VTIMEZONE
TZID:America/Denver
X-LIC-LOCATION:America/Denver
BEGIN:DAYLIGHT
TZNAME:MDT
TZOFFSETFROM:-0700
TZOFFSETTO:-0600
DTSTART:19700308T020000
RRULE:FREQ=YEARLY;BYMONTH=3;BYDAY=2SU
END:DAYLIGHT
BEGIN:STANDARD
TZNAME:MST
TZOFFSETFROM:-0600
TZOFFSETTO:-0700
DTSTART:19701101T020000
RRULE:FREQ=YEARLY;BYMONTH=11;BYDAY=1SU
END:STANDARD
END:VTIMEZONE
BEGIN:VEVENT
UID:denverymca-74227562-20260411T093000@quickscores.com
DTSTAMP:20260424T143500Z
DTSTART;TZID=America/Denver:20260411T093000
DURATION:PT1H0M0S
SUMMARY:Practice: Soccer Academy
DESCRIPTION:(aurora Ymca) 3y-5y Coed Soccer Academy - April Session - YMCA of Metropolitan Denver - Youth Sports
LOCATION:Aurora YMCA - Urban Soccer Field
CATEGORIES:QuickScores, Soccer Academy Game
TRANSP:OPAQUE
BEGIN:VALARM
TRIGGER:-PT2H
ACTION:DISPLAY
DESCRIPTION:Practice: Soccer Academy
END:VALARM
END:VEVENT
BEGIN:VEVENT
UID:denverymca-74227563-20260418T093000@quickscores.com
DTSTAMP:20260424T143500Z
DTSTART;TZID=America/Denver:20260418T093000
DURATION:PT1H0M0S
SUMMARY:Practice: Soccer Academy
DESCRIPTION:(aurora Ymca) 3y-5y Coed Soccer Academy - April Session - YMCA of Metropolitan Denver - Youth Sports
LOCATION:Aurora YMCA - Urban Soccer Field
CATEGORIES:QuickScores, Soccer Academy Game
TRANSP:OPAQUE
BEGIN:VALARM
TRIGGER:-PT2H
ACTION:DISPLAY
DESCRIPTION:Practice: Soccer Academy
END:VALARM
END:VEVENT
BEGIN:VEVENT
UID:denverymca-74227564-20260425T093000@quickscores.com
DTSTAMP:20260424T143500Z
DTSTART;TZID=America/Denver:20260425T093000
DURATION:PT1H0M0S
SUMMARY:Practice: Soccer Academy
DESCRIPTION:(aurora Ymca) 3y-5y Coed Soccer Academy - April Session - YMCA of Metropolitan Denver - Youth Sports
LOCATION:Aurora YMCA - Urban Soccer Field
CATEGORIES:QuickScores, Soccer Academy Game
TRANSP:OPAQUE
BEGIN:VALARM
TRIGGER:-PT2H
ACTION:DISPLAY
DESCRIPTION:Practice: Soccer Academy
END:VALARM
END:VEVENT
BEGIN:VEVENT
UID:denverymca-74227565-20260502T093000@quickscores.com
DTSTAMP:20260424T143500Z
DTSTART;TZID=America/Denver:20260502T093000
DURATION:PT1H0M0S
SUMMARY:Practice: Soccer Academy
DESCRIPTION:(aurora Ymca) 3y-5y Coed Soccer Academy - April Session - YMCA of Metropolitan Denver - Youth Sports
LOCATION:Aurora YMCA - Urban Soccer Field
CATEGORIES:QuickScores, Soccer Academy Game
TRANSP:OPAQUE
BEGIN:VALARM
TRIGGER:-PT2H
ACTION:DISPLAY
DESCRIPTION:Practice: Soccer Academy
END:VALARM
END:VEVENT
END:VCALENDAR
