BEGIN:VCALENDAR
VERSION:2.0
PRODID:-//QuickScores.com//BQ Dynamic iCal Creator//EN
METHOD:PUBLISH
X-WR-CALNAME:Boys Tykes - 2020-2022 - Spring 2026
X-WR-CALDESC:QuickScores game calendar
X-PUBLISHED-TTL:PT24H
REFRESH-INTERVAL;VALUE=DURATION:PT24H
CALSCALE:GREGORIAN
BEGIN:VTIMEZONE
TZID:America/New_York
X-LIC-LOCATION:America/New_York
BEGIN:DAYLIGHT
TZNAME:EDT
TZOFFSETFROM:-0500
TZOFFSETTO:-0400
DTSTART:19700308T020000
RRULE:FREQ=YEARLY;BYMONTH=3;BYDAY=2SU
END:DAYLIGHT
BEGIN:STANDARD
TZNAME:EST
TZOFFSETFROM:-0400
TZOFFSETTO:-0500
DTSTART:19701101T020000
RRULE:FREQ=YEARLY;BYMONTH=11;BYDAY=1SU
END:STANDARD
END:VTIMEZONE
BEGIN:VEVENT
UID:kcsl-74194704-20260418T090000@quickscores.com
DTSTAMP:20260422T045000Z
DTSTART;TZID=America/New_York:20260418T090000
DURATION:PT1H0M0S
SUMMARY:Growing Kids Learning Center vs. Mundos Painting
DESCRIPTION:Boys Tykes - 2020-2022 - Kosciusko County Soccer League
LOCATION:CCAC Field T1 (Tykes)
CATEGORIES:QuickScores, Soccer Game
TRANSP:OPAQUE
BEGIN:VALARM
TRIGGER:-PT2H
ACTION:DISPLAY
DESCRIPTION:Growing Kids Learning Center vs. Mundos Painting
END:VALARM
END:VEVENT
BEGIN:VEVENT
UID:kcsl-74194705-20260418T100000@quickscores.com
DTSTAMP:20260422T045000Z
DTSTART;TZID=America/New_York:20260418T100000
DURATION:PT1H0M0S
SUMMARY:Metcalf, Payne & Bell vs. World Missionary Press
DESCRIPTION:Boys Tykes - 2020-2022 - Kosciusko County Soccer League
LOCATION:CCAC Field T1 (Tykes)
CATEGORIES:QuickScores, Soccer Game
TRANSP:OPAQUE
BEGIN:VALARM
TRIGGER:-PT2H
ACTION:DISPLAY
DESCRIPTION:Metcalf, Payne & Bell vs. World Missionary Press
END:VALARM
END:VEVENT
BEGIN:VEVENT
UID:kcsl-74194703-20260418T110000@quickscores.com
DTSTAMP:20260422T045000Z
DTSTART;TZID=America/New_York:20260418T110000
DURATION:PT1H0M0S
SUMMARY:Hollar Dental Group vs. Polywood
DESCRIPTION:Boys Tykes - 2020-2022 - Kosciusko County Soccer League
LOCATION:CCAC Field T1 (Tykes)
CATEGORIES:QuickScores, Soccer Game
TRANSP:OPAQUE
BEGIN:VALARM
TRIGGER:-PT2H
ACTION:DISPLAY
DESCRIPTION:Hollar Dental Group vs. Polywood
END:VALARM
END:VEVENT
BEGIN:VEVENT
UID:kcsl-74194706-20260420T173000@quickscores.com
DTSTAMP:20260422T045000Z
DTSTART;TZID=America/New_York:20260420T173000
DURATION:PT1H0M0S
SUMMARY:Metcalf, Payne & Bell vs. Polywood
DESCRIPTION:Boys Tykes - 2020-2022 - Kosciusko County Soccer League
LOCATION:CCAC Field T2 (Tykes)
CATEGORIES:QuickScores, Soccer Game
TRANSP:OPAQUE
BEGIN:VALARM
TRIGGER:-PT2H
ACTION:DISPLAY
DESCRIPTION:Metcalf, Payne & Bell vs. Polywood
END:VALARM
END:VEVENT
BEGIN:VEVENT
UID:kcsl-74194708-20260420T173000@quickscores.com
DTSTAMP:20260422T045000Z
DTSTART;TZID=America/New_York:20260420T173000
DURATION:PT1H0M0S
SUMMARY:World Missionary Press vs. Mundos Painting
DESCRIPTION:Boys Tykes - 2020-2022 - Kosciusko County Soccer League
LOCATION:CCAC Field T1 (Tykes)
CATEGORIES:QuickScores, Soccer Game
TRANSP:OPAQUE
BEGIN:VALARM
TRIGGER:-PT2H
ACTION:DISPLAY
DESCRIPTION:World Missionary Press vs. Mundos Painting
END:VALARM
END:VEVENT
BEGIN:VEVENT
UID:kcsl-74194707-20260420T183000@quickscores.com
DTSTAMP:20260422T045000Z
DTSTART;TZID=America/New_York:20260420T183000
DURATION:PT1H0M0S
SUMMARY:Hollar Dental Group vs. Growing Kids Learning Center
DESCRIPTION:Boys Tykes - 2020-2022 - Kosciusko County Soccer League
LOCATION:CCAC Field T1 (Tykes)
CATEGORIES:QuickScores, Soccer Game
TRANSP:OPAQUE
BEGIN:VALARM
TRIGGER:-PT2H
ACTION:DISPLAY
DESCRIPTION:Hollar Dental Group vs. Growing Kids Learning Center
END:VALARM
END:VEVENT
BEGIN:VEVENT
UID:kcsl-74194710-20260425T090000@quickscores.com
DTSTAMP:20260422T045000Z
DTSTART;TZID=America/New_York:20260425T090000
DURATION:PT1H0M0S
SUMMARY:Hollar Dental Group vs. Mundos Painting
DESCRIPTION:Boys Tykes - 2020-2022 - Kosciusko County Soccer League
LOCATION:CCAC Field T1 (Tykes)
CATEGORIES:QuickScores, Soccer Game
TRANSP:OPAQUE
BEGIN:VALARM
TRIGGER:-PT2H
ACTION:DISPLAY
DESCRIPTION:Hollar Dental Group vs. Mundos Painting
END:VALARM
END:VEVENT
BEGIN:VEVENT
UID:kcsl-74194709-20260425T100000@quickscores.com
DTSTAMP:20260422T045000Z
DTSTART;TZID=America/New_York:20260425T100000
DURATION:PT1H0M0S
SUMMARY:Polywood vs. World Missionary Press
DESCRIPTION:Boys Tykes - 2020-2022 - Kosciusko County Soccer League
LOCATION:CCAC Field T1 (Tykes)
CATEGORIES:QuickScores, Soccer Game
TRANSP:OPAQUE
BEGIN:VALARM
TRIGGER:-PT2H
ACTION:DISPLAY
DESCRIPTION:Polywood vs. World Missionary Press
END:VALARM
END:VEVENT
BEGIN:VEVENT
UID:kcsl-74194711-20260425T110000@quickscores.com
DTSTAMP:20260422T045000Z
DTSTART;TZID=America/New_York:20260425T110000
DURATION:PT1H0M0S
SUMMARY:Growing Kids Learning Center vs. Metcalf, Payne & Bell
DESCRIPTION:Boys Tykes - 2020-2022 - Kosciusko County Soccer League
LOCATION:CCAC Field T1 (Tykes)
CATEGORIES:QuickScores, Soccer Game
TRANSP:OPAQUE
BEGIN:VALARM
TRIGGER:-PT2H
ACTION:DISPLAY
DESCRIPTION:Growing Kids Learning Center vs. Metcalf, Payne & Bell
END:VALARM
END:VEVENT
BEGIN:VEVENT
UID:kcsl-74194712-20260427T173000@quickscores.com
DTSTAMP:20260422T045000Z
DTSTART;TZID=America/New_York:20260427T173000
DURATION:PT1H0M0S
SUMMARY:Hollar Dental Group vs. Metcalf, Payne & Bell
DESCRIPTION:Boys Tykes - 2020-2022 - Kosciusko County Soccer League
LOCATION:CCAC Field T2 (Tykes)
CATEGORIES:QuickScores, Soccer Game
TRANSP:OPAQUE
BEGIN:VALARM
TRIGGER:-PT2H
ACTION:DISPLAY
DESCRIPTION:Hollar Dental Group vs. Metcalf, Payne & Bell
END:VALARM
END:VEVENT
BEGIN:VEVENT
UID:kcsl-74194714-20260427T173000@quickscores.com
DTSTAMP:20260422T045000Z
DTSTART;TZID=America/New_York:20260427T173000
DURATION:PT1H0M0S
SUMMARY:Mundos Painting vs. Polywood
DESCRIPTION:Boys Tykes - 2020-2022 - Kosciusko County Soccer League
LOCATION:CCAC Field T1 (Tykes)
CATEGORIES:QuickScores, Soccer Game
TRANSP:OPAQUE
BEGIN:VALARM
TRIGGER:-PT2H
ACTION:DISPLAY
DESCRIPTION:Mundos Painting vs. Polywood
END:VALARM
END:VEVENT
BEGIN:VEVENT
UID:kcsl-74194713-20260427T183000@quickscores.com
DTSTAMP:20260422T045000Z
DTSTART;TZID=America/New_York:20260427T183000
DURATION:PT1H0M0S
SUMMARY:World Missionary Press vs. Growing Kids Learning Center
DESCRIPTION:Boys Tykes - 2020-2022 - Kosciusko County Soccer League
LOCATION:CCAC Field T1 (Tykes)
CATEGORIES:QuickScores, Soccer Game
TRANSP:OPAQUE
BEGIN:VALARM
TRIGGER:-PT2H
ACTION:DISPLAY
DESCRIPTION:World Missionary Press vs. Growing Kids Learning Center
END:VALARM
END:VEVENT
BEGIN:VEVENT
UID:kcsl-74194718-20260502T090000@quickscores.com
DTSTAMP:20260422T045000Z
DTSTART;TZID=America/New_York:20260502T090000
DURATION:PT1H0M0S
SUMMARY:Mundos Painting vs. Metcalf, Payne & Bell
DESCRIPTION:Boys Tykes - 2020-2022 - Kosciusko County Soccer League
LOCATION:CCAC Field T1 (Tykes)
CATEGORIES:QuickScores, Soccer Game
TRANSP:OPAQUE
BEGIN:VALARM
TRIGGER:-PT2H
ACTION:DISPLAY
DESCRIPTION:Mundos Painting vs. Metcalf, Payne & Bell
END:VALARM
END:VEVENT
BEGIN:VEVENT
UID:kcsl-74194720-20260502T100000@quickscores.com
DTSTAMP:20260422T045000Z
DTSTART;TZID=America/New_York:20260502T100000
DURATION:PT1H0M0S
SUMMARY:Polywood vs. Growing Kids Learning Center
DESCRIPTION:Boys Tykes - 2020-2022 - Kosciusko County Soccer League
LOCATION:CCAC Field T1 (Tykes)
CATEGORIES:QuickScores, Soccer Game
TRANSP:OPAQUE
BEGIN:VALARM
TRIGGER:-PT2H
ACTION:DISPLAY
DESCRIPTION:Polywood vs. Growing Kids Learning Center
END:VALARM
END:VEVENT
BEGIN:VEVENT
UID:kcsl-74194719-20260502T110000@quickscores.com
DTSTAMP:20260422T045000Z
DTSTART;TZID=America/New_York:20260502T110000
DURATION:PT1H0M0S
SUMMARY:Hollar Dental Group vs. World Missionary Press
DESCRIPTION:Boys Tykes - 2020-2022 - Kosciusko County Soccer League
LOCATION:CCAC Field T1 (Tykes)
CATEGORIES:QuickScores, Soccer Game
TRANSP:OPAQUE
BEGIN:VALARM
TRIGGER:-PT2H
ACTION:DISPLAY
DESCRIPTION:Hollar Dental Group vs. World Missionary Press
END:VALARM
END:VEVENT
BEGIN:VEVENT
UID:kcsl-74194716-20260504T173000@quickscores.com
DTSTAMP:20260422T045000Z
DTSTART;TZID=America/New_York:20260504T173000
DURATION:PT1H0M0S
SUMMARY:Mundos Painting vs. Growing Kids Learning Center
DESCRIPTION:Boys Tykes - 2020-2022 - Kosciusko County Soccer League
LOCATION:CCAC Field T2 (Tykes)
CATEGORIES:QuickScores, Soccer Game
TRANSP:OPAQUE
BEGIN:VALARM
TRIGGER:-PT2H
ACTION:DISPLAY
DESCRIPTION:Mundos Painting vs. Growing Kids Learning Center
END:VALARM
END:VEVENT
BEGIN:VEVENT
UID:kcsl-74194715-20260504T173000@quickscores.com
DTSTAMP:20260422T045000Z
DTSTART;TZID=America/New_York:20260504T173000
DURATION:PT1H0M0S
SUMMARY:Polywood vs. Hollar Dental Group
DESCRIPTION:Boys Tykes - 2020-2022 - Kosciusko County Soccer League
LOCATION:CCAC Field T1 (Tykes)
CATEGORIES:QuickScores, Soccer Game
TRANSP:OPAQUE
BEGIN:VALARM
TRIGGER:-PT2H
ACTION:DISPLAY
DESCRIPTION:Polywood vs. Hollar Dental Group
END:VALARM
END:VEVENT
BEGIN:VEVENT
UID:kcsl-74194717-20260504T183000@quickscores.com
DTSTAMP:20260422T045000Z
DTSTART;TZID=America/New_York:20260504T183000
DURATION:PT1H0M0S
SUMMARY:World Missionary Press vs. Metcalf, Payne & Bell
DESCRIPTION:Boys Tykes - 2020-2022 - Kosciusko County Soccer League
LOCATION:CCAC Field T1 (Tykes)
CATEGORIES:QuickScores, Soccer Game
TRANSP:OPAQUE
BEGIN:VALARM
TRIGGER:-PT2H
ACTION:DISPLAY
DESCRIPTION:World Missionary Press vs. Metcalf, Payne & Bell
END:VALARM
END:VEVENT
BEGIN:VEVENT
UID:kcsl-74194722-20260509T090000@quickscores.com
DTSTAMP:20260422T045000Z
DTSTART;TZID=America/New_York:20260509T090000
DURATION:PT1H0M0S
SUMMARY:Growing Kids Learning Center vs. Hollar Dental Group
DESCRIPTION:Boys Tykes - 2020-2022 - Kosciusko County Soccer League
LOCATION:CCAC Field T1 (Tykes)
CATEGORIES:QuickScores, Soccer Game
TRANSP:OPAQUE
BEGIN:VALARM
TRIGGER:-PT2H
ACTION:DISPLAY
DESCRIPTION:Growing Kids Learning Center vs. Hollar Dental Group
END:VALARM
END:VEVENT
BEGIN:VEVENT
UID:kcsl-74194721-20260509T100000@quickscores.com
DTSTAMP:20260422T045000Z
DTSTART;TZID=America/New_York:20260509T100000
DURATION:PT1H0M0S
SUMMARY:Mundos Painting vs. World Missionary Press
DESCRIPTION:Boys Tykes - 2020-2022 - Kosciusko County Soccer League
LOCATION:CCAC Field T1 (Tykes)
CATEGORIES:QuickScores, Soccer Game
TRANSP:OPAQUE
BEGIN:VALARM
TRIGGER:-PT2H
ACTION:DISPLAY
DESCRIPTION:Mundos Painting vs. World Missionary Press
END:VALARM
END:VEVENT
BEGIN:VEVENT
UID:kcsl-74194723-20260509T110000@quickscores.com
DTSTAMP:20260422T045000Z
DTSTART;TZID=America/New_York:20260509T110000
DURATION:PT1H0M0S
SUMMARY:Polywood vs. Metcalf, Payne & Bell
DESCRIPTION:Boys Tykes - 2020-2022 - Kosciusko County Soccer League
LOCATION:CCAC Field T1 (Tykes)
CATEGORIES:QuickScores, Soccer Game
TRANSP:OPAQUE
BEGIN:VALARM
TRIGGER:-PT2H
ACTION:DISPLAY
DESCRIPTION:Polywood vs. Metcalf, Payne & Bell
END:VALARM
END:VEVENT
BEGIN:VEVENT
UID:kcsl-74194726-20260511T173000@quickscores.com
DTSTAMP:20260422T045000Z
DTSTART;TZID=America/New_York:20260511T173000
DURATION:PT1H0M0S
SUMMARY:World Missionary Press vs. Polywood
DESCRIPTION:Boys Tykes - 2020-2022 - Kosciusko County Soccer League
LOCATION:CCAC Field T1 (Tykes)
CATEGORIES:QuickScores, Soccer Game
TRANSP:OPAQUE
BEGIN:VALARM
TRIGGER:-PT2H
ACTION:DISPLAY
DESCRIPTION:World Missionary Press vs. Polywood
END:VALARM
END:VEVENT
BEGIN:VEVENT
UID:kcsl-74194725-20260511T173000@quickscores.com
DTSTAMP:20260422T045000Z
DTSTART;TZID=America/New_York:20260511T173000
DURATION:PT1H0M0S
SUMMARY:Mundos Painting vs. Hollar Dental Group
DESCRIPTION:Boys Tykes - 2020-2022 - Kosciusko County Soccer League
LOCATION:CCAC Field T2 (Tykes)
CATEGORIES:QuickScores, Soccer Game
TRANSP:OPAQUE
BEGIN:VALARM
TRIGGER:-PT2H
ACTION:DISPLAY
DESCRIPTION:Mundos Painting vs. Hollar Dental Group
END:VALARM
END:VEVENT
BEGIN:VEVENT
UID:kcsl-74194724-20260511T183000@quickscores.com
DTSTAMP:20260422T045000Z
DTSTART;TZID=America/New_York:20260511T183000
DURATION:PT1H0M0S
SUMMARY:Metcalf, Payne & Bell vs. Growing Kids Learning Center
DESCRIPTION:Boys Tykes - 2020-2022 - Kosciusko County Soccer League
LOCATION:CCAC Field T1 (Tykes)
CATEGORIES:QuickScores, Soccer Game
TRANSP:OPAQUE
BEGIN:VALARM
TRIGGER:-PT2H
ACTION:DISPLAY
DESCRIPTION:Metcalf, Payne & Bell vs. Growing Kids Learning Center
END:VALARM
END:VEVENT
BEGIN:VEVENT
UID:kcsl-74194727-20260516T090000@quickscores.com
DTSTAMP:20260422T045000Z
DTSTART;TZID=America/New_York:20260516T090000
DURATION:PT1H0M0S
SUMMARY:Polywood vs. Mundos Painting
DESCRIPTION:Boys Tykes - 2020-2022 - Kosciusko County Soccer League
LOCATION:CCAC Field T1 (Tykes)
CATEGORIES:QuickScores, Soccer Game
TRANSP:OPAQUE
BEGIN:VALARM
TRIGGER:-PT2H
ACTION:DISPLAY
DESCRIPTION:Polywood vs. Mundos Painting
END:VALARM
END:VEVENT
BEGIN:VEVENT
UID:kcsl-74194729-20260516T100000@quickscores.com
DTSTAMP:20260422T045000Z
DTSTART;TZID=America/New_York:20260516T100000
DURATION:PT1H0M0S
SUMMARY:Metcalf, Payne & Bell vs. Hollar Dental Group
DESCRIPTION:Boys Tykes - 2020-2022 - Kosciusko County Soccer League
LOCATION:CCAC Field T1 (Tykes)
CATEGORIES:QuickScores, Soccer Game
TRANSP:OPAQUE
BEGIN:VALARM
TRIGGER:-PT2H
ACTION:DISPLAY
DESCRIPTION:Metcalf, Payne & Bell vs. Hollar Dental Group
END:VALARM
END:VEVENT
BEGIN:VEVENT
UID:kcsl-74194728-20260516T110000@quickscores.com
DTSTAMP:20260422T045000Z
DTSTART;TZID=America/New_York:20260516T110000
DURATION:PT1H0M0S
SUMMARY:Growing Kids Learning Center vs. World Missionary Press
DESCRIPTION:Boys Tykes - 2020-2022 - Kosciusko County Soccer League
LOCATION:CCAC Field T1 (Tykes)
CATEGORIES:QuickScores, Soccer Game
TRANSP:OPAQUE
BEGIN:VALARM
TRIGGER:-PT2H
ACTION:DISPLAY
DESCRIPTION:Growing Kids Learning Center vs. World Missionary Press
END:VALARM
END:VEVENT
BEGIN:VEVENT
UID:kcsl-74194730-20260518T173000@quickscores.com
DTSTAMP:20260422T045000Z
DTSTART;TZID=America/New_York:20260518T173000
DURATION:PT1H0M0S
SUMMARY:Metcalf, Payne & Bell vs. Mundos Painting
DESCRIPTION:Boys Tykes - 2020-2022 - Kosciusko County Soccer League
LOCATION:CCAC Field T1 (Tykes)
CATEGORIES:QuickScores, Soccer Game
TRANSP:OPAQUE
BEGIN:VALARM
TRIGGER:-PT2H
ACTION:DISPLAY
DESCRIPTION:Metcalf, Payne & Bell vs. Mundos Painting
END:VALARM
END:VEVENT
BEGIN:VEVENT
UID:kcsl-74194731-20260518T173000@quickscores.com
DTSTAMP:20260422T045000Z
DTSTART;TZID=America/New_York:20260518T173000
DURATION:PT1H0M0S
SUMMARY:Growing Kids Learning Center vs. Polywood
DESCRIPTION:Boys Tykes - 2020-2022 - Kosciusko County Soccer League
LOCATION:CCAC Field T2 (Tykes)
CATEGORIES:QuickScores, Soccer Game
TRANSP:OPAQUE
BEGIN:VALARM
TRIGGER:-PT2H
ACTION:DISPLAY
DESCRIPTION:Growing Kids Learning Center vs. Polywood
END:VALARM
END:VEVENT
BEGIN:VEVENT
UID:kcsl-74194732-20260518T183000@quickscores.com
DTSTAMP:20260422T045000Z
DTSTART;TZID=America/New_York:20260518T183000
DURATION:PT1H0M0S
SUMMARY:World Missionary Press vs. Hollar Dental Group
DESCRIPTION:Boys Tykes - 2020-2022 - Kosciusko County Soccer League
LOCATION:CCAC Field T1 (Tykes)
CATEGORIES:QuickScores, Soccer Game
TRANSP:OPAQUE
BEGIN:VALARM
TRIGGER:-PT2H
ACTION:DISPLAY
DESCRIPTION:World Missionary Press vs. Hollar Dental Group
END:VALARM
END:VEVENT
END:VCALENDAR
