BEGIN:VCALENDAR
VERSION:2.0
PRODID:-//QuickScores.com//BQ Dynamic iCal Creator//EN
METHOD:PUBLISH
X-WR-CALNAME:Adult Volleyball League - Spring 2026
X-WR-CALDESC:QuickScores game calendar
X-PUBLISHED-TTL:PT24H
REFRESH-INTERVAL;VALUE=DURATION:PT24H
CALSCALE:GREGORIAN
BEGIN:VTIMEZONE
TZID:America/Chicago
X-LIC-LOCATION:America/Chicago
BEGIN:DAYLIGHT
TZNAME:CDT
TZOFFSETFROM:-0600
TZOFFSETTO:-0500
DTSTART:19700308T020000
RRULE:FREQ=YEARLY;BYMONTH=3;BYDAY=2SU
END:DAYLIGHT
BEGIN:STANDARD
TZNAME:CST
TZOFFSETFROM:-0500
TZOFFSETTO:-0600
DTSTART:19701101T020000
RRULE:FREQ=YEARLY;BYMONTH=11;BYDAY=1SU
END:STANDARD
END:VTIMEZONE
BEGIN:VEVENT
UID:palatine-73970407-20260402T190000@quickscores.com
DTSTAMP:20260421T121000Z
DTSTART;TZID=America/Chicago:20260402T190000
DURATION:PT1H0M0S
SUMMARY:Hit It & Quit It vs. Team 2
DESCRIPTION:Adult Volleyball League - Palatine Park District
LOCATION:Falcon Park Volleyball 2
CATEGORIES:QuickScores, Volleyball Adult Game
TRANSP:OPAQUE
BEGIN:VALARM
TRIGGER:-PT2H
ACTION:DISPLAY
DESCRIPTION:Hit It & Quit It vs. Team 2
END:VALARM
END:VEVENT
BEGIN:VEVENT
UID:palatine-73970409-20260402T190000@quickscores.com
DTSTAMP:20260421T121000Z
DTSTART;TZID=America/Chicago:20260402T190000
DURATION:PT1H0M0S
SUMMARY:The Block Party vs. Team 1
DESCRIPTION:Adult Volleyball League - Palatine Park District
LOCATION:Falcon Park Volleyball 1
CATEGORIES:QuickScores, Volleyball Adult Game
TRANSP:OPAQUE
BEGIN:VALARM
TRIGGER:-PT2H
ACTION:DISPLAY
DESCRIPTION:The Block Party vs. Team 1
END:VALARM
END:VEVENT
BEGIN:VEVENT
UID:palatine-73970408-20260402T200000@quickscores.com
DTSTAMP:20260421T121000Z
DTSTART;TZID=America/Chicago:20260402T200000
DURATION:PT1H0M0S
SUMMARY:Team 1 vs. Team 2
DESCRIPTION:Adult Volleyball League - Palatine Park District
LOCATION:Falcon Park Volleyball 2
CATEGORIES:QuickScores, Volleyball Adult Game
TRANSP:OPAQUE
BEGIN:VALARM
TRIGGER:-PT2H
ACTION:DISPLAY
DESCRIPTION:Team 1 vs. Team 2
END:VALARM
END:VEVENT
BEGIN:VEVENT
UID:palatine-73970410-20260402T200000@quickscores.com
DTSTAMP:20260421T121000Z
DTSTART;TZID=America/Chicago:20260402T200000
DURATION:PT1H0M0S
SUMMARY:Hit It & Quit It vs. The Block Party
DESCRIPTION:Adult Volleyball League - Palatine Park District
LOCATION:Falcon Park Volleyball 1
CATEGORIES:QuickScores, Volleyball Adult Game
TRANSP:OPAQUE
BEGIN:VALARM
TRIGGER:-PT2H
ACTION:DISPLAY
DESCRIPTION:Hit It & Quit It vs. The Block Party
END:VALARM
END:VEVENT
BEGIN:VEVENT
UID:palatine-73970414-20260409T190000@quickscores.com
DTSTAMP:20260421T121000Z
DTSTART;TZID=America/Chicago:20260409T190000
DURATION:PT1H0M0S
SUMMARY:Team 2 vs. The Block Party
DESCRIPTION:Adult Volleyball League - Palatine Park District
LOCATION:Falcon Park Volleyball 1
CATEGORIES:QuickScores, Volleyball Adult Game
TRANSP:OPAQUE
BEGIN:VALARM
TRIGGER:-PT2H
ACTION:DISPLAY
DESCRIPTION:Team 2 vs. The Block Party
END:VALARM
END:VEVENT
BEGIN:VEVENT
UID:palatine-73970413-20260409T190000@quickscores.com
DTSTAMP:20260421T121000Z
DTSTART;TZID=America/Chicago:20260409T190000
DURATION:PT1H0M0S
SUMMARY:Hit It & Quit It vs. Team 1
DESCRIPTION:Adult Volleyball League - Palatine Park District
LOCATION:Falcon Park Volleyball 2
CATEGORIES:QuickScores, Volleyball Adult Game
TRANSP:OPAQUE
BEGIN:VALARM
TRIGGER:-PT2H
ACTION:DISPLAY
DESCRIPTION:Hit It & Quit It vs. Team 1
END:VALARM
END:VEVENT
BEGIN:VEVENT
UID:palatine-73970412-20260409T200000@quickscores.com
DTSTAMP:20260421T121000Z
DTSTART;TZID=America/Chicago:20260409T200000
DURATION:PT1H0M0S
SUMMARY:Team 1 vs. The Block Party
DESCRIPTION:Adult Volleyball League - Palatine Park District
LOCATION:Falcon Park Volleyball 2
CATEGORIES:QuickScores, Volleyball Adult Game
TRANSP:OPAQUE
BEGIN:VALARM
TRIGGER:-PT2H
ACTION:DISPLAY
DESCRIPTION:Team 1 vs. The Block Party
END:VALARM
END:VEVENT
BEGIN:VEVENT
UID:palatine-73970411-20260409T200000@quickscores.com
DTSTAMP:20260421T121000Z
DTSTART;TZID=America/Chicago:20260409T200000
DURATION:PT1H0M0S
SUMMARY:Team 2 vs. Hit It & Quit It
DESCRIPTION:Adult Volleyball League - Palatine Park District
LOCATION:Falcon Park Volleyball 1
CATEGORIES:QuickScores, Volleyball Adult Game
TRANSP:OPAQUE
BEGIN:VALARM
TRIGGER:-PT2H
ACTION:DISPLAY
DESCRIPTION:Team 2 vs. Hit It & Quit It
END:VALARM
END:VEVENT
BEGIN:VEVENT
UID:palatine-73970415-20260416T190000@quickscores.com
DTSTAMP:20260421T121000Z
DTSTART;TZID=America/Chicago:20260416T190000
DURATION:PT1H0M0S
SUMMARY:Team 2 vs. Team 1
DESCRIPTION:Adult Volleyball League - Palatine Park District
LOCATION:Falcon Park Volleyball 1
CATEGORIES:QuickScores, Volleyball Adult Game
TRANSP:OPAQUE
BEGIN:VALARM
TRIGGER:-PT2H
ACTION:DISPLAY
DESCRIPTION:Team 2 vs. Team 1
END:VALARM
END:VEVENT
BEGIN:VEVENT
UID:palatine-73970416-20260416T190000@quickscores.com
DTSTAMP:20260421T121000Z
DTSTART;TZID=America/Chicago:20260416T190000
DURATION:PT1H0M0S
SUMMARY:The Block Party vs. Hit It & Quit It
DESCRIPTION:Adult Volleyball League - Palatine Park District
LOCATION:Falcon Park Volleyball 2
CATEGORIES:QuickScores, Volleyball Adult Game
TRANSP:OPAQUE
BEGIN:VALARM
TRIGGER:-PT2H
ACTION:DISPLAY
DESCRIPTION:The Block Party vs. Hit It & Quit It
END:VALARM
END:VEVENT
BEGIN:VEVENT
UID:palatine-73970417-20260416T200000@quickscores.com
DTSTAMP:20260421T121000Z
DTSTART;TZID=America/Chicago:20260416T200000
DURATION:PT1H0M0S
SUMMARY:Team 1 vs. Hit It & Quit It
DESCRIPTION:Adult Volleyball League - Palatine Park District
LOCATION:Falcon Park Volleyball 1
CATEGORIES:QuickScores, Volleyball Adult Game
TRANSP:OPAQUE
BEGIN:VALARM
TRIGGER:-PT2H
ACTION:DISPLAY
DESCRIPTION:Team 1 vs. Hit It & Quit It
END:VALARM
END:VEVENT
BEGIN:VEVENT
UID:palatine-73970418-20260416T200000@quickscores.com
DTSTAMP:20260421T121000Z
DTSTART;TZID=America/Chicago:20260416T200000
DURATION:PT1H0M0S
SUMMARY:The Block Party vs. Team 2
DESCRIPTION:Adult Volleyball League - Palatine Park District
LOCATION:Falcon Park Volleyball 2
CATEGORIES:QuickScores, Volleyball Adult Game
TRANSP:OPAQUE
BEGIN:VALARM
TRIGGER:-PT2H
ACTION:DISPLAY
DESCRIPTION:The Block Party vs. Team 2
END:VALARM
END:VEVENT
BEGIN:VEVENT
UID:palatine-73970421-20260423T190000@quickscores.com
DTSTAMP:20260421T121000Z
DTSTART;TZID=America/Chicago:20260423T190000
DURATION:PT1H0M0S
SUMMARY:The Block Party vs. Team 1
DESCRIPTION:Adult Volleyball League - Palatine Park District
LOCATION:Falcon Park Volleyball 2
CATEGORIES:QuickScores, Volleyball Adult Game
TRANSP:OPAQUE
BEGIN:VALARM
TRIGGER:-PT2H
ACTION:DISPLAY
DESCRIPTION:The Block Party vs. Team 1
END:VALARM
END:VEVENT
BEGIN:VEVENT
UID:palatine-73970419-20260423T190000@quickscores.com
DTSTAMP:20260421T121000Z
DTSTART;TZID=America/Chicago:20260423T190000
DURATION:PT1H0M0S
SUMMARY:Hit It & Quit It vs. Team 2
DESCRIPTION:Adult Volleyball League - Palatine Park District
LOCATION:Falcon Park Volleyball 1
CATEGORIES:QuickScores, Volleyball Adult Game
TRANSP:OPAQUE
BEGIN:VALARM
TRIGGER:-PT2H
ACTION:DISPLAY
DESCRIPTION:Hit It & Quit It vs. Team 2
END:VALARM
END:VEVENT
BEGIN:VEVENT
UID:palatine-73970420-20260423T200000@quickscores.com
DTSTAMP:20260421T121000Z
DTSTART;TZID=America/Chicago:20260423T200000
DURATION:PT1H0M0S
SUMMARY:Team 1 vs. Team 2
DESCRIPTION:Adult Volleyball League - Palatine Park District
LOCATION:Falcon Park Volleyball 1
CATEGORIES:QuickScores, Volleyball Adult Game
TRANSP:OPAQUE
BEGIN:VALARM
TRIGGER:-PT2H
ACTION:DISPLAY
DESCRIPTION:Team 1 vs. Team 2
END:VALARM
END:VEVENT
BEGIN:VEVENT
UID:palatine-73970422-20260423T200000@quickscores.com
DTSTAMP:20260421T121000Z
DTSTART;TZID=America/Chicago:20260423T200000
DURATION:PT1H0M0S
SUMMARY:Hit It & Quit It vs. The Block Party
DESCRIPTION:Adult Volleyball League - Palatine Park District
LOCATION:Falcon Park Volleyball 2
CATEGORIES:QuickScores, Volleyball Adult Game
TRANSP:OPAQUE
BEGIN:VALARM
TRIGGER:-PT2H
ACTION:DISPLAY
DESCRIPTION:Hit It & Quit It vs. The Block Party
END:VALARM
END:VEVENT
BEGIN:VEVENT
UID:palatine-73970426-20260430T190000@quickscores.com
DTSTAMP:20260421T121000Z
DTSTART;TZID=America/Chicago:20260430T190000
DURATION:PT1H0M0S
SUMMARY:Team 2 vs. The Block Party
DESCRIPTION:Adult Volleyball League - Palatine Park District
LOCATION:Falcon Park Volleyball 2
CATEGORIES:QuickScores, Volleyball Adult Game
TRANSP:OPAQUE
BEGIN:VALARM
TRIGGER:-PT2H
ACTION:DISPLAY
DESCRIPTION:Team 2 vs. The Block Party
END:VALARM
END:VEVENT
BEGIN:VEVENT
UID:palatine-73970425-20260430T190000@quickscores.com
DTSTAMP:20260421T121000Z
DTSTART;TZID=America/Chicago:20260430T190000
DURATION:PT1H0M0S
SUMMARY:Hit It & Quit It vs. Team 1
DESCRIPTION:Adult Volleyball League - Palatine Park District
LOCATION:Falcon Park Volleyball 1
CATEGORIES:QuickScores, Volleyball Adult Game
TRANSP:OPAQUE
BEGIN:VALARM
TRIGGER:-PT2H
ACTION:DISPLAY
DESCRIPTION:Hit It & Quit It vs. Team 1
END:VALARM
END:VEVENT
BEGIN:VEVENT
UID:palatine-73970424-20260430T200000@quickscores.com
DTSTAMP:20260421T121000Z
DTSTART;TZID=America/Chicago:20260430T200000
DURATION:PT1H0M0S
SUMMARY:Team 1 vs. The Block Party
DESCRIPTION:Adult Volleyball League - Palatine Park District
LOCATION:Falcon Park Volleyball 1
CATEGORIES:QuickScores, Volleyball Adult Game
TRANSP:OPAQUE
BEGIN:VALARM
TRIGGER:-PT2H
ACTION:DISPLAY
DESCRIPTION:Team 1 vs. The Block Party
END:VALARM
END:VEVENT
BEGIN:VEVENT
UID:palatine-73970423-20260430T200000@quickscores.com
DTSTAMP:20260421T121000Z
DTSTART;TZID=America/Chicago:20260430T200000
DURATION:PT1H0M0S
SUMMARY:Team 2 vs. Hit It & Quit It
DESCRIPTION:Adult Volleyball League - Palatine Park District
LOCATION:Falcon Park Volleyball 2
CATEGORIES:QuickScores, Volleyball Adult Game
TRANSP:OPAQUE
BEGIN:VALARM
TRIGGER:-PT2H
ACTION:DISPLAY
DESCRIPTION:Team 2 vs. Hit It & Quit It
END:VALARM
END:VEVENT
BEGIN:VEVENT
UID:palatine-73970427-20260507T190000@quickscores.com
DTSTAMP:20260421T121000Z
DTSTART;TZID=America/Chicago:20260507T190000
DURATION:PT1H0M0S
SUMMARY:Team 2 vs. Team 1
DESCRIPTION:Adult Volleyball League - Palatine Park District
LOCATION:Falcon Park Volleyball 2
CATEGORIES:QuickScores, Volleyball Adult Game
TRANSP:OPAQUE
BEGIN:VALARM
TRIGGER:-PT2H
ACTION:DISPLAY
DESCRIPTION:Team 2 vs. Team 1
END:VALARM
END:VEVENT
BEGIN:VEVENT
UID:palatine-73970428-20260507T190000@quickscores.com
DTSTAMP:20260421T121000Z
DTSTART;TZID=America/Chicago:20260507T190000
DURATION:PT1H0M0S
SUMMARY:The Block Party vs. Hit It & Quit It
DESCRIPTION:Adult Volleyball League - Palatine Park District
LOCATION:Falcon Park Volleyball 1
CATEGORIES:QuickScores, Volleyball Adult Game
TRANSP:OPAQUE
BEGIN:VALARM
TRIGGER:-PT2H
ACTION:DISPLAY
DESCRIPTION:The Block Party vs. Hit It & Quit It
END:VALARM
END:VEVENT
BEGIN:VEVENT
UID:palatine-73970429-20260507T200000@quickscores.com
DTSTAMP:20260421T121000Z
DTSTART;TZID=America/Chicago:20260507T200000
DURATION:PT1H0M0S
SUMMARY:Team 1 vs. Hit It & Quit It
DESCRIPTION:Adult Volleyball League - Palatine Park District
LOCATION:Falcon Park Volleyball 2
CATEGORIES:QuickScores, Volleyball Adult Game
TRANSP:OPAQUE
BEGIN:VALARM
TRIGGER:-PT2H
ACTION:DISPLAY
DESCRIPTION:Team 1 vs. Hit It & Quit It
END:VALARM
END:VEVENT
BEGIN:VEVENT
UID:palatine-73970430-20260507T200000@quickscores.com
DTSTAMP:20260421T121000Z
DTSTART;TZID=America/Chicago:20260507T200000
DURATION:PT1H0M0S
SUMMARY:The Block Party vs. Team 2
DESCRIPTION:Adult Volleyball League - Palatine Park District
LOCATION:Falcon Park Volleyball 1
CATEGORIES:QuickScores, Volleyball Adult Game
TRANSP:OPAQUE
BEGIN:VALARM
TRIGGER:-PT2H
ACTION:DISPLAY
DESCRIPTION:The Block Party vs. Team 2
END:VALARM
END:VEVENT
END:VCALENDAR
