BEGIN:VCALENDAR
VERSION:2.0
PRODID:-//QuickScores.com//BQ Dynamic iCal Creator//EN
METHOD:PUBLISH
X-WR-CALNAME:2nd Grade - Girls - Spring 2026
X-WR-CALDESC:QuickScores game calendar
X-PUBLISHED-TTL:PT24H
REFRESH-INTERVAL;VALUE=DURATION:PT24H
CALSCALE:GREGORIAN
BEGIN:VTIMEZONE
TZID:America/Denver
X-LIC-LOCATION:America/Denver
BEGIN:DAYLIGHT
TZNAME:MDT
TZOFFSETFROM:-0700
TZOFFSETTO:-0600
DTSTART:19700308T020000
RRULE:FREQ=YEARLY;BYMONTH=3;BYDAY=2SU
END:DAYLIGHT
BEGIN:STANDARD
TZNAME:MST
TZOFFSETFROM:-0600
TZOFFSETTO:-0700
DTSTART:19701101T020000
RRULE:FREQ=YEARLY;BYMONTH=11;BYDAY=1SU
END:STANDARD
END:VTIMEZONE
BEGIN:VEVENT
UID:lehi-ut-74138367-20260418T090000@quickscores.com
DTSTAMP:20260423T170900Z
DTSTART;TZID=America/Denver:20260418T090000
DURATION:PT1H0M0S
SUMMARY:202G vs. 206G
DESCRIPTION:2nd Grade - Girls - www.lehi-ut.gov
LOCATION:Sports Complex Soccer Field 4
CATEGORIES:QuickScores, Soccer - Youth Game
TRANSP:OPAQUE
BEGIN:VALARM
TRIGGER:-PT2H
ACTION:DISPLAY
DESCRIPTION:202G vs. 206G
END:VALARM
END:VEVENT
BEGIN:VEVENT
UID:lehi-ut-74138366-20260418T100000@quickscores.com
DTSTAMP:20260423T170900Z
DTSTART;TZID=America/Denver:20260418T100000
DURATION:PT1H0M0S
SUMMARY:203G vs. 201G
DESCRIPTION:2nd Grade - Girls - www.lehi-ut.gov
LOCATION:Sports Complex Soccer Field 4
CATEGORIES:QuickScores, Soccer - Youth Game
TRANSP:OPAQUE
BEGIN:VALARM
TRIGGER:-PT2H
ACTION:DISPLAY
DESCRIPTION:203G vs. 201G
END:VALARM
END:VEVENT
BEGIN:VEVENT
UID:lehi-ut-74138365-20260418T110000@quickscores.com
DTSTAMP:20260423T170900Z
DTSTART;TZID=America/Denver:20260418T110000
DURATION:PT1H0M0S
SUMMARY:205G vs. 204G
DESCRIPTION:2nd Grade - Girls - www.lehi-ut.gov
LOCATION:Sports Complex Soccer Field 4
CATEGORIES:QuickScores, Soccer - Youth Game
TRANSP:OPAQUE
BEGIN:VALARM
TRIGGER:-PT2H
ACTION:DISPLAY
DESCRIPTION:205G vs. 204G
END:VALARM
END:VEVENT
BEGIN:VEVENT
UID:lehi-ut-74138369-20260422T170000@quickscores.com
DTSTAMP:20260423T170900Z
DTSTART;TZID=America/Denver:20260422T170000
DURATION:PT1H0M0S
SUMMARY:205G vs. 203G
DESCRIPTION:2nd Grade - Girls - www.lehi-ut.gov
LOCATION:Sports Complex Soccer Field 2
CATEGORIES:QuickScores, Soccer - Youth Game
TRANSP:OPAQUE
BEGIN:VALARM
TRIGGER:-PT2H
ACTION:DISPLAY
DESCRIPTION:205G vs. 203G
END:VALARM
END:VEVENT
BEGIN:VEVENT
UID:lehi-ut-74138368-20260422T180000@quickscores.com
DTSTAMP:20260423T170900Z
DTSTART;TZID=America/Denver:20260422T180000
DURATION:PT1H0M0S
SUMMARY:202G vs. 204G
DESCRIPTION:2nd Grade - Girls - www.lehi-ut.gov
LOCATION:Sports Complex Soccer Field 2
CATEGORIES:QuickScores, Soccer - Youth Game
TRANSP:OPAQUE
BEGIN:VALARM
TRIGGER:-PT2H
ACTION:DISPLAY
DESCRIPTION:202G vs. 204G
END:VALARM
END:VEVENT
BEGIN:VEVENT
UID:lehi-ut-74138370-20260422T180000@quickscores.com
DTSTAMP:20260423T170900Z
DTSTART;TZID=America/Denver:20260422T180000
DURATION:PT1H0M0S
SUMMARY:206G vs. 201G
DESCRIPTION:2nd Grade - Girls - www.lehi-ut.gov
LOCATION:Sports Complex Soccer Field 7
CATEGORIES:QuickScores, Soccer - Youth Game
TRANSP:OPAQUE
BEGIN:VALARM
TRIGGER:-PT2H
ACTION:DISPLAY
DESCRIPTION:206G vs. 201G
END:VALARM
END:VEVENT
BEGIN:VEVENT
UID:lehi-ut-74138372-20260425T090000@quickscores.com
DTSTAMP:20260423T170900Z
DTSTART;TZID=America/Denver:20260425T090000
DURATION:PT1H0M0S
SUMMARY:204G vs. 206G
DESCRIPTION:2nd Grade - Girls - www.lehi-ut.gov
LOCATION:Sports Complex Soccer Field 4
CATEGORIES:QuickScores, Soccer - Youth Game
TRANSP:OPAQUE
BEGIN:VALARM
TRIGGER:-PT2H
ACTION:DISPLAY
DESCRIPTION:204G vs. 206G
END:VALARM
END:VEVENT
BEGIN:VEVENT
UID:lehi-ut-74138371-20260425T100000@quickscores.com
DTSTAMP:20260423T170900Z
DTSTART;TZID=America/Denver:20260425T100000
DURATION:PT1H0M0S
SUMMARY:205G vs. 201G
DESCRIPTION:2nd Grade - Girls - www.lehi-ut.gov
LOCATION:Sports Complex Soccer Field 4
CATEGORIES:QuickScores, Soccer - Youth Game
TRANSP:OPAQUE
BEGIN:VALARM
TRIGGER:-PT2H
ACTION:DISPLAY
DESCRIPTION:205G vs. 201G
END:VALARM
END:VEVENT
BEGIN:VEVENT
UID:lehi-ut-74138373-20260425T110000@quickscores.com
DTSTAMP:20260423T170900Z
DTSTART;TZID=America/Denver:20260425T110000
DURATION:PT1H0M0S
SUMMARY:203G vs. 202G
DESCRIPTION:2nd Grade - Girls - www.lehi-ut.gov
LOCATION:Sports Complex Soccer Field 4
CATEGORIES:QuickScores, Soccer - Youth Game
TRANSP:OPAQUE
BEGIN:VALARM
TRIGGER:-PT2H
ACTION:DISPLAY
DESCRIPTION:203G vs. 202G
END:VALARM
END:VEVENT
BEGIN:VEVENT
UID:lehi-ut-74138374-20260502T090000@quickscores.com
DTSTAMP:20260423T170900Z
DTSTART;TZID=America/Denver:20260502T090000
DURATION:PT1H0M0S
SUMMARY:205G vs. 202G
DESCRIPTION:2nd Grade - Girls - www.lehi-ut.gov
LOCATION:Sports Complex Soccer Field 4
CATEGORIES:QuickScores, Soccer - Youth Game
TRANSP:OPAQUE
BEGIN:VALARM
TRIGGER:-PT2H
ACTION:DISPLAY
DESCRIPTION:205G vs. 202G
END:VALARM
END:VEVENT
BEGIN:VEVENT
UID:lehi-ut-74138375-20260502T100000@quickscores.com
DTSTAMP:20260423T170900Z
DTSTART;TZID=America/Denver:20260502T100000
DURATION:PT1H0M0S
SUMMARY:203G vs. 206G
DESCRIPTION:2nd Grade - Girls - www.lehi-ut.gov
LOCATION:Sports Complex Soccer Field 4
CATEGORIES:QuickScores, Soccer - Youth Game
TRANSP:OPAQUE
BEGIN:VALARM
TRIGGER:-PT2H
ACTION:DISPLAY
DESCRIPTION:203G vs. 206G
END:VALARM
END:VEVENT
BEGIN:VEVENT
UID:lehi-ut-74138376-20260502T110000@quickscores.com
DTSTAMP:20260423T170900Z
DTSTART;TZID=America/Denver:20260502T110000
DURATION:PT1H0M0S
SUMMARY:201G vs. 204G
DESCRIPTION:2nd Grade - Girls - www.lehi-ut.gov
LOCATION:Sports Complex Soccer Field 4
CATEGORIES:QuickScores, Soccer - Youth Game
TRANSP:OPAQUE
BEGIN:VALARM
TRIGGER:-PT2H
ACTION:DISPLAY
DESCRIPTION:201G vs. 204G
END:VALARM
END:VEVENT
BEGIN:VEVENT
UID:lehi-ut-74138379-20260506T170000@quickscores.com
DTSTAMP:20260423T170900Z
DTSTART;TZID=America/Denver:20260506T170000
DURATION:PT1H0M0S
SUMMARY:204G vs. 203G
DESCRIPTION:2nd Grade - Girls - www.lehi-ut.gov
LOCATION:Sports Complex Soccer Field 2
CATEGORIES:QuickScores, Soccer - Youth Game
TRANSP:OPAQUE
BEGIN:VALARM
TRIGGER:-PT2H
ACTION:DISPLAY
DESCRIPTION:204G vs. 203G
END:VALARM
END:VEVENT
BEGIN:VEVENT
UID:lehi-ut-74138378-20260506T180000@quickscores.com
DTSTAMP:20260423T170900Z
DTSTART;TZID=America/Denver:20260506T180000
DURATION:PT1H0M0S
SUMMARY:202G vs. 201G
DESCRIPTION:2nd Grade - Girls - www.lehi-ut.gov
LOCATION:Sports Complex Soccer Field 2
CATEGORIES:QuickScores, Soccer - Youth Game
TRANSP:OPAQUE
BEGIN:VALARM
TRIGGER:-PT2H
ACTION:DISPLAY
DESCRIPTION:202G vs. 201G
END:VALARM
END:VEVENT
BEGIN:VEVENT
UID:lehi-ut-74138377-20260506T180000@quickscores.com
DTSTAMP:20260423T170900Z
DTSTART;TZID=America/Denver:20260506T180000
DURATION:PT1H0M0S
SUMMARY:206G vs. 205G
DESCRIPTION:2nd Grade - Girls - www.lehi-ut.gov
LOCATION:Sports Complex Soccer Field 7
CATEGORIES:QuickScores, Soccer - Youth Game
TRANSP:OPAQUE
BEGIN:VALARM
TRIGGER:-PT2H
ACTION:DISPLAY
DESCRIPTION:206G vs. 205G
END:VALARM
END:VEVENT
BEGIN:VEVENT
UID:lehi-ut-74138381-20260509T090000@quickscores.com
DTSTAMP:20260423T170900Z
DTSTART;TZID=America/Denver:20260509T090000
DURATION:PT1H0M0S
SUMMARY:204G vs. 205G
DESCRIPTION:2nd Grade - Girls - www.lehi-ut.gov
LOCATION:Sports Complex Soccer Field 4
CATEGORIES:QuickScores, Soccer - Youth Game
TRANSP:OPAQUE
BEGIN:VALARM
TRIGGER:-PT2H
ACTION:DISPLAY
DESCRIPTION:204G vs. 205G
END:VALARM
END:VEVENT
BEGIN:VEVENT
UID:lehi-ut-74138380-20260509T100000@quickscores.com
DTSTAMP:20260423T170900Z
DTSTART;TZID=America/Denver:20260509T100000
DURATION:PT1H0M0S
SUMMARY:201G vs. 203G
DESCRIPTION:2nd Grade - Girls - www.lehi-ut.gov
LOCATION:Sports Complex Soccer Field 4
CATEGORIES:QuickScores, Soccer - Youth Game
TRANSP:OPAQUE
BEGIN:VALARM
TRIGGER:-PT2H
ACTION:DISPLAY
DESCRIPTION:201G vs. 203G
END:VALARM
END:VEVENT
BEGIN:VEVENT
UID:lehi-ut-74138382-20260509T110000@quickscores.com
DTSTAMP:20260423T170900Z
DTSTART;TZID=America/Denver:20260509T110000
DURATION:PT1H0M0S
SUMMARY:206G vs. 202G
DESCRIPTION:2nd Grade - Girls - www.lehi-ut.gov
LOCATION:Sports Complex Soccer Field 4
CATEGORIES:QuickScores, Soccer - Youth Game
TRANSP:OPAQUE
BEGIN:VALARM
TRIGGER:-PT2H
ACTION:DISPLAY
DESCRIPTION:206G vs. 202G
END:VALARM
END:VEVENT
BEGIN:VEVENT
UID:lehi-ut-74138383-20260516T090000@quickscores.com
DTSTAMP:20260423T170900Z
DTSTART;TZID=America/Denver:20260516T090000
DURATION:PT1H0M0S
SUMMARY:203G vs. 205G
DESCRIPTION:2nd Grade - Girls - www.lehi-ut.gov
LOCATION:Sports Complex Soccer Field 4
CATEGORIES:QuickScores, Soccer - Youth Game
TRANSP:OPAQUE
BEGIN:VALARM
TRIGGER:-PT2H
ACTION:DISPLAY
DESCRIPTION:203G vs. 205G
END:VALARM
END:VEVENT
BEGIN:VEVENT
UID:lehi-ut-74138384-20260516T100000@quickscores.com
DTSTAMP:20260423T170900Z
DTSTART;TZID=America/Denver:20260516T100000
DURATION:PT1H0M0S
SUMMARY:204G vs. 202G
DESCRIPTION:2nd Grade - Girls - www.lehi-ut.gov
LOCATION:Sports Complex Soccer Field 4
CATEGORIES:QuickScores, Soccer - Youth Game
TRANSP:OPAQUE
BEGIN:VALARM
TRIGGER:-PT2H
ACTION:DISPLAY
DESCRIPTION:204G vs. 202G
END:VALARM
END:VEVENT
BEGIN:VEVENT
UID:lehi-ut-74138385-20260516T110000@quickscores.com
DTSTAMP:20260423T170900Z
DTSTART;TZID=America/Denver:20260516T110000
DURATION:PT1H0M0S
SUMMARY:201G vs. 206G
DESCRIPTION:2nd Grade - Girls - www.lehi-ut.gov
LOCATION:Sports Complex Soccer Field 4
CATEGORIES:QuickScores, Soccer - Youth Game
TRANSP:OPAQUE
BEGIN:VALARM
TRIGGER:-PT2H
ACTION:DISPLAY
DESCRIPTION:201G vs. 206G
END:VALARM
END:VEVENT
BEGIN:VEVENT
UID:lehi-ut-74138386-20260520T170000@quickscores.com
DTSTAMP:20260423T170900Z
DTSTART;TZID=America/Denver:20260520T170000
DURATION:PT1H0M0S
SUMMARY:201G vs. 205G
DESCRIPTION:2nd Grade - Girls - www.lehi-ut.gov
LOCATION:Sports Complex Soccer Field 2
CATEGORIES:QuickScores, Soccer - Youth Game
TRANSP:OPAQUE
BEGIN:VALARM
TRIGGER:-PT2H
ACTION:DISPLAY
DESCRIPTION:201G vs. 205G
END:VALARM
END:VEVENT
BEGIN:VEVENT
UID:lehi-ut-74138387-20260520T180000@quickscores.com
DTSTAMP:20260423T170900Z
DTSTART;TZID=America/Denver:20260520T180000
DURATION:PT1H0M0S
SUMMARY:206G vs. 204G
DESCRIPTION:2nd Grade - Girls - www.lehi-ut.gov
LOCATION:Sports Complex Soccer Field 2
CATEGORIES:QuickScores, Soccer - Youth Game
TRANSP:OPAQUE
BEGIN:VALARM
TRIGGER:-PT2H
ACTION:DISPLAY
DESCRIPTION:206G vs. 204G
END:VALARM
END:VEVENT
BEGIN:VEVENT
UID:lehi-ut-74138388-20260520T180000@quickscores.com
DTSTAMP:20260423T170900Z
DTSTART;TZID=America/Denver:20260520T180000
DURATION:PT1H0M0S
SUMMARY:202G vs. 203G
DESCRIPTION:2nd Grade - Girls - www.lehi-ut.gov
LOCATION:Sports Complex Soccer Field 7
CATEGORIES:QuickScores, Soccer - Youth Game
TRANSP:OPAQUE
BEGIN:VALARM
TRIGGER:-PT2H
ACTION:DISPLAY
DESCRIPTION:202G vs. 203G
END:VALARM
END:VEVENT
END:VCALENDAR
