BEGIN:VCALENDAR
VERSION:2.0
PRODID:-//QuickScores.com//BQ Dynamic iCal Creator//EN
METHOD:PUBLISH
X-WR-CALNAME:Coach Pitch - Spring 2026
X-WR-CALDESC:QuickScores game calendar
X-PUBLISHED-TTL:PT24H
REFRESH-INTERVAL;VALUE=DURATION:PT24H
CALSCALE:GREGORIAN
BEGIN:VTIMEZONE
TZID:America/Los_Angeles
X-LIC-LOCATION:America/Los_Angeles
BEGIN:DAYLIGHT
TZNAME:PDT
TZOFFSETFROM:-0800
TZOFFSETTO:-0700
DTSTART:19700308T020000
RRULE:FREQ=YEARLY;BYMONTH=3;BYDAY=2SU
END:DAYLIGHT
BEGIN:STANDARD
TZNAME:PST
TZOFFSETFROM:-0700
TZOFFSETTO:-0800
DTSTART:19701101T020000
RRULE:FREQ=YEARLY;BYMONTH=11;BYDAY=1SU
END:STANDARD
END:VTIMEZONE
BEGIN:VEVENT
UID:tvrpd-73737038-20260409T173000@quickscores.com
DTSTAMP:20260423T092800Z
DTSTART;TZID=America/Los_Angeles:20260409T173000
DURATION:PT1H0M0S
SUMMARY:Trey Abarquez vs. Sam Menefee
DESCRIPTION:Coach Pitch - Tehachapi Valley Recreation and Park District
LOCATION:Field C
CATEGORIES:QuickScores, Baseball Game
TRANSP:OPAQUE
BEGIN:VALARM
TRIGGER:-PT2H
ACTION:DISPLAY
DESCRIPTION:Trey Abarquez vs. Sam Menefee
END:VALARM
END:VEVENT
BEGIN:VEVENT
UID:tvrpd-73737039-20260409T173000@quickscores.com
DTSTAMP:20260423T092800Z
DTSTART;TZID=America/Los_Angeles:20260409T173000
DURATION:PT1H0M0S
SUMMARY:Jillian Sandoval vs. John Urso
DESCRIPTION:Coach Pitch - Tehachapi Valley Recreation and Park District
LOCATION:Field E
CATEGORIES:QuickScores, Baseball Game
TRANSP:OPAQUE
BEGIN:VALARM
TRIGGER:-PT2H
ACTION:DISPLAY
DESCRIPTION:Jillian Sandoval vs. John Urso
END:VALARM
END:VEVENT
BEGIN:VEVENT
UID:tvrpd-73737040-20260409T173000@quickscores.com
DTSTAMP:20260423T092800Z
DTSTART;TZID=America/Los_Angeles:20260409T173000
DURATION:PT1H0M0S
SUMMARY:Vincent Trevino vs. James  Bernardi
DESCRIPTION:Coach Pitch - Tehachapi Valley Recreation and Park District
LOCATION:Field D
CATEGORIES:QuickScores, Baseball Game
TRANSP:OPAQUE
BEGIN:VALARM
TRIGGER:-PT2H
ACTION:DISPLAY
DESCRIPTION:Vincent Trevino vs. James  Bernardi
END:VALARM
END:VEVENT
BEGIN:VEVENT
UID:tvrpd-73737041-20260409T173000@quickscores.com
DTSTAMP:20260423T092800Z
DTSTART;TZID=America/Los_Angeles:20260409T173000
DURATION:PT1H0M0S
SUMMARY:Eric Ottsman vs. David Valdez
DESCRIPTION:Coach Pitch - Tehachapi Valley Recreation and Park District
LOCATION:Field B
CATEGORIES:QuickScores, Baseball Game
TRANSP:OPAQUE
BEGIN:VALARM
TRIGGER:-PT2H
ACTION:DISPLAY
DESCRIPTION:Eric Ottsman vs. David Valdez
END:VALARM
END:VEVENT
BEGIN:VEVENT
UID:tvrpd-73737045-20260411T111500@quickscores.com
DTSTAMP:20260423T092800Z
DTSTART;TZID=America/Los_Angeles:20260411T111500
DURATION:PT1H0M0S
SUMMARY:David Valdez vs. James  Bernardi
DESCRIPTION:Coach Pitch - Tehachapi Valley Recreation and Park District
LOCATION:Field C
CATEGORIES:QuickScores, Baseball Game
TRANSP:OPAQUE
BEGIN:VALARM
TRIGGER:-PT2H
ACTION:DISPLAY
DESCRIPTION:David Valdez vs. James  Bernardi
END:VALARM
END:VEVENT
BEGIN:VEVENT
UID:tvrpd-73737044-20260411T111500@quickscores.com
DTSTAMP:20260423T092800Z
DTSTART;TZID=America/Los_Angeles:20260411T111500
DURATION:PT1H0M0S
SUMMARY:Eric Ottsman vs. John Urso
DESCRIPTION:Coach Pitch - Tehachapi Valley Recreation and Park District
LOCATION:Field D
CATEGORIES:QuickScores, Baseball Game
TRANSP:OPAQUE
BEGIN:VALARM
TRIGGER:-PT2H
ACTION:DISPLAY
DESCRIPTION:Eric Ottsman vs. John Urso
END:VALARM
END:VEVENT
BEGIN:VEVENT
UID:tvrpd-73737043-20260411T111500@quickscores.com
DTSTAMP:20260423T092800Z
DTSTART;TZID=America/Los_Angeles:20260411T111500
DURATION:PT1H0M0S
SUMMARY:Vincent Trevino vs. Sam Menefee
DESCRIPTION:Coach Pitch - Tehachapi Valley Recreation and Park District
LOCATION:Field B
CATEGORIES:QuickScores, Baseball Game
TRANSP:OPAQUE
BEGIN:VALARM
TRIGGER:-PT2H
ACTION:DISPLAY
DESCRIPTION:Vincent Trevino vs. Sam Menefee
END:VALARM
END:VEVENT
BEGIN:VEVENT
UID:tvrpd-73737042-20260411T111500@quickscores.com
DTSTAMP:20260423T092800Z
DTSTART;TZID=America/Los_Angeles:20260411T111500
DURATION:PT1H0M0S
SUMMARY:Trey Abarquez vs. Jillian Sandoval
DESCRIPTION:Coach Pitch - Tehachapi Valley Recreation and Park District
LOCATION:Field E
CATEGORIES:QuickScores, Baseball Game
TRANSP:OPAQUE
BEGIN:VALARM
TRIGGER:-PT2H
ACTION:DISPLAY
DESCRIPTION:Trey Abarquez vs. Jillian Sandoval
END:VALARM
END:VEVENT
BEGIN:VEVENT
UID:tvrpd-73737049-20260416T173000@quickscores.com
DTSTAMP:20260423T092800Z
DTSTART;TZID=America/Los_Angeles:20260416T173000
DURATION:PT1H0M0S
SUMMARY:Vincent Trevino vs. Eric Ottsman
DESCRIPTION:Coach Pitch - Tehachapi Valley Recreation and Park District
LOCATION:Field E
CATEGORIES:QuickScores, Baseball Game
TRANSP:OPAQUE
BEGIN:VALARM
TRIGGER:-PT2H
ACTION:DISPLAY
DESCRIPTION:Vincent Trevino vs. Eric Ottsman
END:VALARM
END:VEVENT
BEGIN:VEVENT
UID:tvrpd-73737048-20260416T173000@quickscores.com
DTSTAMP:20260423T092800Z
DTSTART;TZID=America/Los_Angeles:20260416T173000
DURATION:PT1H0M0S
SUMMARY:Jillian Sandoval vs. David Valdez
DESCRIPTION:Coach Pitch - Tehachapi Valley Recreation and Park District
LOCATION:Field C
CATEGORIES:QuickScores, Baseball Game
TRANSP:OPAQUE
BEGIN:VALARM
TRIGGER:-PT2H
ACTION:DISPLAY
DESCRIPTION:Jillian Sandoval vs. David Valdez
END:VALARM
END:VEVENT
BEGIN:VEVENT
UID:tvrpd-73737047-20260416T173000@quickscores.com
DTSTAMP:20260423T092800Z
DTSTART;TZID=America/Los_Angeles:20260416T173000
DURATION:PT1H0M0S
SUMMARY:Sam Menefee vs. James  Bernardi
DESCRIPTION:Coach Pitch - Tehachapi Valley Recreation and Park District
LOCATION:Field B
CATEGORIES:QuickScores, Baseball Game
TRANSP:OPAQUE
BEGIN:VALARM
TRIGGER:-PT2H
ACTION:DISPLAY
DESCRIPTION:Sam Menefee vs. James  Bernardi
END:VALARM
END:VEVENT
BEGIN:VEVENT
UID:tvrpd-73737046-20260416T173000@quickscores.com
DTSTAMP:20260423T092800Z
DTSTART;TZID=America/Los_Angeles:20260416T173000
DURATION:PT1H0M0S
SUMMARY:Trey Abarquez vs. John Urso
DESCRIPTION:Coach Pitch - Tehachapi Valley Recreation and Park District
LOCATION:Field D
CATEGORIES:QuickScores, Baseball Game
TRANSP:OPAQUE
BEGIN:VALARM
TRIGGER:-PT2H
ACTION:DISPLAY
DESCRIPTION:Trey Abarquez vs. John Urso
END:VALARM
END:VEVENT
BEGIN:VEVENT
UID:tvrpd-73737050-20260418T111500@quickscores.com
DTSTAMP:20260423T092800Z
DTSTART;TZID=America/Los_Angeles:20260418T111500
DURATION:PT1H0M0S
SUMMARY:Vincent Trevino vs. Trey Abarquez
DESCRIPTION:Coach Pitch - Tehachapi Valley Recreation and Park District
LOCATION:Field D
CATEGORIES:QuickScores, Baseball Game
TRANSP:OPAQUE
BEGIN:VALARM
TRIGGER:-PT2H
ACTION:DISPLAY
DESCRIPTION:Vincent Trevino vs. Trey Abarquez
END:VALARM
END:VEVENT
BEGIN:VEVENT
UID:tvrpd-73737051-20260418T111500@quickscores.com
DTSTAMP:20260423T092800Z
DTSTART;TZID=America/Los_Angeles:20260418T111500
DURATION:PT1H0M0S
SUMMARY:Eric Ottsman vs. Jillian Sandoval
DESCRIPTION:Coach Pitch - Tehachapi Valley Recreation and Park District
LOCATION:Field B
CATEGORIES:QuickScores, Baseball Game
TRANSP:OPAQUE
BEGIN:VALARM
TRIGGER:-PT2H
ACTION:DISPLAY
DESCRIPTION:Eric Ottsman vs. Jillian Sandoval
END:VALARM
END:VEVENT
BEGIN:VEVENT
UID:tvrpd-73737052-20260418T111500@quickscores.com
DTSTAMP:20260423T092800Z
DTSTART;TZID=America/Los_Angeles:20260418T111500
DURATION:PT1H0M0S
SUMMARY:David Valdez vs. Sam Menefee
DESCRIPTION:Coach Pitch - Tehachapi Valley Recreation and Park District
LOCATION:Field C
CATEGORIES:QuickScores, Baseball Game
TRANSP:OPAQUE
BEGIN:VALARM
TRIGGER:-PT2H
ACTION:DISPLAY
DESCRIPTION:David Valdez vs. Sam Menefee
END:VALARM
END:VEVENT
BEGIN:VEVENT
UID:tvrpd-73737053-20260418T111500@quickscores.com
DTSTAMP:20260423T092800Z
DTSTART;TZID=America/Los_Angeles:20260418T111500
DURATION:PT1H0M0S
SUMMARY:James  Bernardi vs. John Urso
DESCRIPTION:Coach Pitch - Tehachapi Valley Recreation and Park District
LOCATION:Field E
CATEGORIES:QuickScores, Baseball Game
TRANSP:OPAQUE
BEGIN:VALARM
TRIGGER:-PT2H
ACTION:DISPLAY
DESCRIPTION:James  Bernardi vs. John Urso
END:VALARM
END:VEVENT
BEGIN:VEVENT
UID:tvrpd-73737057-20260423T173000@quickscores.com
DTSTAMP:20260423T092800Z
DTSTART;TZID=America/Los_Angeles:20260423T173000
DURATION:PT1H0M0S
SUMMARY:Jillian Sandoval vs. Vincent Trevino
DESCRIPTION:Coach Pitch - Tehachapi Valley Recreation and Park District
LOCATION:Field B
CATEGORIES:QuickScores, Baseball Game
TRANSP:OPAQUE
BEGIN:VALARM
TRIGGER:-PT2H
ACTION:DISPLAY
DESCRIPTION:Jillian Sandoval vs. Vincent Trevino
END:VALARM
END:VEVENT
BEGIN:VEVENT
UID:tvrpd-73737056-20260423T173000@quickscores.com
DTSTAMP:20260423T092800Z
DTSTART;TZID=America/Los_Angeles:20260423T173000
DURATION:PT1H0M0S
SUMMARY:Eric Ottsman vs. Sam Menefee
DESCRIPTION:Coach Pitch - Tehachapi Valley Recreation and Park District
LOCATION:Field D
CATEGORIES:QuickScores, Baseball Game
TRANSP:OPAQUE
BEGIN:VALARM
TRIGGER:-PT2H
ACTION:DISPLAY
DESCRIPTION:Eric Ottsman vs. Sam Menefee
END:VALARM
END:VEVENT
BEGIN:VEVENT
UID:tvrpd-73737055-20260423T173000@quickscores.com
DTSTAMP:20260423T092800Z
DTSTART;TZID=America/Los_Angeles:20260423T173000
DURATION:PT1H0M0S
SUMMARY:John Urso vs. David Valdez
DESCRIPTION:Coach Pitch - Tehachapi Valley Recreation and Park District
LOCATION:Field C
CATEGORIES:QuickScores, Baseball Game
TRANSP:OPAQUE
BEGIN:VALARM
TRIGGER:-PT2H
ACTION:DISPLAY
DESCRIPTION:John Urso vs. David Valdez
END:VALARM
END:VEVENT
BEGIN:VEVENT
UID:tvrpd-73737054-20260423T173000@quickscores.com
DTSTAMP:20260423T092800Z
DTSTART;TZID=America/Los_Angeles:20260423T173000
DURATION:PT1H0M0S
SUMMARY:Trey Abarquez vs. James  Bernardi
DESCRIPTION:Coach Pitch - Tehachapi Valley Recreation and Park District
LOCATION:Field E
CATEGORIES:QuickScores, Baseball Game
TRANSP:OPAQUE
BEGIN:VALARM
TRIGGER:-PT2H
ACTION:DISPLAY
DESCRIPTION:Trey Abarquez vs. James  Bernardi
END:VALARM
END:VEVENT
BEGIN:VEVENT
UID:tvrpd-73737061-20260425T111500@quickscores.com
DTSTAMP:20260423T092800Z
DTSTART;TZID=America/Los_Angeles:20260425T111500
DURATION:PT1H0M0S
SUMMARY:Sam Menefee vs. John Urso
DESCRIPTION:Coach Pitch - Tehachapi Valley Recreation and Park District
LOCATION:Field E
CATEGORIES:QuickScores, Baseball Game
TRANSP:OPAQUE
BEGIN:VALARM
TRIGGER:-PT2H
ACTION:DISPLAY
DESCRIPTION:Sam Menefee vs. John Urso
END:VALARM
END:VEVENT
BEGIN:VEVENT
UID:tvrpd-73737060-20260425T111500@quickscores.com
DTSTAMP:20260423T092800Z
DTSTART;TZID=America/Los_Angeles:20260425T111500
DURATION:PT1H0M0S
SUMMARY:Jillian Sandoval vs. James  Bernardi
DESCRIPTION:Coach Pitch - Tehachapi Valley Recreation and Park District
LOCATION:Field D
CATEGORIES:QuickScores, Baseball Game
TRANSP:OPAQUE
BEGIN:VALARM
TRIGGER:-PT2H
ACTION:DISPLAY
DESCRIPTION:Jillian Sandoval vs. James  Bernardi
END:VALARM
END:VEVENT
BEGIN:VEVENT
UID:tvrpd-73737059-20260425T111500@quickscores.com
DTSTAMP:20260423T092800Z
DTSTART;TZID=America/Los_Angeles:20260425T111500
DURATION:PT1H0M0S
SUMMARY:Vincent Trevino vs. David Valdez
DESCRIPTION:Coach Pitch - Tehachapi Valley Recreation and Park District
LOCATION:Field B
CATEGORIES:QuickScores, Baseball Game
TRANSP:OPAQUE
BEGIN:VALARM
TRIGGER:-PT2H
ACTION:DISPLAY
DESCRIPTION:Vincent Trevino vs. David Valdez
END:VALARM
END:VEVENT
BEGIN:VEVENT
UID:tvrpd-73737058-20260425T111500@quickscores.com
DTSTAMP:20260423T092800Z
DTSTART;TZID=America/Los_Angeles:20260425T111500
DURATION:PT1H0M0S
SUMMARY:Trey Abarquez vs. Eric Ottsman
DESCRIPTION:Coach Pitch - Tehachapi Valley Recreation and Park District
LOCATION:Field C
CATEGORIES:QuickScores, Baseball Game
TRANSP:OPAQUE
BEGIN:VALARM
TRIGGER:-PT2H
ACTION:DISPLAY
DESCRIPTION:Trey Abarquez vs. Eric Ottsman
END:VALARM
END:VEVENT
BEGIN:VEVENT
UID:tvrpd-73737062-20260430T173000@quickscores.com
DTSTAMP:20260423T092800Z
DTSTART;TZID=America/Los_Angeles:20260430T173000
DURATION:PT1H0M0S
SUMMARY:David Valdez vs. Trey Abarquez
DESCRIPTION:Coach Pitch - Tehachapi Valley Recreation and Park District
LOCATION:Field D
CATEGORIES:QuickScores, Baseball Game
TRANSP:OPAQUE
BEGIN:VALARM
TRIGGER:-PT2H
ACTION:DISPLAY
DESCRIPTION:David Valdez vs. Trey Abarquez
END:VALARM
END:VEVENT
BEGIN:VEVENT
UID:tvrpd-73737063-20260430T173000@quickscores.com
DTSTAMP:20260423T092800Z
DTSTART;TZID=America/Los_Angeles:20260430T173000
DURATION:PT1H0M0S
SUMMARY:James  Bernardi vs. Eric Ottsman
DESCRIPTION:Coach Pitch - Tehachapi Valley Recreation and Park District
LOCATION:Field C
CATEGORIES:QuickScores, Baseball Game
TRANSP:OPAQUE
BEGIN:VALARM
TRIGGER:-PT2H
ACTION:DISPLAY
DESCRIPTION:James  Bernardi vs. Eric Ottsman
END:VALARM
END:VEVENT
BEGIN:VEVENT
UID:tvrpd-73737064-20260430T173000@quickscores.com
DTSTAMP:20260423T092800Z
DTSTART;TZID=America/Los_Angeles:20260430T173000
DURATION:PT1H0M0S
SUMMARY:John Urso vs. Vincent Trevino
DESCRIPTION:Coach Pitch - Tehachapi Valley Recreation and Park District
LOCATION:Field B
CATEGORIES:QuickScores, Baseball Game
TRANSP:OPAQUE
BEGIN:VALARM
TRIGGER:-PT2H
ACTION:DISPLAY
DESCRIPTION:John Urso vs. Vincent Trevino
END:VALARM
END:VEVENT
BEGIN:VEVENT
UID:tvrpd-73737065-20260430T173000@quickscores.com
DTSTAMP:20260423T092800Z
DTSTART;TZID=America/Los_Angeles:20260430T173000
DURATION:PT1H0M0S
SUMMARY:Sam Menefee vs. Jillian Sandoval
DESCRIPTION:Coach Pitch - Tehachapi Valley Recreation and Park District
LOCATION:Field E
CATEGORIES:QuickScores, Baseball Game
TRANSP:OPAQUE
BEGIN:VALARM
TRIGGER:-PT2H
ACTION:DISPLAY
DESCRIPTION:Sam Menefee vs. Jillian Sandoval
END:VALARM
END:VEVENT
BEGIN:VEVENT
UID:tvrpd-73737069-20260502T111500@quickscores.com
DTSTAMP:20260423T092800Z
DTSTART;TZID=America/Los_Angeles:20260502T111500
DURATION:PT1H0M0S
SUMMARY:David Valdez vs. Eric Ottsman
DESCRIPTION:Coach Pitch - Tehachapi Valley Recreation and Park District
LOCATION:Field E
CATEGORIES:QuickScores, Baseball Game
TRANSP:OPAQUE
BEGIN:VALARM
TRIGGER:-PT2H
ACTION:DISPLAY
DESCRIPTION:David Valdez vs. Eric Ottsman
END:VALARM
END:VEVENT
BEGIN:VEVENT
UID:tvrpd-73737068-20260502T111500@quickscores.com
DTSTAMP:20260423T092800Z
DTSTART;TZID=America/Los_Angeles:20260502T111500
DURATION:PT1H0M0S
SUMMARY:James  Bernardi vs. Vincent Trevino
DESCRIPTION:Coach Pitch - Tehachapi Valley Recreation and Park District
LOCATION:Field B
CATEGORIES:QuickScores, Baseball Game
TRANSP:OPAQUE
BEGIN:VALARM
TRIGGER:-PT2H
ACTION:DISPLAY
DESCRIPTION:James  Bernardi vs. Vincent Trevino
END:VALARM
END:VEVENT
BEGIN:VEVENT
UID:tvrpd-73737067-20260502T111500@quickscores.com
DTSTAMP:20260423T092800Z
DTSTART;TZID=America/Los_Angeles:20260502T111500
DURATION:PT1H0M0S
SUMMARY:John Urso vs. Jillian Sandoval
DESCRIPTION:Coach Pitch - Tehachapi Valley Recreation and Park District
LOCATION:Field C
CATEGORIES:QuickScores, Baseball Game
TRANSP:OPAQUE
BEGIN:VALARM
TRIGGER:-PT2H
ACTION:DISPLAY
DESCRIPTION:John Urso vs. Jillian Sandoval
END:VALARM
END:VEVENT
BEGIN:VEVENT
UID:tvrpd-73737066-20260502T111500@quickscores.com
DTSTAMP:20260423T092800Z
DTSTART;TZID=America/Los_Angeles:20260502T111500
DURATION:PT1H0M0S
SUMMARY:Sam Menefee vs. Trey Abarquez
DESCRIPTION:Coach Pitch - Tehachapi Valley Recreation and Park District
LOCATION:Field D
CATEGORIES:QuickScores, Baseball Game
TRANSP:OPAQUE
BEGIN:VALARM
TRIGGER:-PT2H
ACTION:DISPLAY
DESCRIPTION:Sam Menefee vs. Trey Abarquez
END:VALARM
END:VEVENT
BEGIN:VEVENT
UID:tvrpd-73737073-20260507T173000@quickscores.com
DTSTAMP:20260423T092800Z
DTSTART;TZID=America/Los_Angeles:20260507T173000
DURATION:PT1H0M0S
SUMMARY:James  Bernardi vs. David Valdez
DESCRIPTION:Coach Pitch - Tehachapi Valley Recreation and Park District
LOCATION:Field E
CATEGORIES:QuickScores, Baseball Game
TRANSP:OPAQUE
BEGIN:VALARM
TRIGGER:-PT2H
ACTION:DISPLAY
DESCRIPTION:James  Bernardi vs. David Valdez
END:VALARM
END:VEVENT
BEGIN:VEVENT
UID:tvrpd-73737072-20260507T173000@quickscores.com
DTSTAMP:20260423T092800Z
DTSTART;TZID=America/Los_Angeles:20260507T173000
DURATION:PT1H0M0S
SUMMARY:John Urso vs. Eric Ottsman
DESCRIPTION:Coach Pitch - Tehachapi Valley Recreation and Park District
LOCATION:Field D
CATEGORIES:QuickScores, Baseball Game
TRANSP:OPAQUE
BEGIN:VALARM
TRIGGER:-PT2H
ACTION:DISPLAY
DESCRIPTION:John Urso vs. Eric Ottsman
END:VALARM
END:VEVENT
BEGIN:VEVENT
UID:tvrpd-73737071-20260507T173000@quickscores.com
DTSTAMP:20260423T092800Z
DTSTART;TZID=America/Los_Angeles:20260507T173000
DURATION:PT1H0M0S
SUMMARY:Sam Menefee vs. Vincent Trevino
DESCRIPTION:Coach Pitch - Tehachapi Valley Recreation and Park District
LOCATION:Field C
CATEGORIES:QuickScores, Baseball Game
TRANSP:OPAQUE
BEGIN:VALARM
TRIGGER:-PT2H
ACTION:DISPLAY
DESCRIPTION:Sam Menefee vs. Vincent Trevino
END:VALARM
END:VEVENT
BEGIN:VEVENT
UID:tvrpd-73737070-20260507T173000@quickscores.com
DTSTAMP:20260423T092800Z
DTSTART;TZID=America/Los_Angeles:20260507T173000
DURATION:PT1H0M0S
SUMMARY:Jillian Sandoval vs. Trey Abarquez
DESCRIPTION:Coach Pitch - Tehachapi Valley Recreation and Park District
LOCATION:Field B
CATEGORIES:QuickScores, Baseball Game
TRANSP:OPAQUE
BEGIN:VALARM
TRIGGER:-PT2H
ACTION:DISPLAY
DESCRIPTION:Jillian Sandoval vs. Trey Abarquez
END:VALARM
END:VEVENT
BEGIN:VEVENT
UID:tvrpd-73737074-20260509T111500@quickscores.com
DTSTAMP:20260423T092800Z
DTSTART;TZID=America/Los_Angeles:20260509T111500
DURATION:PT1H0M0S
SUMMARY:John Urso vs. Trey Abarquez
DESCRIPTION:Coach Pitch - Tehachapi Valley Recreation and Park District
LOCATION:Field B
CATEGORIES:QuickScores, Baseball Game
TRANSP:OPAQUE
BEGIN:VALARM
TRIGGER:-PT2H
ACTION:DISPLAY
DESCRIPTION:John Urso vs. Trey Abarquez
END:VALARM
END:VEVENT
BEGIN:VEVENT
UID:tvrpd-73737075-20260509T111500@quickscores.com
DTSTAMP:20260423T092800Z
DTSTART;TZID=America/Los_Angeles:20260509T111500
DURATION:PT1H0M0S
SUMMARY:James  Bernardi vs. Sam Menefee
DESCRIPTION:Coach Pitch - Tehachapi Valley Recreation and Park District
LOCATION:Field E
CATEGORIES:QuickScores, Baseball Game
TRANSP:OPAQUE
BEGIN:VALARM
TRIGGER:-PT2H
ACTION:DISPLAY
DESCRIPTION:James  Bernardi vs. Sam Menefee
END:VALARM
END:VEVENT
BEGIN:VEVENT
UID:tvrpd-73737076-20260509T111500@quickscores.com
DTSTAMP:20260423T092800Z
DTSTART;TZID=America/Los_Angeles:20260509T111500
DURATION:PT1H0M0S
SUMMARY:David Valdez vs. Jillian Sandoval
DESCRIPTION:Coach Pitch - Tehachapi Valley Recreation and Park District
LOCATION:Field D
CATEGORIES:QuickScores, Baseball Game
TRANSP:OPAQUE
BEGIN:VALARM
TRIGGER:-PT2H
ACTION:DISPLAY
DESCRIPTION:David Valdez vs. Jillian Sandoval
END:VALARM
END:VEVENT
BEGIN:VEVENT
UID:tvrpd-73737077-20260509T111500@quickscores.com
DTSTAMP:20260423T092800Z
DTSTART;TZID=America/Los_Angeles:20260509T111500
DURATION:PT1H0M0S
SUMMARY:Eric Ottsman vs. Vincent Trevino
DESCRIPTION:Coach Pitch - Tehachapi Valley Recreation and Park District
LOCATION:Field C
CATEGORIES:QuickScores, Baseball Game
TRANSP:OPAQUE
BEGIN:VALARM
TRIGGER:-PT2H
ACTION:DISPLAY
DESCRIPTION:Eric Ottsman vs. Vincent Trevino
END:VALARM
END:VEVENT
END:VCALENDAR
