BEGIN:VCALENDAR
VERSION:2.0
PRODID:-//QuickScores.com//BQ Dynamic iCal Creator//EN
METHOD:PUBLISH
X-WR-CALNAME:Coach Pitch - Spring 2026
X-WR-CALDESC:QuickScores game calendar
X-PUBLISHED-TTL:PT24H
REFRESH-INTERVAL;VALUE=DURATION:PT24H
CALSCALE:GREGORIAN
BEGIN:VTIMEZONE
TZID:America/New_York
X-LIC-LOCATION:America/New_York
BEGIN:DAYLIGHT
TZNAME:EDT
TZOFFSETFROM:-0500
TZOFFSETTO:-0400
DTSTART:19700308T020000
RRULE:FREQ=YEARLY;BYMONTH=3;BYDAY=2SU
END:DAYLIGHT
BEGIN:STANDARD
TZNAME:EST
TZOFFSETFROM:-0400
TZOFFSETTO:-0500
DTSTART:19701101T020000
RRULE:FREQ=YEARLY;BYMONTH=11;BYDAY=1SU
END:STANDARD
END:VTIMEZONE
BEGIN:VEVENT
UID:jacksonlittleleague-74036029-20260330T173000@quickscores.com
DTSTAMP:20260419T160900Z
DTSTART;TZID=America/New_York:20260330T173000
DURATION:PT2H0M0S
SUMMARY:McGowan vs. Callan
DESCRIPTION:Coach Pitch - Jackson Little League
LOCATION:Justice GrassB
CATEGORIES:QuickScores, Baseball Game
TRANSP:OPAQUE
BEGIN:VALARM
TRIGGER:-PT2H
ACTION:DISPLAY
DESCRIPTION:McGowan vs. Callan
END:VALARM
END:VEVENT
BEGIN:VEVENT
UID:jacksonlittleleague-74036030-20260330T173000@quickscores.com
DTSTAMP:20260419T160900Z
DTSTART;TZID=America/New_York:20260330T173000
DURATION:PT2H0M0S
SUMMARY:Practice: Duwe
DESCRIPTION:Coach Pitch - Jackson Little League
LOCATION:527 Minor
CATEGORIES:QuickScores, Baseball Game
TRANSP:OPAQUE
BEGIN:VALARM
TRIGGER:-PT2H
ACTION:DISPLAY
DESCRIPTION:Practice: Duwe
END:VALARM
END:VEVENT
BEGIN:VEVENT
UID:jacksonlittleleague-74036031-20260401T173000@quickscores.com
DTSTAMP:20260419T160900Z
DTSTART;TZID=America/New_York:20260401T173000
DURATION:PT2H0M0S
SUMMARY:Practice: Callan
DESCRIPTION:Coach Pitch - Jackson Little League
LOCATION:527 Major
CATEGORIES:QuickScores, Baseball Game
TRANSP:OPAQUE
BEGIN:VALARM
TRIGGER:-PT2H
ACTION:DISPLAY
DESCRIPTION:Practice: Callan
END:VALARM
END:VEVENT
BEGIN:VEVENT
UID:jacksonlittleleague-74036032-20260401T173000@quickscores.com
DTSTAMP:20260419T160900Z
DTSTART;TZID=America/New_York:20260401T173000
DURATION:PT2H0M0S
SUMMARY:Duwe vs. McGowan
DESCRIPTION:Coach Pitch - Jackson Little League
LOCATION:Holbrook AAA Field
CATEGORIES:QuickScores, Baseball Game
TRANSP:OPAQUE
BEGIN:VALARM
TRIGGER:-PT2H
ACTION:DISPLAY
DESCRIPTION:Duwe vs. McGowan
END:VALARM
END:VEVENT
BEGIN:VEVENT
UID:jacksonlittleleague-74334822-20260411T103000@quickscores.com
DTSTAMP:20260419T160900Z
DTSTART;TZID=America/New_York:20260411T103000
DURATION:PT2H0M0S
SUMMARY:Practice: Duwe
DESCRIPTION:Coach Pitch - Jackson Little League
LOCATION:Holbrook AAA Field
CATEGORIES:QuickScores, Baseball Game
TRANSP:OPAQUE
BEGIN:VALARM
TRIGGER:-PT2H
ACTION:DISPLAY
DESCRIPTION:Practice: Duwe
END:VALARM
END:VEVENT
BEGIN:VEVENT
UID:jacksonlittleleague-74036034-20260413T173000@quickscores.com
DTSTAMP:20260419T160900Z
DTSTART;TZID=America/New_York:20260413T173000
DURATION:PT2H0M0S
SUMMARY:Practice: McGowan
DESCRIPTION:Coach Pitch - Jackson Little League
LOCATION:Justice GrassA
CATEGORIES:QuickScores, Baseball Game
TRANSP:OPAQUE
BEGIN:VALARM
TRIGGER:-PT2H
ACTION:DISPLAY
DESCRIPTION:Practice: McGowan
END:VALARM
END:VEVENT
BEGIN:VEVENT
UID:jacksonlittleleague-74036033-20260413T173000@quickscores.com
DTSTAMP:20260419T160900Z
DTSTART;TZID=America/New_York:20260413T173000
DURATION:PT2H0M0S
SUMMARY:Duwe vs. Callan
DESCRIPTION:Coach Pitch - Jackson Little League
LOCATION:Holbrook AA Field
CATEGORIES:QuickScores, Baseball Game
TRANSP:OPAQUE
BEGIN:VALARM
TRIGGER:-PT2H
ACTION:DISPLAY
DESCRIPTION:Duwe vs. Callan
END:VALARM
END:VEVENT
BEGIN:VEVENT
UID:jacksonlittleleague-74036035-20260418T093000@quickscores.com
DTSTAMP:20260419T160900Z
DTSTART;TZID=America/New_York:20260418T093000
DURATION:PT2H0M0S
SUMMARY:McGowan vs. Callan
DESCRIPTION:Coach Pitch - Jackson Little League
LOCATION:Justice Turf2
CATEGORIES:QuickScores, Baseball Game
TRANSP:OPAQUE
BEGIN:VALARM
TRIGGER:-PT2H
ACTION:DISPLAY
DESCRIPTION:McGowan vs. Callan
END:VALARM
END:VEVENT
BEGIN:VEVENT
UID:jacksonlittleleague-74036036-20260418T093000@quickscores.com
DTSTAMP:20260419T160900Z
DTSTART;TZID=America/New_York:20260418T093000
DURATION:PT2H0M0S
SUMMARY:Practice: Duwe
DESCRIPTION:Coach Pitch - Jackson Little League
LOCATION:Justice GrassA
CATEGORIES:QuickScores, Baseball Game
TRANSP:OPAQUE
BEGIN:VALARM
TRIGGER:-PT2H
ACTION:DISPLAY
DESCRIPTION:Practice: Duwe
END:VALARM
END:VEVENT
BEGIN:VEVENT
UID:jacksonlittleleague-74036038-20260420T173000@quickscores.com
DTSTAMP:20260419T160900Z
DTSTART;TZID=America/New_York:20260420T173000
DURATION:PT2H0M0S
SUMMARY:Duwe vs. McGowan
DESCRIPTION:Coach Pitch - Jackson Little League
LOCATION:Justice Turf1
CATEGORIES:QuickScores, Baseball Game
TRANSP:OPAQUE
BEGIN:VALARM
TRIGGER:-PT2H
ACTION:DISPLAY
DESCRIPTION:Duwe vs. McGowan
END:VALARM
END:VEVENT
BEGIN:VEVENT
UID:jacksonlittleleague-74036037-20260422T173000@quickscores.com
DTSTAMP:20260419T160900Z
DTSTART;TZID=America/New_York:20260422T173000
DURATION:PT2H0M0S
SUMMARY:Practice: Callan
DESCRIPTION:Coach Pitch - Jackson Little League
LOCATION:527 Minor
CATEGORIES:QuickScores, Baseball Game
TRANSP:OPAQUE
BEGIN:VALARM
TRIGGER:-PT2H
ACTION:DISPLAY
DESCRIPTION:Practice: Callan
END:VALARM
END:VEVENT
BEGIN:VEVENT
UID:jacksonlittleleague-74036040-20260425T093000@quickscores.com
DTSTAMP:20260419T160900Z
DTSTART;TZID=America/New_York:20260425T093000
DURATION:PT2H0M0S
SUMMARY:Practice: McGowan
DESCRIPTION:Coach Pitch - Jackson Little League
LOCATION:527 Major
CATEGORIES:QuickScores, Baseball Game
TRANSP:OPAQUE
BEGIN:VALARM
TRIGGER:-PT2H
ACTION:DISPLAY
DESCRIPTION:Practice: McGowan
END:VALARM
END:VEVENT
BEGIN:VEVENT
UID:jacksonlittleleague-74036039-20260425T093000@quickscores.com
DTSTAMP:20260419T160900Z
DTSTART;TZID=America/New_York:20260425T093000
DURATION:PT2H0M0S
SUMMARY:Duwe vs. Callan
DESCRIPTION:Coach Pitch - Jackson Little League
LOCATION:Holbrook Majors Field
CATEGORIES:QuickScores, Baseball Game
TRANSP:OPAQUE
BEGIN:VALARM
TRIGGER:-PT2H
ACTION:DISPLAY
DESCRIPTION:Duwe vs. Callan
END:VALARM
END:VEVENT
BEGIN:VEVENT
UID:jacksonlittleleague-74036566-20260427T173000@quickscores.com
DTSTAMP:20260419T160900Z
DTSTART;TZID=America/New_York:20260427T173000
DURATION:PT2H0M0S
SUMMARY:McGowan vs. Callan
DESCRIPTION:Coach Pitch - Jackson Little League
LOCATION:Holbrook AA Field
CATEGORIES:QuickScores, Baseball Game
TRANSP:OPAQUE
BEGIN:VALARM
TRIGGER:-PT2H
ACTION:DISPLAY
DESCRIPTION:McGowan vs. Callan
END:VALARM
END:VEVENT
BEGIN:VEVENT
UID:jacksonlittleleague-74036567-20260427T173000@quickscores.com
DTSTAMP:20260419T160900Z
DTSTART;TZID=America/New_York:20260427T173000
DURATION:PT2H0M0S
SUMMARY:Practice: Duwe
DESCRIPTION:Coach Pitch - Jackson Little League
LOCATION:Holbrook AAA Field
CATEGORIES:QuickScores, Baseball Game
TRANSP:OPAQUE
BEGIN:VALARM
TRIGGER:-PT2H
ACTION:DISPLAY
DESCRIPTION:Practice: Duwe
END:VALARM
END:VEVENT
BEGIN:VEVENT
UID:jacksonlittleleague-74036569-20260429T173000@quickscores.com
DTSTAMP:20260419T160900Z
DTSTART;TZID=America/New_York:20260429T173000
DURATION:PT2H0M0S
SUMMARY:Practice: Callan
DESCRIPTION:Coach Pitch - Jackson Little League
LOCATION:527 Minor
CATEGORIES:QuickScores, Baseball Game
TRANSP:OPAQUE
BEGIN:VALARM
TRIGGER:-PT2H
ACTION:DISPLAY
DESCRIPTION:Practice: Callan
END:VALARM
END:VEVENT
BEGIN:VEVENT
UID:jacksonlittleleague-74036568-20260502T093000@quickscores.com
DTSTAMP:20260419T160900Z
DTSTART;TZID=America/New_York:20260502T093000
DURATION:PT2H0M0S
SUMMARY:Duwe vs. McGowan
DESCRIPTION:Coach Pitch - Jackson Little League
LOCATION:Holbrook Majors Field
CATEGORIES:QuickScores, Baseball Game
TRANSP:OPAQUE
BEGIN:VALARM
TRIGGER:-PT2H
ACTION:DISPLAY
DESCRIPTION:Duwe vs. McGowan
END:VALARM
END:VEVENT
BEGIN:VEVENT
UID:jacksonlittleleague-74036571-20260504T173000@quickscores.com
DTSTAMP:20260419T160900Z
DTSTART;TZID=America/New_York:20260504T173000
DURATION:PT2H0M0S
SUMMARY:Practice: McGowan
DESCRIPTION:Coach Pitch - Jackson Little League
LOCATION:Holbrook AA Field
CATEGORIES:QuickScores, Baseball Game
TRANSP:OPAQUE
BEGIN:VALARM
TRIGGER:-PT2H
ACTION:DISPLAY
DESCRIPTION:Practice: McGowan
END:VALARM
END:VEVENT
BEGIN:VEVENT
UID:jacksonlittleleague-74036570-20260504T173000@quickscores.com
DTSTAMP:20260419T160900Z
DTSTART;TZID=America/New_York:20260504T173000
DURATION:PT2H0M0S
SUMMARY:Callan vs. Duwe
DESCRIPTION:Coach Pitch - Jackson Little League
LOCATION:Justice Turf1
CATEGORIES:QuickScores, Baseball Game
TRANSP:OPAQUE
BEGIN:VALARM
TRIGGER:-PT2H
ACTION:DISPLAY
DESCRIPTION:Callan vs. Duwe
END:VALARM
END:VEVENT
BEGIN:VEVENT
UID:jacksonlittleleague-74036572-20260509T093000@quickscores.com
DTSTAMP:20260419T160900Z
DTSTART;TZID=America/New_York:20260509T093000
DURATION:PT2H0M0S
SUMMARY:McGowan vs. Callan
DESCRIPTION:Coach Pitch - Jackson Little League
LOCATION:Justice Turf2
CATEGORIES:QuickScores, Baseball Game
TRANSP:OPAQUE
BEGIN:VALARM
TRIGGER:-PT2H
ACTION:DISPLAY
DESCRIPTION:McGowan vs. Callan
END:VALARM
END:VEVENT
BEGIN:VEVENT
UID:jacksonlittleleague-74036573-20260509T093000@quickscores.com
DTSTAMP:20260419T160900Z
DTSTART;TZID=America/New_York:20260509T093000
DURATION:PT2H0M0S
SUMMARY:Practice: Duwe
DESCRIPTION:Coach Pitch - Jackson Little League
LOCATION:Justice GrassA
CATEGORIES:QuickScores, Baseball Game
TRANSP:OPAQUE
BEGIN:VALARM
TRIGGER:-PT2H
ACTION:DISPLAY
DESCRIPTION:Practice: Duwe
END:VALARM
END:VEVENT
BEGIN:VEVENT
UID:jacksonlittleleague-74036695-20260511T173000@quickscores.com
DTSTAMP:20260419T160900Z
DTSTART;TZID=America/New_York:20260511T173000
DURATION:PT2H0M0S
SUMMARY:Duwe vs. Callan
DESCRIPTION:Coach Pitch - Jackson Little League
LOCATION:Justice Turf1
CATEGORIES:QuickScores, Baseball Game
TRANSP:OPAQUE
BEGIN:VALARM
TRIGGER:-PT2H
ACTION:DISPLAY
DESCRIPTION:Duwe vs. Callan
END:VALARM
END:VEVENT
BEGIN:VEVENT
UID:jacksonlittleleague-74036696-20260511T173000@quickscores.com
DTSTAMP:20260419T160900Z
DTSTART;TZID=America/New_York:20260511T173000
DURATION:PT2H0M0S
SUMMARY:Practice: McGowan
DESCRIPTION:Coach Pitch - Jackson Little League
LOCATION:Holbrook AA Field
CATEGORIES:QuickScores, Baseball Game
TRANSP:OPAQUE
BEGIN:VALARM
TRIGGER:-PT2H
ACTION:DISPLAY
DESCRIPTION:Practice: McGowan
END:VALARM
END:VEVENT
BEGIN:VEVENT
UID:jacksonlittleleague-74036698-20260513T173000@quickscores.com
DTSTAMP:20260419T160900Z
DTSTART;TZID=America/New_York:20260513T173000
DURATION:PT2H0M0S
SUMMARY:Practice: Callan
DESCRIPTION:Coach Pitch - Jackson Little League
LOCATION:527 Minor
CATEGORIES:QuickScores, Baseball Game
TRANSP:OPAQUE
BEGIN:VALARM
TRIGGER:-PT2H
ACTION:DISPLAY
DESCRIPTION:Practice: Callan
END:VALARM
END:VEVENT
BEGIN:VEVENT
UID:jacksonlittleleague-74036697-20260516T093000@quickscores.com
DTSTAMP:20260419T160900Z
DTSTART;TZID=America/New_York:20260516T093000
DURATION:PT2H0M0S
SUMMARY:Duwe vs. McGowan
DESCRIPTION:Coach Pitch - Jackson Little League
LOCATION:Justice Turf2
CATEGORIES:QuickScores, Baseball Game
TRANSP:OPAQUE
BEGIN:VALARM
TRIGGER:-PT2H
ACTION:DISPLAY
DESCRIPTION:Duwe vs. McGowan
END:VALARM
END:VEVENT
END:VCALENDAR
