BEGIN:VCALENDAR
VERSION:2.0
PRODID:-//QuickScores.com//BQ Dynamic iCal Creator//EN
METHOD:PUBLISH
X-WR-CALNAME:Division 3 (12-13)west - Spring 2026
X-WR-CALDESC:QuickScores game calendar
X-PUBLISHED-TTL:PT24H
REFRESH-INTERVAL;VALUE=DURATION:PT24H
CALSCALE:GREGORIAN
BEGIN:VTIMEZONE
TZID:America/Chicago
X-LIC-LOCATION:America/Chicago
BEGIN:DAYLIGHT
TZNAME:CDT
TZOFFSETFROM:-0600
TZOFFSETTO:-0500
DTSTART:19700308T020000
RRULE:FREQ=YEARLY;BYMONTH=3;BYDAY=2SU
END:DAYLIGHT
BEGIN:STANDARD
TZNAME:CST
TZOFFSETFROM:-0500
TZOFFSETTO:-0600
DTSTART:19701101T020000
RRULE:FREQ=YEARLY;BYMONTH=11;BYDAY=1SU
END:STANDARD
END:VTIMEZONE
BEGIN:VEVENT
UID:fbba-73796469-20260323T190000@quickscores.com
DTSTAMP:20260422T100300Z
DTSTART;TZID=America/Chicago:20260323T190000
DURATION:PT1H0M0S
SUMMARY:Practice: Trojans
DESCRIPTION:Division 3 (12-13)west - Fort Bend Basketball Association
LOCATION:Missouri City Rec Center Ct # 1
CATEGORIES:QuickScores, Basketball - Youth Game
TRANSP:OPAQUE
BEGIN:VALARM
TRIGGER:-PT2H
ACTION:DISPLAY
DESCRIPTION:Practice: Trojans
END:VALARM
END:VEVENT
BEGIN:VEVENT
UID:fbba-73731087-20260326T190000@quickscores.com
DTSTAMP:20260422T100300Z
DTSTART;TZID=America/Chicago:20260326T190000
DURATION:PT1H0M0S
SUMMARY:Practice: Bearcats
DESCRIPTION:Division 3 (12-13)west - Fort Bend Basketball Association
LOCATION:Missouri City Rec Center Ct # 2
CATEGORIES:QuickScores, Basketball - Youth Game
TRANSP:OPAQUE
BEGIN:VALARM
TRIGGER:-PT2H
ACTION:DISPLAY
DESCRIPTION:Practice: Bearcats
END:VALARM
END:VEVENT
BEGIN:VEVENT
UID:fbba-73731094-20260326T190000@quickscores.com
DTSTAMP:20260422T100300Z
DTSTART;TZID=America/Chicago:20260326T190000
DURATION:PT1H0M0S
SUMMARY:Practice: Badgers
DESCRIPTION:Division 3 (12-13)west - Fort Bend Basketball Association
LOCATION:Missouri City Rec Center Ct 1
CATEGORIES:QuickScores, Basketball - Youth Game
TRANSP:OPAQUE
BEGIN:VALARM
TRIGGER:-PT2H
ACTION:DISPLAY
DESCRIPTION:Practice: Badgers
END:VALARM
END:VEVENT
BEGIN:VEVENT
UID:fbba-73731101-20260326T190000@quickscores.com
DTSTAMP:20260422T100300Z
DTSTART;TZID=America/Chicago:20260326T190000
DURATION:PT1H0M0S
SUMMARY:Practice: Cardinals
DESCRIPTION:Division 3 (12-13)west - Fort Bend Basketball Association
LOCATION:Mssouri City Rec Center Ct # 3
CATEGORIES:QuickScores, Basketball - Youth Game
TRANSP:OPAQUE
BEGIN:VALARM
TRIGGER:-PT2H
ACTION:DISPLAY
DESCRIPTION:Practice: Cardinals
END:VALARM
END:VEVENT
BEGIN:VEVENT
UID:fbba-73731168-20260326T200000@quickscores.com
DTSTAMP:20260422T100300Z
DTSTART;TZID=America/Chicago:20260326T200000
DURATION:PT1H0M0S
SUMMARY:Practice: Power
DESCRIPTION:Division 3 (12-13)west - Fort Bend Basketball Association
LOCATION:HARMONY  INNOVATION # 1 Old Richmond
CATEGORIES:QuickScores, Basketball - Youth Game
TRANSP:OPAQUE
BEGIN:VALARM
TRIGGER:-PT2H
ACTION:DISPLAY
DESCRIPTION:Practice: Power
END:VALARM
END:VEVENT
BEGIN:VEVENT
UID:fbba-73796020-20260328T150000@quickscores.com
DTSTAMP:20260422T100300Z
DTSTART;TZID=America/Chicago:20260328T150000
DURATION:PT1H0M0S
SUMMARY:Cardinals vs. Bearcats
DESCRIPTION:Division 3 (12-13)west - Fort Bend Basketball Association
LOCATION:Missouri City Rec Center Ct # 1
CATEGORIES:QuickScores, Basketball - Youth Game
TRANSP:OPAQUE
BEGIN:VALARM
TRIGGER:-PT2H
ACTION:DISPLAY
DESCRIPTION:Cardinals vs. Bearcats
END:VALARM
END:VEVENT
BEGIN:VEVENT
UID:fbba-73796019-20260328T150000@quickscores.com
DTSTAMP:20260422T100300Z
DTSTART;TZID=America/Chicago:20260328T150000
DURATION:PT1H0M0S
SUMMARY:Power vs. Badgers
DESCRIPTION:Division 3 (12-13)west - Fort Bend Basketball Association
LOCATION:HARMONY  INNOVATION # 1 Old Richmond
CATEGORIES:QuickScores, Basketball - Youth Game
TRANSP:OPAQUE
BEGIN:VALARM
TRIGGER:-PT2H
ACTION:DISPLAY
DESCRIPTION:Power vs. Badgers
END:VALARM
END:VEVENT
BEGIN:VEVENT
UID:fbba-73796470-20260330T190000@quickscores.com
DTSTAMP:20260422T100300Z
DTSTART;TZID=America/Chicago:20260330T190000
DURATION:PT1H0M0S
SUMMARY:Practice: Trojans
DESCRIPTION:Division 3 (12-13)west - Fort Bend Basketball Association
LOCATION:Missouri City Rec Center Ct # 1
CATEGORIES:QuickScores, Basketball - Youth Game
TRANSP:OPAQUE
BEGIN:VALARM
TRIGGER:-PT2H
ACTION:DISPLAY
DESCRIPTION:Practice: Trojans
END:VALARM
END:VEVENT
BEGIN:VEVENT
UID:fbba-73731088-20260402T190000@quickscores.com
DTSTAMP:20260422T100300Z
DTSTART;TZID=America/Chicago:20260402T190000
DURATION:PT1H0M0S
SUMMARY:Practice: Bearcats
DESCRIPTION:Division 3 (12-13)west - Fort Bend Basketball Association
LOCATION:Missouri City Rec Center Ct # 2
CATEGORIES:QuickScores, Basketball - Youth Game
TRANSP:OPAQUE
BEGIN:VALARM
TRIGGER:-PT2H
ACTION:DISPLAY
DESCRIPTION:Practice: Bearcats
END:VALARM
END:VEVENT
BEGIN:VEVENT
UID:fbba-73731095-20260402T190000@quickscores.com
DTSTAMP:20260422T100300Z
DTSTART;TZID=America/Chicago:20260402T190000
DURATION:PT1H0M0S
SUMMARY:Practice: Badgers
DESCRIPTION:Division 3 (12-13)west - Fort Bend Basketball Association
LOCATION:Missouri City Rec Center Ct 1
CATEGORIES:QuickScores, Basketball - Youth Game
TRANSP:OPAQUE
BEGIN:VALARM
TRIGGER:-PT2H
ACTION:DISPLAY
DESCRIPTION:Practice: Badgers
END:VALARM
END:VEVENT
BEGIN:VEVENT
UID:fbba-73731102-20260402T190000@quickscores.com
DTSTAMP:20260422T100300Z
DTSTART;TZID=America/Chicago:20260402T190000
DURATION:PT1H0M0S
SUMMARY:Practice: Cardinals
DESCRIPTION:Division 3 (12-13)west - Fort Bend Basketball Association
LOCATION:Mssouri City Rec Center Ct # 3
CATEGORIES:QuickScores, Basketball - Youth Game
TRANSP:OPAQUE
BEGIN:VALARM
TRIGGER:-PT2H
ACTION:DISPLAY
DESCRIPTION:Practice: Cardinals
END:VALARM
END:VEVENT
BEGIN:VEVENT
UID:fbba-73731170-20260402T200000@quickscores.com
DTSTAMP:20260422T100300Z
DTSTART;TZID=America/Chicago:20260402T200000
DURATION:PT1H0M0S
SUMMARY:Practice: Power
DESCRIPTION:Division 3 (12-13)west - Fort Bend Basketball Association
LOCATION:HARMONY  INNOVATION # 1 Old Richmond
CATEGORIES:QuickScores, Basketball - Youth Game
TRANSP:OPAQUE
BEGIN:VALARM
TRIGGER:-PT2H
ACTION:DISPLAY
DESCRIPTION:Practice: Power
END:VALARM
END:VEVENT
BEGIN:VEVENT
UID:fbba-73796023-20260404T150000@quickscores.com
DTSTAMP:20260422T100300Z
DTSTART;TZID=America/Chicago:20260404T150000
DURATION:PT1H0M0S
SUMMARY:Bearcats vs. Badgers
DESCRIPTION:Division 3 (12-13)west - Fort Bend Basketball Association
LOCATION:Missouri City Rec Center Ct # 1
CATEGORIES:QuickScores, Basketball - Youth Game
TRANSP:OPAQUE
BEGIN:VALARM
TRIGGER:-PT2H
ACTION:DISPLAY
DESCRIPTION:Bearcats vs. Badgers
END:VALARM
END:VEVENT
BEGIN:VEVENT
UID:fbba-73796022-20260404T150000@quickscores.com
DTSTAMP:20260422T100300Z
DTSTART;TZID=America/Chicago:20260404T150000
DURATION:PT1H0M0S
SUMMARY:Cardinals vs. Trojans
DESCRIPTION:Division 3 (12-13)west - Fort Bend Basketball Association
LOCATION:HARMONY  INNOVATION # 1 Old Richmond
CATEGORIES:QuickScores, Basketball - Youth Game
TRANSP:OPAQUE
BEGIN:VALARM
TRIGGER:-PT2H
ACTION:DISPLAY
DESCRIPTION:Cardinals vs. Trojans
END:VALARM
END:VEVENT
BEGIN:VEVENT
UID:fbba-73796471-20260406T190000@quickscores.com
DTSTAMP:20260422T100300Z
DTSTART;TZID=America/Chicago:20260406T190000
DURATION:PT1H0M0S
SUMMARY:Practice: Trojans
DESCRIPTION:Division 3 (12-13)west - Fort Bend Basketball Association
LOCATION:Missouri City Rec Center Ct # 1
CATEGORIES:QuickScores, Basketball - Youth Game
TRANSP:OPAQUE
BEGIN:VALARM
TRIGGER:-PT2H
ACTION:DISPLAY
DESCRIPTION:Practice: Trojans
END:VALARM
END:VEVENT
BEGIN:VEVENT
UID:fbba-73731089-20260409T190000@quickscores.com
DTSTAMP:20260422T100300Z
DTSTART;TZID=America/Chicago:20260409T190000
DURATION:PT1H0M0S
SUMMARY:Practice: Bearcats
DESCRIPTION:Division 3 (12-13)west - Fort Bend Basketball Association
LOCATION:Missouri City Rec Center Ct # 2
CATEGORIES:QuickScores, Basketball - Youth Game
TRANSP:OPAQUE
BEGIN:VALARM
TRIGGER:-PT2H
ACTION:DISPLAY
DESCRIPTION:Practice: Bearcats
END:VALARM
END:VEVENT
BEGIN:VEVENT
UID:fbba-73731096-20260409T190000@quickscores.com
DTSTAMP:20260422T100300Z
DTSTART;TZID=America/Chicago:20260409T190000
DURATION:PT1H0M0S
SUMMARY:Practice: Badgers
DESCRIPTION:Division 3 (12-13)west - Fort Bend Basketball Association
LOCATION:Missouri City Rec Center Ct 1
CATEGORIES:QuickScores, Basketball - Youth Game
TRANSP:OPAQUE
BEGIN:VALARM
TRIGGER:-PT2H
ACTION:DISPLAY
DESCRIPTION:Practice: Badgers
END:VALARM
END:VEVENT
BEGIN:VEVENT
UID:fbba-73731103-20260409T190000@quickscores.com
DTSTAMP:20260422T100300Z
DTSTART;TZID=America/Chicago:20260409T190000
DURATION:PT1H0M0S
SUMMARY:Practice: Cardinals
DESCRIPTION:Division 3 (12-13)west - Fort Bend Basketball Association
LOCATION:Mssouri City Rec Center Ct # 3
CATEGORIES:QuickScores, Basketball - Youth Game
TRANSP:OPAQUE
BEGIN:VALARM
TRIGGER:-PT2H
ACTION:DISPLAY
DESCRIPTION:Practice: Cardinals
END:VALARM
END:VEVENT
BEGIN:VEVENT
UID:fbba-73731171-20260409T200000@quickscores.com
DTSTAMP:20260422T100300Z
DTSTART;TZID=America/Chicago:20260409T200000
DURATION:PT1H0M0S
SUMMARY:Practice: Power
DESCRIPTION:Division 3 (12-13)west - Fort Bend Basketball Association
LOCATION:HARMONY  INNOVATION # 1 Old Richmond
CATEGORIES:QuickScores, Basketball - Youth Game
TRANSP:OPAQUE
BEGIN:VALARM
TRIGGER:-PT2H
ACTION:DISPLAY
DESCRIPTION:Practice: Power
END:VALARM
END:VEVENT
BEGIN:VEVENT
UID:fbba-73796026-20260412T130000@quickscores.com
DTSTAMP:20260422T100300Z
DTSTART;TZID=America/Chicago:20260412T130000
DURATION:PT1H0M0S
SUMMARY:Power vs. Cardinals
DESCRIPTION:Division 3 (12-13)west - Fort Bend Basketball Association
LOCATION:HARMONY  INNOVATION # 1 Old Richmond
CATEGORIES:QuickScores, Basketball - Youth Game
TRANSP:OPAQUE
BEGIN:VALARM
TRIGGER:-PT2H
ACTION:DISPLAY
DESCRIPTION:Power vs. Cardinals
END:VALARM
END:VEVENT
BEGIN:VEVENT
UID:fbba-73796472-20260413T190000@quickscores.com
DTSTAMP:20260422T100300Z
DTSTART;TZID=America/Chicago:20260413T190000
DURATION:PT1H0M0S
SUMMARY:Practice: Trojans
DESCRIPTION:Division 3 (12-13)west - Fort Bend Basketball Association
LOCATION:Missouri City Rec Center Ct # 1
CATEGORIES:QuickScores, Basketball - Youth Game
TRANSP:OPAQUE
BEGIN:VALARM
TRIGGER:-PT2H
ACTION:DISPLAY
DESCRIPTION:Practice: Trojans
END:VALARM
END:VEVENT
BEGIN:VEVENT
UID:fbba-73731104-20260416T190000@quickscores.com
DTSTAMP:20260422T100300Z
DTSTART;TZID=America/Chicago:20260416T190000
DURATION:PT1H0M0S
SUMMARY:Practice: Cardinals
DESCRIPTION:Division 3 (12-13)west - Fort Bend Basketball Association
LOCATION:Mssouri City Rec Center Ct # 3
CATEGORIES:QuickScores, Basketball - Youth Game
TRANSP:OPAQUE
BEGIN:VALARM
TRIGGER:-PT2H
ACTION:DISPLAY
DESCRIPTION:Practice: Cardinals
END:VALARM
END:VEVENT
BEGIN:VEVENT
UID:fbba-73731097-20260416T190000@quickscores.com
DTSTAMP:20260422T100300Z
DTSTART;TZID=America/Chicago:20260416T190000
DURATION:PT1H0M0S
SUMMARY:Practice: Badgers
DESCRIPTION:Division 3 (12-13)west - Fort Bend Basketball Association
LOCATION:Missouri City Rec Center Ct 1
CATEGORIES:QuickScores, Basketball - Youth Game
TRANSP:OPAQUE
BEGIN:VALARM
TRIGGER:-PT2H
ACTION:DISPLAY
DESCRIPTION:Practice: Badgers
END:VALARM
END:VEVENT
BEGIN:VEVENT
UID:fbba-73731090-20260416T190000@quickscores.com
DTSTAMP:20260422T100300Z
DTSTART;TZID=America/Chicago:20260416T190000
DURATION:PT1H0M0S
SUMMARY:Practice: Bearcats
DESCRIPTION:Division 3 (12-13)west - Fort Bend Basketball Association
LOCATION:Missouri City Rec Center Ct # 2
CATEGORIES:QuickScores, Basketball - Youth Game
TRANSP:OPAQUE
BEGIN:VALARM
TRIGGER:-PT2H
ACTION:DISPLAY
DESCRIPTION:Practice: Bearcats
END:VALARM
END:VEVENT
BEGIN:VEVENT
UID:fbba-73731172-20260416T200000@quickscores.com
DTSTAMP:20260422T100300Z
DTSTART;TZID=America/Chicago:20260416T200000
DURATION:PT1H0M0S
SUMMARY:Practice: Power
DESCRIPTION:Division 3 (12-13)west - Fort Bend Basketball Association
LOCATION:HARMONY  INNOVATION # 1 Old Richmond
CATEGORIES:QuickScores, Basketball - Youth Game
TRANSP:OPAQUE
BEGIN:VALARM
TRIGGER:-PT2H
ACTION:DISPLAY
DESCRIPTION:Practice: Power
END:VALARM
END:VEVENT
BEGIN:VEVENT
UID:fbba-73796028-20260418T150000@quickscores.com
DTSTAMP:20260422T100300Z
DTSTART;TZID=America/Chicago:20260418T150000
DURATION:PT1H0M0S
SUMMARY:Bearcats vs. Power
DESCRIPTION:Division 3 (12-13)west - Fort Bend Basketball Association
LOCATION:HARMONY  INNOVATION # 1 Old Richmond
CATEGORIES:QuickScores, Basketball - Youth Game
TRANSP:OPAQUE
BEGIN:VALARM
TRIGGER:-PT2H
ACTION:DISPLAY
DESCRIPTION:Bearcats vs. Power
END:VALARM
END:VEVENT
BEGIN:VEVENT
UID:fbba-73796029-20260418T160000@quickscores.com
DTSTAMP:20260422T100300Z
DTSTART;TZID=America/Chicago:20260418T160000
DURATION:PT1H0M0S
SUMMARY:Badgers vs. Trojans
DESCRIPTION:Division 3 (12-13)west - Fort Bend Basketball Association
LOCATION:Missouri City Rec Center Ct # 1
CATEGORIES:QuickScores, Basketball - Youth Game
TRANSP:OPAQUE
BEGIN:VALARM
TRIGGER:-PT2H
ACTION:DISPLAY
DESCRIPTION:Badgers vs. Trojans
END:VALARM
END:VEVENT
BEGIN:VEVENT
UID:fbba-73796473-20260420T190000@quickscores.com
DTSTAMP:20260422T100300Z
DTSTART;TZID=America/Chicago:20260420T190000
DURATION:PT1H0M0S
SUMMARY:Practice: Trojans
DESCRIPTION:Division 3 (12-13)west - Fort Bend Basketball Association
LOCATION:Missouri City Rec Center Ct # 1
CATEGORIES:QuickScores, Basketball - Youth Game
TRANSP:OPAQUE
BEGIN:VALARM
TRIGGER:-PT2H
ACTION:DISPLAY
DESCRIPTION:Practice: Trojans
END:VALARM
END:VEVENT
BEGIN:VEVENT
UID:fbba-73731105-20260423T190000@quickscores.com
DTSTAMP:20260422T100300Z
DTSTART;TZID=America/Chicago:20260423T190000
DURATION:PT1H0M0S
SUMMARY:Practice: Cardinals
DESCRIPTION:Division 3 (12-13)west - Fort Bend Basketball Association
LOCATION:Mssouri City Rec Center Ct # 3
CATEGORIES:QuickScores, Basketball - Youth Game
TRANSP:OPAQUE
BEGIN:VALARM
TRIGGER:-PT2H
ACTION:DISPLAY
DESCRIPTION:Practice: Cardinals
END:VALARM
END:VEVENT
BEGIN:VEVENT
UID:fbba-73731091-20260423T190000@quickscores.com
DTSTAMP:20260422T100300Z
DTSTART;TZID=America/Chicago:20260423T190000
DURATION:PT1H0M0S
SUMMARY:Practice: Bearcats
DESCRIPTION:Division 3 (12-13)west - Fort Bend Basketball Association
LOCATION:Missouri City Rec Center Ct # 2
CATEGORIES:QuickScores, Basketball - Youth Game
TRANSP:OPAQUE
BEGIN:VALARM
TRIGGER:-PT2H
ACTION:DISPLAY
DESCRIPTION:Practice: Bearcats
END:VALARM
END:VEVENT
BEGIN:VEVENT
UID:fbba-73731098-20260423T190000@quickscores.com
DTSTAMP:20260422T100300Z
DTSTART;TZID=America/Chicago:20260423T190000
DURATION:PT1H0M0S
SUMMARY:Practice: Badgers
DESCRIPTION:Division 3 (12-13)west - Fort Bend Basketball Association
LOCATION:Missouri City Rec Center Ct 1
CATEGORIES:QuickScores, Basketball - Youth Game
TRANSP:OPAQUE
BEGIN:VALARM
TRIGGER:-PT2H
ACTION:DISPLAY
DESCRIPTION:Practice: Badgers
END:VALARM
END:VEVENT
BEGIN:VEVENT
UID:fbba-73731173-20260423T200000@quickscores.com
DTSTAMP:20260422T100300Z
DTSTART;TZID=America/Chicago:20260423T200000
DURATION:PT1H0M0S
SUMMARY:Practice: Power
DESCRIPTION:Division 3 (12-13)west - Fort Bend Basketball Association
LOCATION:HARMONY  INNOVATION # 1 Old Richmond
CATEGORIES:QuickScores, Basketball - Youth Game
TRANSP:OPAQUE
BEGIN:VALARM
TRIGGER:-PT2H
ACTION:DISPLAY
DESCRIPTION:Practice: Power
END:VALARM
END:VEVENT
BEGIN:VEVENT
UID:fbba-73796031-20260425T150000@quickscores.com
DTSTAMP:20260422T100300Z
DTSTART;TZID=America/Chicago:20260425T150000
DURATION:PT1H0M0S
SUMMARY:Badgers vs. Cardinals
DESCRIPTION:Division 3 (12-13)west - Fort Bend Basketball Association
LOCATION:HARMONY  INNOVATION # 1 Old Richmond
CATEGORIES:QuickScores, Basketball - Youth Game
TRANSP:OPAQUE
BEGIN:VALARM
TRIGGER:-PT2H
ACTION:DISPLAY
DESCRIPTION:Badgers vs. Cardinals
END:VALARM
END:VEVENT
BEGIN:VEVENT
UID:fbba-73796032-20260425T160000@quickscores.com
DTSTAMP:20260422T100300Z
DTSTART;TZID=America/Chicago:20260425T160000
DURATION:PT1H0M0S
SUMMARY:Trojans vs. Power
DESCRIPTION:Division 3 (12-13)west - Fort Bend Basketball Association
LOCATION:Missouri City Rec Center Ct # 1
CATEGORIES:QuickScores, Basketball - Youth Game
TRANSP:OPAQUE
BEGIN:VALARM
TRIGGER:-PT2H
ACTION:DISPLAY
DESCRIPTION:Trojans vs. Power
END:VALARM
END:VEVENT
BEGIN:VEVENT
UID:fbba-73796474-20260427T190000@quickscores.com
DTSTAMP:20260422T100300Z
DTSTART;TZID=America/Chicago:20260427T190000
DURATION:PT1H0M0S
SUMMARY:Practice: Trojans
DESCRIPTION:Division 3 (12-13)west - Fort Bend Basketball Association
LOCATION:Missouri City Rec Center Ct # 1
CATEGORIES:QuickScores, Basketball - Youth Game
TRANSP:OPAQUE
BEGIN:VALARM
TRIGGER:-PT2H
ACTION:DISPLAY
DESCRIPTION:Practice: Trojans
END:VALARM
END:VEVENT
BEGIN:VEVENT
UID:fbba-73731106-20260430T190000@quickscores.com
DTSTAMP:20260422T100300Z
DTSTART;TZID=America/Chicago:20260430T190000
DURATION:PT1H0M0S
SUMMARY:Practice: Cardinals
DESCRIPTION:Division 3 (12-13)west - Fort Bend Basketball Association
LOCATION:Mssouri City Rec Center Ct # 3
CATEGORIES:QuickScores, Basketball - Youth Game
TRANSP:OPAQUE
BEGIN:VALARM
TRIGGER:-PT2H
ACTION:DISPLAY
DESCRIPTION:Practice: Cardinals
END:VALARM
END:VEVENT
BEGIN:VEVENT
UID:fbba-73731092-20260430T190000@quickscores.com
DTSTAMP:20260422T100300Z
DTSTART;TZID=America/Chicago:20260430T190000
DURATION:PT1H0M0S
SUMMARY:Practice: Bearcats
DESCRIPTION:Division 3 (12-13)west - Fort Bend Basketball Association
LOCATION:Missouri City Rec Center Ct # 2
CATEGORIES:QuickScores, Basketball - Youth Game
TRANSP:OPAQUE
BEGIN:VALARM
TRIGGER:-PT2H
ACTION:DISPLAY
DESCRIPTION:Practice: Bearcats
END:VALARM
END:VEVENT
BEGIN:VEVENT
UID:fbba-73731099-20260430T190000@quickscores.com
DTSTAMP:20260422T100300Z
DTSTART;TZID=America/Chicago:20260430T190000
DURATION:PT1H0M0S
SUMMARY:Practice: Badgers
DESCRIPTION:Division 3 (12-13)west - Fort Bend Basketball Association
LOCATION:Missouri City Rec Center Ct 1
CATEGORIES:QuickScores, Basketball - Youth Game
TRANSP:OPAQUE
BEGIN:VALARM
TRIGGER:-PT2H
ACTION:DISPLAY
DESCRIPTION:Practice: Badgers
END:VALARM
END:VEVENT
BEGIN:VEVENT
UID:fbba-73731174-20260430T200000@quickscores.com
DTSTAMP:20260422T100300Z
DTSTART;TZID=America/Chicago:20260430T200000
DURATION:PT1H0M0S
SUMMARY:Practice: Power
DESCRIPTION:Division 3 (12-13)west - Fort Bend Basketball Association
LOCATION:HARMONY  INNOVATION # 1 Old Richmond
CATEGORIES:QuickScores, Basketball - Youth Game
TRANSP:OPAQUE
BEGIN:VALARM
TRIGGER:-PT2H
ACTION:DISPLAY
DESCRIPTION:Practice: Power
END:VALARM
END:VEVENT
BEGIN:VEVENT
UID:fbba-73796034-20260502T150000@quickscores.com
DTSTAMP:20260422T100300Z
DTSTART;TZID=America/Chicago:20260502T150000
DURATION:PT1H0M0S
SUMMARY:Badgers vs. Power
DESCRIPTION:Division 3 (12-13)west - Fort Bend Basketball Association
LOCATION:HARMONY  INNOVATION # 1 Old Richmond
CATEGORIES:QuickScores, Basketball - Youth Game
TRANSP:OPAQUE
BEGIN:VALARM
TRIGGER:-PT2H
ACTION:DISPLAY
DESCRIPTION:Badgers vs. Power
END:VALARM
END:VEVENT
BEGIN:VEVENT
UID:fbba-73796035-20260502T160000@quickscores.com
DTSTAMP:20260422T100300Z
DTSTART;TZID=America/Chicago:20260502T160000
DURATION:PT1H0M0S
SUMMARY:Bearcats vs. Cardinals
DESCRIPTION:Division 3 (12-13)west - Fort Bend Basketball Association
LOCATION:Missouri City Rec Center Ct # 1
CATEGORIES:QuickScores, Basketball - Youth Game
TRANSP:OPAQUE
BEGIN:VALARM
TRIGGER:-PT2H
ACTION:DISPLAY
DESCRIPTION:Bearcats vs. Cardinals
END:VALARM
END:VEVENT
BEGIN:VEVENT
UID:fbba-73796475-20260504T190000@quickscores.com
DTSTAMP:20260422T100300Z
DTSTART;TZID=America/Chicago:20260504T190000
DURATION:PT1H0M0S
SUMMARY:Practice: Trojans
DESCRIPTION:Division 3 (12-13)west - Fort Bend Basketball Association
LOCATION:Missouri City Rec Center Ct # 1
CATEGORIES:QuickScores, Basketball - Youth Game
TRANSP:OPAQUE
BEGIN:VALARM
TRIGGER:-PT2H
ACTION:DISPLAY
DESCRIPTION:Practice: Trojans
END:VALARM
END:VEVENT
BEGIN:VEVENT
UID:fbba-73731093-20260507T190000@quickscores.com
DTSTAMP:20260422T100300Z
DTSTART;TZID=America/Chicago:20260507T190000
DURATION:PT1H0M0S
SUMMARY:Practice: Bearcats
DESCRIPTION:Division 3 (12-13)west - Fort Bend Basketball Association
LOCATION:Missouri City Rec Center Ct # 2
CATEGORIES:QuickScores, Basketball - Youth Game
TRANSP:OPAQUE
BEGIN:VALARM
TRIGGER:-PT2H
ACTION:DISPLAY
DESCRIPTION:Practice: Bearcats
END:VALARM
END:VEVENT
BEGIN:VEVENT
UID:fbba-73731100-20260507T190000@quickscores.com
DTSTAMP:20260422T100300Z
DTSTART;TZID=America/Chicago:20260507T190000
DURATION:PT1H0M0S
SUMMARY:Practice: Badgers
DESCRIPTION:Division 3 (12-13)west - Fort Bend Basketball Association
LOCATION:Missouri City Rec Center Ct 1
CATEGORIES:QuickScores, Basketball - Youth Game
TRANSP:OPAQUE
BEGIN:VALARM
TRIGGER:-PT2H
ACTION:DISPLAY
DESCRIPTION:Practice: Badgers
END:VALARM
END:VEVENT
BEGIN:VEVENT
UID:fbba-73731107-20260507T190000@quickscores.com
DTSTAMP:20260422T100300Z
DTSTART;TZID=America/Chicago:20260507T190000
DURATION:PT1H0M0S
SUMMARY:Practice: Cardinals
DESCRIPTION:Division 3 (12-13)west - Fort Bend Basketball Association
LOCATION:Mssouri City Rec Center Ct # 3
CATEGORIES:QuickScores, Basketball - Youth Game
TRANSP:OPAQUE
BEGIN:VALARM
TRIGGER:-PT2H
ACTION:DISPLAY
DESCRIPTION:Practice: Cardinals
END:VALARM
END:VEVENT
BEGIN:VEVENT
UID:fbba-73731812-20260507T200000@quickscores.com
DTSTAMP:20260422T100300Z
DTSTART;TZID=America/Chicago:20260507T200000
DURATION:PT1H0M0S
SUMMARY:Practice: Power
DESCRIPTION:Division 3 (12-13)west - Fort Bend Basketball Association
LOCATION:HARMONY  INNOVATION # 1 Old Richmond
CATEGORIES:QuickScores, Basketball - Youth Game
TRANSP:OPAQUE
BEGIN:VALARM
TRIGGER:-PT2H
ACTION:DISPLAY
DESCRIPTION:Practice: Power
END:VALARM
END:VEVENT
BEGIN:VEVENT
UID:fbba-73796037-20260509T150000@quickscores.com
DTSTAMP:20260422T100300Z
DTSTART;TZID=America/Chicago:20260509T150000
DURATION:PT1H0M0S
SUMMARY:Trojans vs. Cardinals
DESCRIPTION:Division 3 (12-13)west - Fort Bend Basketball Association
LOCATION:HARMONY  INNOVATION # 1 Old Richmond
CATEGORIES:QuickScores, Basketball - Youth Game
TRANSP:OPAQUE
BEGIN:VALARM
TRIGGER:-PT2H
ACTION:DISPLAY
DESCRIPTION:Trojans vs. Cardinals
END:VALARM
END:VEVENT
BEGIN:VEVENT
UID:fbba-73796038-20260509T160000@quickscores.com
DTSTAMP:20260422T100300Z
DTSTART;TZID=America/Chicago:20260509T160000
DURATION:PT1H0M0S
SUMMARY:Badgers vs. Bearcats
DESCRIPTION:Division 3 (12-13)west - Fort Bend Basketball Association
LOCATION:Missouri City Rec Center Ct # 1
CATEGORIES:QuickScores, Basketball - Youth Game
TRANSP:OPAQUE
BEGIN:VALARM
TRIGGER:-PT2H
ACTION:DISPLAY
DESCRIPTION:Badgers vs. Bearcats
END:VALARM
END:VEVENT
BEGIN:VEVENT
UID:fbba-73796040-20260516T100000@quickscores.com
DTSTAMP:20260422T100300Z
DTSTART;TZID=America/Chicago:20260516T100000
DURATION:PT1H0M0S
SUMMARY:Bearcats vs. Trojans
DESCRIPTION:Division 3 (12-13)west - Fort Bend Basketball Association
LOCATION:Missouri City Rec Center Ct # 1
CATEGORIES:QuickScores, Basketball - Youth Game
TRANSP:OPAQUE
BEGIN:VALARM
TRIGGER:-PT2H
ACTION:DISPLAY
DESCRIPTION:Bearcats vs. Trojans
END:VALARM
END:VEVENT
BEGIN:VEVENT
UID:fbba-73796041-20260516T110000@quickscores.com
DTSTAMP:20260422T100300Z
DTSTART;TZID=America/Chicago:20260516T110000
DURATION:PT1H0M0S
SUMMARY:Cardinals vs. Power
DESCRIPTION:Division 3 (12-13)west - Fort Bend Basketball Association
LOCATION:Missouri City Rec Center Ct # 1
CATEGORIES:QuickScores, Basketball - Youth Game
TRANSP:OPAQUE
BEGIN:VALARM
TRIGGER:-PT2H
ACTION:DISPLAY
DESCRIPTION:Cardinals vs. Power
END:VALARM
END:VEVENT
BEGIN:VEVENT
UID:fbba-73796025-20260516T120000@quickscores.com
DTSTAMP:20260422T100300Z
DTSTART;TZID=America/Chicago:20260516T120000
DURATION:PT1H0M0S
SUMMARY:Trojans vs. Bearcats
DESCRIPTION:Division 3 (12-13)west - Fort Bend Basketball Association
LOCATION:HARMONY  INNOVATION # 1 Old Richmond
CATEGORIES:QuickScores, Basketball - Youth Game
TRANSP:OPAQUE
BEGIN:VALARM
TRIGGER:-PT2H
ACTION:DISPLAY
DESCRIPTION:Trojans vs. Bearcats
END:VALARM
END:VEVENT
END:VCALENDAR
