BEGIN:VCALENDAR
VERSION:2.0
PRODID:-//QuickScores.com//BQ Dynamic iCal Creator//EN
METHOD:PUBLISH
X-WR-CALNAME:U15 Bartram/heritage - Spring 2026
X-WR-CALDESC:QuickScores game calendar
X-PUBLISHED-TTL:PT24H
REFRESH-INTERVAL;VALUE=DURATION:PT24H
CALSCALE:GREGORIAN
BEGIN:VTIMEZONE
TZID:America/New_York
X-LIC-LOCATION:America/New_York
BEGIN:DAYLIGHT
TZNAME:EDT
TZOFFSETFROM:-0500
TZOFFSETTO:-0400
DTSTART:19700308T020000
RRULE:FREQ=YEARLY;BYMONTH=3;BYDAY=2SU
END:DAYLIGHT
BEGIN:STANDARD
TZNAME:EST
TZOFFSETFROM:-0400
TZOFFSETTO:-0500
DTSTART:19701101T020000
RRULE:FREQ=YEARLY;BYMONTH=11;BYDAY=1SU
END:STANDARD
END:VTIMEZONE
BEGIN:VEVENT
UID:amenityathletics-73628177-20260328T114500@quickscores.com
DTSTAMP:20260419T124900Z
DTSTART;TZID=America/New_York:20260328T114500
DURATION:PT1H0M0S
SUMMARY:Coach Robinson vs. Coach Haddock
DESCRIPTION:U15 Bartram/heritage - Amenity Athletics: Your Neighborhood Athletic Association
LOCATION:Bartram Springs Field 3
CATEGORIES:QuickScores, Soccer Game
TRANSP:OPAQUE
BEGIN:VALARM
TRIGGER:-PT2H
ACTION:DISPLAY
DESCRIPTION:Coach Robinson vs. Coach Haddock
END:VALARM
END:VEVENT
BEGIN:VEVENT
UID:amenityathletics-73628174-20260328T130000@quickscores.com
DTSTAMP:20260419T124900Z
DTSTART;TZID=America/New_York:20260328T130000
DURATION:PT1H0M0S
SUMMARY:Coach Pugh vs. Coach Blake
DESCRIPTION:U15 Bartram/heritage - Amenity Athletics: Your Neighborhood Athletic Association
LOCATION:Bartram Springs Field 3
CATEGORIES:QuickScores, Soccer Game
TRANSP:OPAQUE
BEGIN:VALARM
TRIGGER:-PT2H
ACTION:DISPLAY
DESCRIPTION:Coach Pugh vs. Coach Blake
END:VALARM
END:VEVENT
BEGIN:VEVENT
UID:amenityathletics-73628175-20260328T130000@quickscores.com
DTSTAMP:20260419T124900Z
DTSTART;TZID=America/New_York:20260328T130000
DURATION:PT1H0M0S
SUMMARY:Coach Arboleda - Blue vs. Coach Broadbent
DESCRIPTION:U15 Bartram/heritage - Amenity Athletics: Your Neighborhood Athletic Association
LOCATION:Bartram Springs Field 4
CATEGORIES:QuickScores, Soccer Game
TRANSP:OPAQUE
BEGIN:VALARM
TRIGGER:-PT2H
ACTION:DISPLAY
DESCRIPTION:Coach Arboleda - Blue vs. Coach Broadbent
END:VALARM
END:VEVENT
BEGIN:VEVENT
UID:amenityathletics-73628172-20260328T141500@quickscores.com
DTSTAMP:20260419T124900Z
DTSTART;TZID=America/New_York:20260328T141500
DURATION:PT1H0M0S
SUMMARY:Coach Zullo vs. Coach Irfan
DESCRIPTION:U15 Bartram/heritage - Amenity Athletics: Your Neighborhood Athletic Association
LOCATION:Bartram Springs Field 3
CATEGORIES:QuickScores, Soccer Game
TRANSP:OPAQUE
BEGIN:VALARM
TRIGGER:-PT2H
ACTION:DISPLAY
DESCRIPTION:Coach Zullo vs. Coach Irfan
END:VALARM
END:VEVENT
BEGIN:VEVENT
UID:amenityathletics-73628173-20260328T141500@quickscores.com
DTSTAMP:20260419T124900Z
DTSTART;TZID=America/New_York:20260328T141500
DURATION:PT1H0M0S
SUMMARY:Coach Moise vs. Coach Fisher
DESCRIPTION:U15 Bartram/heritage - Amenity Athletics: Your Neighborhood Athletic Association
LOCATION:Heritage Landing Field 1
CATEGORIES:QuickScores, Soccer Game
TRANSP:OPAQUE
BEGIN:VALARM
TRIGGER:-PT2H
ACTION:DISPLAY
DESCRIPTION:Coach Moise vs. Coach Fisher
END:VALARM
END:VEVENT
BEGIN:VEVENT
UID:amenityathletics-73628176-20260328T141500@quickscores.com
DTSTAMP:20260419T124900Z
DTSTART;TZID=America/New_York:20260328T141500
DURATION:PT1H0M0S
SUMMARY:Coach Arboleda - Green vs. Coach Tauzard
DESCRIPTION:U15 Bartram/heritage - Amenity Athletics: Your Neighborhood Athletic Association
LOCATION:Bartram Springs Field 4
CATEGORIES:QuickScores, Soccer Game
TRANSP:OPAQUE
BEGIN:VALARM
TRIGGER:-PT2H
ACTION:DISPLAY
DESCRIPTION:Coach Arboleda - Green vs. Coach Tauzard
END:VALARM
END:VEVENT
BEGIN:VEVENT
UID:amenityathletics-73628185-20260411T114500@quickscores.com
DTSTAMP:20260419T124900Z
DTSTART;TZID=America/New_York:20260411T114500
DURATION:PT1H0M0S
SUMMARY:Coach Pugh vs. Coach Zullo
DESCRIPTION:U15 Bartram/heritage - Amenity Athletics: Your Neighborhood Athletic Association
LOCATION:Bartram Springs Field 3
CATEGORIES:QuickScores, Soccer Game
TRANSP:OPAQUE
BEGIN:VALARM
TRIGGER:-PT2H
ACTION:DISPLAY
DESCRIPTION:Coach Pugh vs. Coach Zullo
END:VALARM
END:VEVENT
BEGIN:VEVENT
UID:amenityathletics-73628184-20260411T130000@quickscores.com
DTSTAMP:20260419T124900Z
DTSTART;TZID=America/New_York:20260411T130000
DURATION:PT1H0M0S
SUMMARY:Coach Moise vs. Coach Irfan
DESCRIPTION:U15 Bartram/heritage - Amenity Athletics: Your Neighborhood Athletic Association
LOCATION:Bartram Springs Field 4
CATEGORIES:QuickScores, Soccer Game
TRANSP:OPAQUE
BEGIN:VALARM
TRIGGER:-PT2H
ACTION:DISPLAY
DESCRIPTION:Coach Moise vs. Coach Irfan
END:VALARM
END:VEVENT
BEGIN:VEVENT
UID:amenityathletics-73628186-20260411T130000@quickscores.com
DTSTAMP:20260419T124900Z
DTSTART;TZID=America/New_York:20260411T130000
DURATION:PT1H0M0S
SUMMARY:Coach Fisher vs. Coach Arboleda - Blue
DESCRIPTION:U15 Bartram/heritage - Amenity Athletics: Your Neighborhood Athletic Association
LOCATION:Bartram Springs Field 3
CATEGORIES:QuickScores, Soccer Game
TRANSP:OPAQUE
BEGIN:VALARM
TRIGGER:-PT2H
ACTION:DISPLAY
DESCRIPTION:Coach Fisher vs. Coach Arboleda - Blue
END:VALARM
END:VEVENT
BEGIN:VEVENT
UID:amenityathletics-73628189-20260411T141500@quickscores.com
DTSTAMP:20260419T124900Z
DTSTART;TZID=America/New_York:20260411T141500
DURATION:PT1H0M0S
SUMMARY:Coach Tauzard vs. Coach Haddock
DESCRIPTION:U15 Bartram/heritage - Amenity Athletics: Your Neighborhood Athletic Association
LOCATION:Bartram Springs Field 4
CATEGORIES:QuickScores, Soccer Game
TRANSP:OPAQUE
BEGIN:VALARM
TRIGGER:-PT2H
ACTION:DISPLAY
DESCRIPTION:Coach Tauzard vs. Coach Haddock
END:VALARM
END:VEVENT
BEGIN:VEVENT
UID:amenityathletics-73628188-20260411T141500@quickscores.com
DTSTAMP:20260419T124900Z
DTSTART;TZID=America/New_York:20260411T141500
DURATION:PT1H0M0S
SUMMARY:Coach Broadbent vs. Coach Robinson
DESCRIPTION:U15 Bartram/heritage - Amenity Athletics: Your Neighborhood Athletic Association
LOCATION:Heritage Landing Field 2
CATEGORIES:QuickScores, Soccer Game
TRANSP:OPAQUE
BEGIN:VALARM
TRIGGER:-PT2H
ACTION:DISPLAY
DESCRIPTION:Coach Broadbent vs. Coach Robinson
END:VALARM
END:VEVENT
BEGIN:VEVENT
UID:amenityathletics-73628187-20260411T141500@quickscores.com
DTSTAMP:20260419T124900Z
DTSTART;TZID=America/New_York:20260411T141500
DURATION:PT1H0M0S
SUMMARY:Coach Blake vs. Coach Arboleda - Green
DESCRIPTION:U15 Bartram/heritage - Amenity Athletics: Your Neighborhood Athletic Association
LOCATION:Bartram Springs Field 3
CATEGORIES:QuickScores, Soccer Game
TRANSP:OPAQUE
BEGIN:VALARM
TRIGGER:-PT2H
ACTION:DISPLAY
DESCRIPTION:Coach Blake vs. Coach Arboleda - Green
END:VALARM
END:VEVENT
BEGIN:VEVENT
UID:amenityathletics-73628191-20260418T114500@quickscores.com
DTSTAMP:20260419T124900Z
DTSTART;TZID=America/New_York:20260418T114500
DURATION:PT1H0M0S
SUMMARY:Coach Broadbent vs. Coach Fisher
DESCRIPTION:U15 Bartram/heritage - Amenity Athletics: Your Neighborhood Athletic Association
LOCATION:Bartram Springs Field 3
CATEGORIES:QuickScores, Soccer Game
TRANSP:OPAQUE
BEGIN:VALARM
TRIGGER:-PT2H
ACTION:DISPLAY
DESCRIPTION:Coach Broadbent vs. Coach Fisher
END:VALARM
END:VEVENT
BEGIN:VEVENT
UID:amenityathletics-73628192-20260418T130000@quickscores.com
DTSTAMP:20260419T124900Z
DTSTART;TZID=America/New_York:20260418T130000
DURATION:PT1H0M0S
SUMMARY:Coach Tauzard vs. Coach Zullo
DESCRIPTION:U15 Bartram/heritage - Amenity Athletics: Your Neighborhood Athletic Association
LOCATION:Bartram Springs Field 4
CATEGORIES:QuickScores, Soccer Game
TRANSP:OPAQUE
BEGIN:VALARM
TRIGGER:-PT2H
ACTION:DISPLAY
DESCRIPTION:Coach Tauzard vs. Coach Zullo
END:VALARM
END:VEVENT
BEGIN:VEVENT
UID:amenityathletics-73628195-20260418T130000@quickscores.com
DTSTAMP:20260419T124900Z
DTSTART;TZID=America/New_York:20260418T130000
DURATION:PT1H0M0S
SUMMARY:Coach Arboleda - Blue vs. Coach Blake
DESCRIPTION:U15 Bartram/heritage - Amenity Athletics: Your Neighborhood Athletic Association
LOCATION:Bartram Springs Field 3
CATEGORIES:QuickScores, Soccer Game
TRANSP:OPAQUE
BEGIN:VALARM
TRIGGER:-PT2H
ACTION:DISPLAY
DESCRIPTION:Coach Arboleda - Blue vs. Coach Blake
END:VALARM
END:VEVENT
BEGIN:VEVENT
UID:amenityathletics-73628190-20260418T141500@quickscores.com
DTSTAMP:20260419T124900Z
DTSTART;TZID=America/New_York:20260418T141500
DURATION:PT1H0M0S
SUMMARY:Coach Irfan vs. Coach Arboleda - Green
DESCRIPTION:U15 Bartram/heritage - Amenity Athletics: Your Neighborhood Athletic Association
LOCATION:Bartram Springs Field 4
CATEGORIES:QuickScores, Soccer Game
TRANSP:OPAQUE
BEGIN:VALARM
TRIGGER:-PT2H
ACTION:DISPLAY
DESCRIPTION:Coach Irfan vs. Coach Arboleda - Green
END:VALARM
END:VEVENT
BEGIN:VEVENT
UID:amenityathletics-73628193-20260418T141500@quickscores.com
DTSTAMP:20260419T124900Z
DTSTART;TZID=America/New_York:20260418T141500
DURATION:PT1H0M0S
SUMMARY:Coach Haddock vs. Coach Moise
DESCRIPTION:U15 Bartram/heritage - Amenity Athletics: Your Neighborhood Athletic Association
LOCATION:Heritage Landing Field 2
CATEGORIES:QuickScores, Soccer Game
TRANSP:OPAQUE
BEGIN:VALARM
TRIGGER:-PT2H
ACTION:DISPLAY
DESCRIPTION:Coach Haddock vs. Coach Moise
END:VALARM
END:VEVENT
BEGIN:VEVENT
UID:amenityathletics-73628194-20260418T141500@quickscores.com
DTSTAMP:20260419T124900Z
DTSTART;TZID=America/New_York:20260418T141500
DURATION:PT1H0M0S
SUMMARY:Coach Pugh vs. Coach Robinson
DESCRIPTION:U15 Bartram/heritage - Amenity Athletics: Your Neighborhood Athletic Association
LOCATION:Bartram Springs Field 3
CATEGORIES:QuickScores, Soccer Game
TRANSP:OPAQUE
BEGIN:VALARM
TRIGGER:-PT2H
ACTION:DISPLAY
DESCRIPTION:Coach Pugh vs. Coach Robinson
END:VALARM
END:VEVENT
BEGIN:VEVENT
UID:amenityathletics-73628197-20260425T114500@quickscores.com
DTSTAMP:20260419T124900Z
DTSTART;TZID=America/New_York:20260425T114500
DURATION:PT1H0M0S
SUMMARY:Coach Moise vs. Coach Arboleda - Blue
DESCRIPTION:U15 Bartram/heritage - Amenity Athletics: Your Neighborhood Athletic Association
LOCATION:Bartram Springs Field 3
CATEGORIES:QuickScores, Soccer Game
TRANSP:OPAQUE
BEGIN:VALARM
TRIGGER:-PT2H
ACTION:DISPLAY
DESCRIPTION:Coach Moise vs. Coach Arboleda - Blue
END:VALARM
END:VEVENT
BEGIN:VEVENT
UID:amenityathletics-73628198-20260425T130000@quickscores.com
DTSTAMP:20260419T124900Z
DTSTART;TZID=America/New_York:20260425T130000
DURATION:PT1H0M0S
SUMMARY:Coach Zullo vs. Coach Arboleda - Green
DESCRIPTION:U15 Bartram/heritage - Amenity Athletics: Your Neighborhood Athletic Association
LOCATION:Bartram Springs Field 3
CATEGORIES:QuickScores, Soccer Game
TRANSP:OPAQUE
BEGIN:VALARM
TRIGGER:-PT2H
ACTION:DISPLAY
DESCRIPTION:Coach Zullo vs. Coach Arboleda - Green
END:VALARM
END:VEVENT
BEGIN:VEVENT
UID:amenityathletics-73628200-20260425T130000@quickscores.com
DTSTAMP:20260419T124900Z
DTSTART;TZID=America/New_York:20260425T130000
DURATION:PT1H0M0S
SUMMARY:Coach Blake vs. Coach Haddock
DESCRIPTION:U15 Bartram/heritage - Amenity Athletics: Your Neighborhood Athletic Association
LOCATION:Bartram Springs Field 4
CATEGORIES:QuickScores, Soccer Game
TRANSP:OPAQUE
BEGIN:VALARM
TRIGGER:-PT2H
ACTION:DISPLAY
DESCRIPTION:Coach Blake vs. Coach Haddock
END:VALARM
END:VEVENT
BEGIN:VEVENT
UID:amenityathletics-73628199-20260425T141500@quickscores.com
DTSTAMP:20260419T124900Z
DTSTART;TZID=America/New_York:20260425T141500
DURATION:PT1H0M0S
SUMMARY:Coach Fisher vs. Coach Robinson
DESCRIPTION:U15 Bartram/heritage - Amenity Athletics: Your Neighborhood Athletic Association
LOCATION:Heritage Landing Field 2
CATEGORIES:QuickScores, Soccer Game
TRANSP:OPAQUE
BEGIN:VALARM
TRIGGER:-PT2H
ACTION:DISPLAY
DESCRIPTION:Coach Fisher vs. Coach Robinson
END:VALARM
END:VEVENT
BEGIN:VEVENT
UID:amenityathletics-73628201-20260425T141500@quickscores.com
DTSTAMP:20260419T124900Z
DTSTART;TZID=America/New_York:20260425T141500
DURATION:PT1H0M0S
SUMMARY:Coach Broadbent vs. Coach Tauzard
DESCRIPTION:U15 Bartram/heritage - Amenity Athletics: Your Neighborhood Athletic Association
LOCATION:Bartram Springs Field 3
CATEGORIES:QuickScores, Soccer Game
TRANSP:OPAQUE
BEGIN:VALARM
TRIGGER:-PT2H
ACTION:DISPLAY
DESCRIPTION:Coach Broadbent vs. Coach Tauzard
END:VALARM
END:VEVENT
BEGIN:VEVENT
UID:amenityathletics-73628196-20260425T141500@quickscores.com
DTSTAMP:20260419T124900Z
DTSTART;TZID=America/New_York:20260425T141500
DURATION:PT1H0M0S
SUMMARY:Coach Pugh vs. Coach Irfan
DESCRIPTION:U15 Bartram/heritage - Amenity Athletics: Your Neighborhood Athletic Association
LOCATION:Bartram Springs Field 4
CATEGORIES:QuickScores, Soccer Game
TRANSP:OPAQUE
BEGIN:VALARM
TRIGGER:-PT2H
ACTION:DISPLAY
DESCRIPTION:Coach Pugh vs. Coach Irfan
END:VALARM
END:VEVENT
BEGIN:VEVENT
UID:amenityathletics-73628204-20260502T114500@quickscores.com
DTSTAMP:20260419T124900Z
DTSTART;TZID=America/New_York:20260502T114500
DURATION:PT1H0M0S
SUMMARY:Coach Haddock vs. Coach Fisher
DESCRIPTION:U15 Bartram/heritage - Amenity Athletics: Your Neighborhood Athletic Association
LOCATION:Bartram Springs Field 3
CATEGORIES:QuickScores, Soccer Game
TRANSP:OPAQUE
BEGIN:VALARM
TRIGGER:-PT2H
ACTION:DISPLAY
DESCRIPTION:Coach Haddock vs. Coach Fisher
END:VALARM
END:VEVENT
BEGIN:VEVENT
UID:amenityathletics-73628203-20260502T130000@quickscores.com
DTSTAMP:20260419T124900Z
DTSTART;TZID=America/New_York:20260502T130000
DURATION:PT1H0M0S
SUMMARY:Coach Tauzard vs. Coach Blake
DESCRIPTION:U15 Bartram/heritage - Amenity Athletics: Your Neighborhood Athletic Association
LOCATION:Bartram Springs Field 3
CATEGORIES:QuickScores, Soccer Game
TRANSP:OPAQUE
BEGIN:VALARM
TRIGGER:-PT2H
ACTION:DISPLAY
DESCRIPTION:Coach Tauzard vs. Coach Blake
END:VALARM
END:VEVENT
BEGIN:VEVENT
UID:amenityathletics-73628207-20260502T130000@quickscores.com
DTSTAMP:20260419T124900Z
DTSTART;TZID=America/New_York:20260502T130000
DURATION:PT1H0M0S
SUMMARY:Coach Arboleda - Blue vs. Coach Pugh
DESCRIPTION:U15 Bartram/heritage - Amenity Athletics: Your Neighborhood Athletic Association
LOCATION:Bartram Springs Field 4
CATEGORIES:QuickScores, Soccer Game
TRANSP:OPAQUE
BEGIN:VALARM
TRIGGER:-PT2H
ACTION:DISPLAY
DESCRIPTION:Coach Arboleda - Blue vs. Coach Pugh
END:VALARM
END:VEVENT
BEGIN:VEVENT
UID:amenityathletics-73628206-20260502T141500@quickscores.com
DTSTAMP:20260419T124900Z
DTSTART;TZID=America/New_York:20260502T141500
DURATION:PT1H0M0S
SUMMARY:Coach Arboleda - Green vs. Coach Moise
DESCRIPTION:U15 Bartram/heritage - Amenity Athletics: Your Neighborhood Athletic Association
LOCATION:Bartram Springs Field 4
CATEGORIES:QuickScores, Soccer Game
TRANSP:OPAQUE
BEGIN:VALARM
TRIGGER:-PT2H
ACTION:DISPLAY
DESCRIPTION:Coach Arboleda - Green vs. Coach Moise
END:VALARM
END:VEVENT
BEGIN:VEVENT
UID:amenityathletics-73628205-20260502T141500@quickscores.com
DTSTAMP:20260419T124900Z
DTSTART;TZID=America/New_York:20260502T141500
DURATION:PT1H0M0S
SUMMARY:Coach Robinson vs. Coach Zullo
DESCRIPTION:U15 Bartram/heritage - Amenity Athletics: Your Neighborhood Athletic Association
LOCATION:Bartram Springs Field 3
CATEGORIES:QuickScores, Soccer Game
TRANSP:OPAQUE
BEGIN:VALARM
TRIGGER:-PT2H
ACTION:DISPLAY
DESCRIPTION:Coach Robinson vs. Coach Zullo
END:VALARM
END:VEVENT
BEGIN:VEVENT
UID:amenityathletics-73628202-20260502T141500@quickscores.com
DTSTAMP:20260419T124900Z
DTSTART;TZID=America/New_York:20260502T141500
DURATION:PT1H0M0S
SUMMARY:Coach Irfan vs. Coach Broadbent
DESCRIPTION:U15 Bartram/heritage - Amenity Athletics: Your Neighborhood Athletic Association
LOCATION:Heritage Landing Field 2
CATEGORIES:QuickScores, Soccer Game
TRANSP:OPAQUE
BEGIN:VALARM
TRIGGER:-PT2H
ACTION:DISPLAY
DESCRIPTION:Coach Irfan vs. Coach Broadbent
END:VALARM
END:VEVENT
BEGIN:VEVENT
UID:amenityathletics-73628213-20260509T114500@quickscores.com
DTSTAMP:20260419T124900Z
DTSTART;TZID=America/New_York:20260509T114500
DURATION:PT1H0M0S
SUMMARY:Coach Blake vs. Coach Broadbent
DESCRIPTION:U15 Bartram/heritage - Amenity Athletics: Your Neighborhood Athletic Association
LOCATION:Bartram Springs Field 3
CATEGORIES:QuickScores, Soccer Game
TRANSP:OPAQUE
BEGIN:VALARM
TRIGGER:-PT2H
ACTION:DISPLAY
DESCRIPTION:Coach Blake vs. Coach Broadbent
END:VALARM
END:VEVENT
BEGIN:VEVENT
UID:amenityathletics-73628209-20260509T130000@quickscores.com
DTSTAMP:20260419T124900Z
DTSTART;TZID=America/New_York:20260509T130000
DURATION:PT1H0M0S
SUMMARY:Coach Arboleda - Green vs. Coach Pugh
DESCRIPTION:U15 Bartram/heritage - Amenity Athletics: Your Neighborhood Athletic Association
LOCATION:Bartram Springs Field 4
CATEGORIES:QuickScores, Soccer Game
TRANSP:OPAQUE
BEGIN:VALARM
TRIGGER:-PT2H
ACTION:DISPLAY
DESCRIPTION:Coach Arboleda - Green vs. Coach Pugh
END:VALARM
END:VEVENT
BEGIN:VEVENT
UID:amenityathletics-73628210-20260509T130000@quickscores.com
DTSTAMP:20260419T124900Z
DTSTART;TZID=America/New_York:20260509T130000
DURATION:PT1H0M0S
SUMMARY:Coach Robinson vs. Coach Moise
DESCRIPTION:U15 Bartram/heritage - Amenity Athletics: Your Neighborhood Athletic Association
LOCATION:Bartram Springs Field 3
CATEGORIES:QuickScores, Soccer Game
TRANSP:OPAQUE
BEGIN:VALARM
TRIGGER:-PT2H
ACTION:DISPLAY
DESCRIPTION:Coach Robinson vs. Coach Moise
END:VALARM
END:VEVENT
BEGIN:VEVENT
UID:amenityathletics-73628211-20260509T141500@quickscores.com
DTSTAMP:20260419T124900Z
DTSTART;TZID=America/New_York:20260509T141500
DURATION:PT1H0M0S
SUMMARY:Coach Zullo vs. Coach Haddock
DESCRIPTION:U15 Bartram/heritage - Amenity Athletics: Your Neighborhood Athletic Association
LOCATION:Heritage Landing Field 2
CATEGORIES:QuickScores, Soccer Game
TRANSP:OPAQUE
BEGIN:VALARM
TRIGGER:-PT2H
ACTION:DISPLAY
DESCRIPTION:Coach Zullo vs. Coach Haddock
END:VALARM
END:VEVENT
BEGIN:VEVENT
UID:amenityathletics-73628212-20260509T141500@quickscores.com
DTSTAMP:20260419T124900Z
DTSTART;TZID=America/New_York:20260509T141500
DURATION:PT1H0M0S
SUMMARY:Coach Fisher vs. Coach Tauzard
DESCRIPTION:U15 Bartram/heritage - Amenity Athletics: Your Neighborhood Athletic Association
LOCATION:Bartram Springs Field 4
CATEGORIES:QuickScores, Soccer Game
TRANSP:OPAQUE
BEGIN:VALARM
TRIGGER:-PT2H
ACTION:DISPLAY
DESCRIPTION:Coach Fisher vs. Coach Tauzard
END:VALARM
END:VEVENT
BEGIN:VEVENT
UID:amenityathletics-73628208-20260509T141500@quickscores.com
DTSTAMP:20260419T124900Z
DTSTART;TZID=America/New_York:20260509T141500
DURATION:PT1H0M0S
SUMMARY:Coach Arboleda - Blue vs. Coach Irfan
DESCRIPTION:U15 Bartram/heritage - Amenity Athletics: Your Neighborhood Athletic Association
LOCATION:Bartram Springs Field 3
CATEGORIES:QuickScores, Soccer Game
TRANSP:OPAQUE
BEGIN:VALARM
TRIGGER:-PT2H
ACTION:DISPLAY
DESCRIPTION:Coach Arboleda - Blue vs. Coach Irfan
END:VALARM
END:VEVENT
BEGIN:VEVENT
UID:amenityathletics-73628214-20260516T114500@quickscores.com
DTSTAMP:20260419T124900Z
DTSTART;TZID=America/New_York:20260516T114500
DURATION:PT1H0M0S
SUMMARY:Coach Irfan vs. Coach Tauzard
DESCRIPTION:U15 Bartram/heritage - Amenity Athletics: Your Neighborhood Athletic Association
LOCATION:Bartram Springs Field 3
CATEGORIES:QuickScores, Soccer Game
TRANSP:OPAQUE
BEGIN:VALARM
TRIGGER:-PT2H
ACTION:DISPLAY
DESCRIPTION:Coach Irfan vs. Coach Tauzard
END:VALARM
END:VEVENT
BEGIN:VEVENT
UID:amenityathletics-73628217-20260516T130000@quickscores.com
DTSTAMP:20260419T124900Z
DTSTART;TZID=America/New_York:20260516T130000
DURATION:PT1H0M0S
SUMMARY:Coach Fisher vs. Coach Arboleda - Green
DESCRIPTION:U15 Bartram/heritage - Amenity Athletics: Your Neighborhood Athletic Association
LOCATION:Bartram Springs Field 3
CATEGORIES:QuickScores, Soccer Game
TRANSP:OPAQUE
BEGIN:VALARM
TRIGGER:-PT2H
ACTION:DISPLAY
DESCRIPTION:Coach Fisher vs. Coach Arboleda - Green
END:VALARM
END:VEVENT
BEGIN:VEVENT
UID:amenityathletics-73628216-20260516T130000@quickscores.com
DTSTAMP:20260419T124900Z
DTSTART;TZID=America/New_York:20260516T130000
DURATION:PT1H0M0S
SUMMARY:Coach Robinson vs. Coach Blake
DESCRIPTION:U15 Bartram/heritage - Amenity Athletics: Your Neighborhood Athletic Association
LOCATION:Bartram Springs Field 4
CATEGORIES:QuickScores, Soccer Game
TRANSP:OPAQUE
BEGIN:VALARM
TRIGGER:-PT2H
ACTION:DISPLAY
DESCRIPTION:Coach Robinson vs. Coach Blake
END:VALARM
END:VEVENT
BEGIN:VEVENT
UID:amenityathletics-73628215-20260516T141500@quickscores.com
DTSTAMP:20260419T124900Z
DTSTART;TZID=America/New_York:20260516T141500
DURATION:PT1H0M0S
SUMMARY:Coach Haddock vs. Coach Broadbent
DESCRIPTION:U15 Bartram/heritage - Amenity Athletics: Your Neighborhood Athletic Association
LOCATION:Bartram Springs Field 3
CATEGORIES:QuickScores, Soccer Game
TRANSP:OPAQUE
BEGIN:VALARM
TRIGGER:-PT2H
ACTION:DISPLAY
DESCRIPTION:Coach Haddock vs. Coach Broadbent
END:VALARM
END:VEVENT
BEGIN:VEVENT
UID:amenityathletics-73628219-20260516T141500@quickscores.com
DTSTAMP:20260419T124900Z
DTSTART;TZID=America/New_York:20260516T141500
DURATION:PT1H0M0S
SUMMARY:Coach Moise vs. Coach Pugh
DESCRIPTION:U15 Bartram/heritage - Amenity Athletics: Your Neighborhood Athletic Association
LOCATION:Heritage Landing Field 2
CATEGORIES:QuickScores, Soccer Game
TRANSP:OPAQUE
BEGIN:VALARM
TRIGGER:-PT2H
ACTION:DISPLAY
DESCRIPTION:Coach Moise vs. Coach Pugh
END:VALARM
END:VEVENT
BEGIN:VEVENT
UID:amenityathletics-73628218-20260516T141500@quickscores.com
DTSTAMP:20260419T124900Z
DTSTART;TZID=America/New_York:20260516T141500
DURATION:PT1H0M0S
SUMMARY:Coach Zullo vs. Coach Arboleda - Blue
DESCRIPTION:U15 Bartram/heritage - Amenity Athletics: Your Neighborhood Athletic Association
LOCATION:Bartram Springs Field 4
CATEGORIES:QuickScores, Soccer Game
TRANSP:OPAQUE
BEGIN:VALARM
TRIGGER:-PT2H
ACTION:DISPLAY
DESCRIPTION:Coach Zullo vs. Coach Arboleda - Blue
END:VALARM
END:VEVENT
BEGIN:VEVENT
UID:amenityathletics-73628178-20260523T114500@quickscores.com
DTSTAMP:20260419T124900Z
DTSTART;TZID=America/New_York:20260523T114500
DURATION:PT1H0M0S
SUMMARY:Coach Irfan vs. Coach Fisher
DESCRIPTION:U15 Bartram/heritage - Amenity Athletics: Your Neighborhood Athletic Association
LOCATION:Bartram Springs Field 3
CATEGORIES:QuickScores, Soccer Game
TRANSP:OPAQUE
BEGIN:VALARM
TRIGGER:-PT2H
ACTION:DISPLAY
DESCRIPTION:Coach Irfan vs. Coach Fisher
END:VALARM
END:VEVENT
BEGIN:VEVENT
UID:amenityathletics-73628183-20260523T130000@quickscores.com
DTSTAMP:20260419T124900Z
DTSTART;TZID=America/New_York:20260523T130000
DURATION:PT1H0M0S
SUMMARY:Coach Arboleda - Green vs. Coach Robinson
DESCRIPTION:U15 Bartram/heritage - Amenity Athletics: Your Neighborhood Athletic Association
LOCATION:Bartram Springs Field 4
CATEGORIES:QuickScores, Soccer Game
TRANSP:OPAQUE
BEGIN:VALARM
TRIGGER:-PT2H
ACTION:DISPLAY
DESCRIPTION:Coach Arboleda - Green vs. Coach Robinson
END:VALARM
END:VEVENT
BEGIN:VEVENT
UID:amenityathletics-73628180-20260523T130000@quickscores.com
DTSTAMP:20260419T124900Z
DTSTART;TZID=America/New_York:20260523T130000
DURATION:PT1H0M0S
SUMMARY:Coach Broadbent vs. Coach Moise
DESCRIPTION:U15 Bartram/heritage - Amenity Athletics: Your Neighborhood Athletic Association
LOCATION:Bartram Springs Field 3
CATEGORIES:QuickScores, Soccer Game
TRANSP:OPAQUE
BEGIN:VALARM
TRIGGER:-PT2H
ACTION:DISPLAY
DESCRIPTION:Coach Broadbent vs. Coach Moise
END:VALARM
END:VEVENT
BEGIN:VEVENT
UID:amenityathletics-73628182-20260523T141500@quickscores.com
DTSTAMP:20260419T124900Z
DTSTART;TZID=America/New_York:20260523T141500
DURATION:PT1H0M0S
SUMMARY:Coach Haddock vs. Coach Arboleda - Blue
DESCRIPTION:U15 Bartram/heritage - Amenity Athletics: Your Neighborhood Athletic Association
LOCATION:Bartram Springs Field 4
CATEGORIES:QuickScores, Soccer Game
TRANSP:OPAQUE
BEGIN:VALARM
TRIGGER:-PT2H
ACTION:DISPLAY
DESCRIPTION:Coach Haddock vs. Coach Arboleda - Blue
END:VALARM
END:VEVENT
BEGIN:VEVENT
UID:amenityathletics-73628181-20260523T141500@quickscores.com
DTSTAMP:20260419T124900Z
DTSTART;TZID=America/New_York:20260523T141500
DURATION:PT1H0M0S
SUMMARY:Coach Tauzard vs. Coach Pugh
DESCRIPTION:U15 Bartram/heritage - Amenity Athletics: Your Neighborhood Athletic Association
LOCATION:Bartram Springs Field 3
CATEGORIES:QuickScores, Soccer Game
TRANSP:OPAQUE
BEGIN:VALARM
TRIGGER:-PT2H
ACTION:DISPLAY
DESCRIPTION:Coach Tauzard vs. Coach Pugh
END:VALARM
END:VEVENT
BEGIN:VEVENT
UID:amenityathletics-73628179-20260523T141500@quickscores.com
DTSTAMP:20260419T124900Z
DTSTART;TZID=America/New_York:20260523T141500
DURATION:PT1H0M0S
SUMMARY:Coach Blake vs. Coach Zullo
DESCRIPTION:U15 Bartram/heritage - Amenity Athletics: Your Neighborhood Athletic Association
LOCATION:Heritage Landing Field 2
CATEGORIES:QuickScores, Soccer Game
TRANSP:OPAQUE
BEGIN:VALARM
TRIGGER:-PT2H
ACTION:DISPLAY
DESCRIPTION:Coach Blake vs. Coach Zullo
END:VALARM
END:VEVENT
END:VCALENDAR
