BEGIN:VCALENDAR
VERSION:2.0
PRODID:-//QuickScores.com//BQ Dynamic iCal Creator//EN
METHOD:PUBLISH
X-WR-CALNAME:12u Preseason - Spring 2026
X-WR-CALDESC:QuickScores game calendar
X-PUBLISHED-TTL:PT24H
REFRESH-INTERVAL;VALUE=DURATION:PT24H
CALSCALE:GREGORIAN
BEGIN:VTIMEZONE
TZID:America/Chicago
X-LIC-LOCATION:America/Chicago
BEGIN:DAYLIGHT
TZNAME:CDT
TZOFFSETFROM:-0600
TZOFFSETTO:-0500
DTSTART:19700308T020000
RRULE:FREQ=YEARLY;BYMONTH=3;BYDAY=2SU
END:DAYLIGHT
BEGIN:STANDARD
TZNAME:CST
TZOFFSETFROM:-0500
TZOFFSETTO:-0600
DTSTART:19701101T020000
RRULE:FREQ=YEARLY;BYMONTH=11;BYDAY=1SU
END:STANDARD
END:VTIMEZONE
BEGIN:VEVENT
UID:rrsa-73375022-20260325T180000@quickscores.com
DTSTAMP:20260421T004800Z
DTSTART;TZID=America/Chicago:20260325T180000
DURATION:PT1H0M0S
SUMMARY:LEONARD WRIGHT vs. TRENTON CASEBOLT
DESCRIPTION:12u Preseason - <br><br><br>Red River Sports Association
LOCATION:TRENTON F1
CATEGORIES:QuickScores, Softball - Fastpitch Game
TRANSP:OPAQUE
BEGIN:VALARM
TRIGGER:-PT2H
ACTION:DISPLAY
DESCRIPTION:LEONARD WRIGHT vs. TRENTON CASEBOLT
END:VALARM
END:VEVENT
BEGIN:VEVENT
UID:rrsa-73375023-20260325T190000@quickscores.com
DTSTAMP:20260421T004800Z
DTSTART;TZID=America/Chicago:20260325T190000
DURATION:PT1H0M0S
SUMMARY:POTTSBORO GUESS vs. BELLS SWADLEY
DESCRIPTION:12u Preseason - <br><br><br>Red River Sports Association
LOCATION:TRENTON F1
CATEGORIES:QuickScores, Softball - Fastpitch Game
TRANSP:OPAQUE
BEGIN:VALARM
TRIGGER:-PT2H
ACTION:DISPLAY
DESCRIPTION:POTTSBORO GUESS vs. BELLS SWADLEY
END:VALARM
END:VEVENT
BEGIN:VEVENT
UID:rrsa-73375024-20260325T200000@quickscores.com
DTSTAMP:20260421T004800Z
DTSTART;TZID=America/Chicago:20260325T200000
DURATION:PT1H0M0S
SUMMARY:TOM BEAN O'BIER vs. WHITEWRIGHT COFFMAN
DESCRIPTION:12u Preseason - <br><br><br>Red River Sports Association
LOCATION:TRENTON F1
CATEGORIES:QuickScores, Softball - Fastpitch Game
TRANSP:OPAQUE
BEGIN:VALARM
TRIGGER:-PT2H
ACTION:DISPLAY
DESCRIPTION:TOM BEAN O'BIER vs. WHITEWRIGHT COFFMAN
END:VALARM
END:VEVENT
BEGIN:VEVENT
UID:rrsa-73375025-20260326T180000@quickscores.com
DTSTAMP:20260421T004800Z
DTSTART;TZID=America/Chicago:20260326T180000
DURATION:PT1H0M0S
SUMMARY:S&S MCCAULEY vs. BELLS ELLER
DESCRIPTION:12u Preseason - <br><br><br>Red River Sports Association
LOCATION:TRENTON F1
CATEGORIES:QuickScores, Softball - Fastpitch Game
TRANSP:OPAQUE
BEGIN:VALARM
TRIGGER:-PT2H
ACTION:DISPLAY
DESCRIPTION:S&S MCCAULEY vs. BELLS ELLER
END:VALARM
END:VEVENT
BEGIN:VEVENT
UID:rrsa-73375026-20260326T190000@quickscores.com
DTSTAMP:20260421T004800Z
DTSTART;TZID=America/Chicago:20260326T190000
DURATION:PT1H0M0S
SUMMARY:LEONARD WRIGHT vs. HOWE HIETT
DESCRIPTION:12u Preseason - <br><br><br>Red River Sports Association
LOCATION:TRENTON F1
CATEGORIES:QuickScores, Softball - Fastpitch Game
TRANSP:OPAQUE
BEGIN:VALARM
TRIGGER:-PT2H
ACTION:DISPLAY
DESCRIPTION:LEONARD WRIGHT vs. HOWE HIETT
END:VALARM
END:VEVENT
BEGIN:VEVENT
UID:rrsa-73375027-20260326T200000@quickscores.com
DTSTAMP:20260421T004800Z
DTSTART;TZID=America/Chicago:20260326T200000
DURATION:PT1H0M0S
SUMMARY:LEONARD MITCHELL vs. BELLS SWADLEY
DESCRIPTION:12u Preseason - <br><br><br>Red River Sports Association
LOCATION:TRENTON F1
CATEGORIES:QuickScores, Softball - Fastpitch Game
TRANSP:OPAQUE
BEGIN:VALARM
TRIGGER:-PT2H
ACTION:DISPLAY
DESCRIPTION:LEONARD MITCHELL vs. BELLS SWADLEY
END:VALARM
END:VEVENT
BEGIN:VEVENT
UID:rrsa-73375028-20260327T180000@quickscores.com
DTSTAMP:20260421T004800Z
DTSTART;TZID=America/Chicago:20260327T180000
DURATION:PT1H0M0S
SUMMARY:POTTSBORO GUESS vs. WHITEWRIGHT COFFMAN
DESCRIPTION:12u Preseason - <br><br><br>Red River Sports Association
LOCATION:TRENTON F1
CATEGORIES:QuickScores, Softball - Fastpitch Game
TRANSP:OPAQUE
BEGIN:VALARM
TRIGGER:-PT2H
ACTION:DISPLAY
DESCRIPTION:POTTSBORO GUESS vs. WHITEWRIGHT COFFMAN
END:VALARM
END:VEVENT
BEGIN:VEVENT
UID:rrsa-73375029-20260327T190000@quickscores.com
DTSTAMP:20260421T004800Z
DTSTART;TZID=America/Chicago:20260327T190000
DURATION:PT1H0M0S
SUMMARY:TRENTON CASEBOLT vs. S&S MCCAULEY
DESCRIPTION:12u Preseason - <br><br><br>Red River Sports Association
LOCATION:TRENTON F1
CATEGORIES:QuickScores, Softball - Fastpitch Game
TRANSP:OPAQUE
BEGIN:VALARM
TRIGGER:-PT2H
ACTION:DISPLAY
DESCRIPTION:TRENTON CASEBOLT vs. S&S MCCAULEY
END:VALARM
END:VEVENT
BEGIN:VEVENT
UID:rrsa-73375030-20260327T200000@quickscores.com
DTSTAMP:20260421T004800Z
DTSTART;TZID=America/Chicago:20260327T200000
DURATION:PT1H0M0S
SUMMARY:WHITEWRIGHT COFFMAN vs. LEONARD WRIGHT
DESCRIPTION:12u Preseason - <br><br><br>Red River Sports Association
LOCATION:TRENTON F1
CATEGORIES:QuickScores, Softball - Fastpitch Game
TRANSP:OPAQUE
BEGIN:VALARM
TRIGGER:-PT2H
ACTION:DISPLAY
DESCRIPTION:WHITEWRIGHT COFFMAN vs. LEONARD WRIGHT
END:VALARM
END:VEVENT
BEGIN:VEVENT
UID:rrsa-73375031-20260328T090000@quickscores.com
DTSTAMP:20260421T004800Z
DTSTART;TZID=America/Chicago:20260328T090000
DURATION:PT1H0M0S
SUMMARY:S&S MCCAULEY vs. LEONARD MITCHELL
DESCRIPTION:12u Preseason - <br><br><br>Red River Sports Association
LOCATION:TRENTON F1
CATEGORIES:QuickScores, Softball - Fastpitch Game
TRANSP:OPAQUE
BEGIN:VALARM
TRIGGER:-PT2H
ACTION:DISPLAY
DESCRIPTION:S&S MCCAULEY vs. LEONARD MITCHELL
END:VALARM
END:VEVENT
BEGIN:VEVENT
UID:rrsa-73375032-20260328T100000@quickscores.com
DTSTAMP:20260421T004800Z
DTSTART;TZID=America/Chicago:20260328T100000
DURATION:PT1H0M0S
SUMMARY:TOM BEAN O'BIER vs. HOWE HIETT
DESCRIPTION:12u Preseason - <br><br><br>Red River Sports Association
LOCATION:TRENTON F1
CATEGORIES:QuickScores, Softball - Fastpitch Game
TRANSP:OPAQUE
BEGIN:VALARM
TRIGGER:-PT2H
ACTION:DISPLAY
DESCRIPTION:TOM BEAN O'BIER vs. HOWE HIETT
END:VALARM
END:VEVENT
BEGIN:VEVENT
UID:rrsa-73375033-20260328T110000@quickscores.com
DTSTAMP:20260421T004800Z
DTSTART;TZID=America/Chicago:20260328T110000
DURATION:PT1H0M0S
SUMMARY:BELLS SWADLEY vs. BELLS ELLER
DESCRIPTION:12u Preseason - <br><br><br>Red River Sports Association
LOCATION:TRENTON F1
CATEGORIES:QuickScores, Softball - Fastpitch Game
TRANSP:OPAQUE
BEGIN:VALARM
TRIGGER:-PT2H
ACTION:DISPLAY
DESCRIPTION:BELLS SWADLEY vs. BELLS ELLER
END:VALARM
END:VEVENT
BEGIN:VEVENT
UID:rrsa-73375034-20260328T120000@quickscores.com
DTSTAMP:20260421T004800Z
DTSTART;TZID=America/Chicago:20260328T120000
DURATION:PT1H0M0S
SUMMARY:S&S MCCAULEY vs. HOWE HIETT
DESCRIPTION:12u Preseason - <br><br><br>Red River Sports Association
LOCATION:TRENTON F1
CATEGORIES:QuickScores, Softball - Fastpitch Game
TRANSP:OPAQUE
BEGIN:VALARM
TRIGGER:-PT2H
ACTION:DISPLAY
DESCRIPTION:S&S MCCAULEY vs. HOWE HIETT
END:VALARM
END:VEVENT
BEGIN:VEVENT
UID:rrsa-73375035-20260328T130000@quickscores.com
DTSTAMP:20260421T004800Z
DTSTART;TZID=America/Chicago:20260328T130000
DURATION:PT1H0M0S
SUMMARY:BELLS SWADLEY vs. WHITEWRIGHT COFFMAN
DESCRIPTION:12u Preseason - <br><br><br>Red River Sports Association
LOCATION:TRENTON F1
CATEGORIES:QuickScores, Softball - Fastpitch Game
TRANSP:OPAQUE
BEGIN:VALARM
TRIGGER:-PT2H
ACTION:DISPLAY
DESCRIPTION:BELLS SWADLEY vs. WHITEWRIGHT COFFMAN
END:VALARM
END:VEVENT
BEGIN:VEVENT
UID:rrsa-73375036-20260328T140000@quickscores.com
DTSTAMP:20260421T004800Z
DTSTART;TZID=America/Chicago:20260328T140000
DURATION:PT1H0M0S
SUMMARY:TOM BEAN O'BIER vs. BELLS ELLER
DESCRIPTION:12u Preseason - <br><br><br>Red River Sports Association
LOCATION:TRENTON F1
CATEGORIES:QuickScores, Softball - Fastpitch Game
TRANSP:OPAQUE
BEGIN:VALARM
TRIGGER:-PT2H
ACTION:DISPLAY
DESCRIPTION:TOM BEAN O'BIER vs. BELLS ELLER
END:VALARM
END:VEVENT
BEGIN:VEVENT
UID:rrsa-73375037-20260328T150000@quickscores.com
DTSTAMP:20260421T004800Z
DTSTART;TZID=America/Chicago:20260328T150000
DURATION:PT1H0M0S
SUMMARY:WHITEWRIGHT COFFMAN vs. S&S MCCAULEY
DESCRIPTION:12u Preseason - <br><br><br>Red River Sports Association
LOCATION:TRENTON F1
CATEGORIES:QuickScores, Softball - Fastpitch Game
TRANSP:OPAQUE
BEGIN:VALARM
TRIGGER:-PT2H
ACTION:DISPLAY
DESCRIPTION:WHITEWRIGHT COFFMAN vs. S&S MCCAULEY
END:VALARM
END:VEVENT
BEGIN:VEVENT
UID:rrsa-73375081-20260328T160000@quickscores.com
DTSTAMP:20260421T004800Z
DTSTART;TZID=America/Chicago:20260328T160000
DURATION:PT1H0M0S
SUMMARY:TOM BEAN O'BIER vs. WHITEWRIGHT COFFMAN
DESCRIPTION:12u Preseason - <br><br><br>Red River Sports Association
LOCATION:TRENTON F1
CATEGORIES:QuickScores, Softball - Fastpitch Game
TRANSP:OPAQUE
BEGIN:VALARM
TRIGGER:-PT2H
ACTION:DISPLAY
DESCRIPTION:TOM BEAN O'BIER vs. WHITEWRIGHT COFFMAN
END:VALARM
END:VEVENT
BEGIN:VEVENT
UID:rrsa-73375082-20260328T170000@quickscores.com
DTSTAMP:20260421T004800Z
DTSTART;TZID=America/Chicago:20260328T170000
DURATION:PT1H0M0S
SUMMARY:BELLS ELLER vs. Winner of Game 17
DESCRIPTION:12u Preseason - <br><br><br>Red River Sports Association
LOCATION:TRENTON F1
CATEGORIES:QuickScores, Softball - Fastpitch Game
TRANSP:OPAQUE
BEGIN:VALARM
TRIGGER:-PT2H
ACTION:DISPLAY
DESCRIPTION:BELLS ELLER vs. Winner of Game 17
END:VALARM
END:VEVENT
BEGIN:VEVENT
UID:rrsa-73375083-20260328T180000@quickscores.com
DTSTAMP:20260421T004800Z
DTSTART;TZID=America/Chicago:20260328T180000
DURATION:PT1H0M0S
SUMMARY:Winner of Game 18 vs. Loser of Game 18
DESCRIPTION:12u Preseason - <br><br><br>Red River Sports Association
LOCATION:TRENTON F1
CATEGORIES:QuickScores, Softball - Fastpitch Game
TRANSP:OPAQUE
BEGIN:VALARM
TRIGGER:-PT2H
ACTION:DISPLAY
DESCRIPTION:Winner of Game 18 vs. Loser of Game 18
END:VALARM
END:VEVENT
END:VCALENDAR
