BEGIN:VCALENDAR
VERSION:2.0
PRODID:-//QuickScores.com//BQ Dynamic iCal Creator//EN
METHOD:PUBLISH
X-WR-CALNAME:Silver Bracket (5/6b) - Winter 2026
X-WR-CALDESC:QuickScores game calendar
X-PUBLISHED-TTL:PT24H
REFRESH-INTERVAL;VALUE=DURATION:PT24H
CALSCALE:GREGORIAN
BEGIN:VTIMEZONE
TZID:America/Chicago
X-LIC-LOCATION:America/Chicago
BEGIN:DAYLIGHT
TZNAME:CDT
TZOFFSETFROM:-0600
TZOFFSETTO:-0500
DTSTART:19700308T020000
RRULE:FREQ=YEARLY;BYMONTH=3;BYDAY=2SU
END:DAYLIGHT
BEGIN:STANDARD
TZNAME:CST
TZOFFSETFROM:-0500
TZOFFSETTO:-0600
DTSTART:19701101T020000
RRULE:FREQ=YEARLY;BYMONTH=11;BYDAY=1SU
END:STANDARD
END:VTIMEZONE
BEGIN:VEVENT
UID:intervillageleagues-73338424-20260307T110000@quickscores.com
DTSTAMP:20260423T050600Z
DTSTART;TZID=America/Chicago:20260307T110000
DURATION:PT1H0M0S
SUMMARY:6K WIBA 1 (Jimenez) vs. 7W Medinah
DESCRIPTION:Silver Bracket (5/6b) - Intervillage Leagues
LOCATION:Connolly Recreation Center
CATEGORIES:QuickScores, Basketball - Youth Game
TRANSP:OPAQUE
BEGIN:VALARM
TRIGGER:-PT2H
ACTION:DISPLAY
DESCRIPTION:6K WIBA 1 (Jimenez) vs. 7W Medinah
END:VALARM
END:VEVENT
BEGIN:VEVENT
UID:intervillageleagues-73338426-20260307T140000@quickscores.com
DTSTAMP:20260423T050600Z
DTSTART;TZID=America/Chicago:20260307T140000
DURATION:PT1H0M0S
SUMMARY:6W Glendale Heights 1 (Sunseri) vs. 8W Bloomingdale 4 (Knighten)
DESCRIPTION:Silver Bracket (5/6b) - Intervillage Leagues
LOCATION:Glendale Heights Sports Hub - Court A
CATEGORIES:QuickScores, Basketball - Youth Game
TRANSP:OPAQUE
BEGIN:VALARM
TRIGGER:-PT2H
ACTION:DISPLAY
DESCRIPTION:6W Glendale Heights 1 (Sunseri) vs. 8W Bloomingdale 4 (Knighten)
END:VALARM
END:VEVENT
BEGIN:VEVENT
UID:intervillageleagues-73338427-20260308T120000@quickscores.com
DTSTAMP:20260423T050600Z
DTSTART;TZID=America/Chicago:20260308T120000
DURATION:PT1H0M0S
SUMMARY:5W Bville 2 (Foran) vs. 6K WIBA 1 (Jimenez)
DESCRIPTION:Silver Bracket (5/6b) - Intervillage Leagues
LOCATION:Bensenville Park District
CATEGORIES:QuickScores, Basketball - Youth Game
TRANSP:OPAQUE
BEGIN:VALARM
TRIGGER:-PT2H
ACTION:DISPLAY
DESCRIPTION:5W Bville 2 (Foran) vs. 6K WIBA 1 (Jimenez)
END:VALARM
END:VEVENT
BEGIN:VEVENT
UID:intervillageleagues-73338428-20260308T120000@quickscores.com
DTSTAMP:20260423T050600Z
DTSTART;TZID=America/Chicago:20260308T120000
DURATION:PT1H0M0S
SUMMARY:5K Bloomingdale 2 (Badalamente) vs. 6W Glendale Heights 1 (Sunseri)
DESCRIPTION:Silver Bracket (5/6b) - Intervillage Leagues
LOCATION:Bloomingdale - Johnston Recreation Center
CATEGORIES:QuickScores, Basketball - Youth Game
TRANSP:OPAQUE
BEGIN:VALARM
TRIGGER:-PT2H
ACTION:DISPLAY
DESCRIPTION:5K Bloomingdale 2 (Badalamente) vs. 6W Glendale Heights 1 (Sunseri)
END:VALARM
END:VEVENT
BEGIN:VEVENT
UID:intervillageleagues-73338429-20260314T103000@quickscores.com
DTSTAMP:20260423T050600Z
DTSTART;TZID=America/Chicago:20260314T103000
DURATION:PT1H0M0S
SUMMARY:6K WIBA 1 (Jimenez) vs. 5K Bloomingdale 2 (Badalamente)
DESCRIPTION:Silver Bracket (5/6b) - Intervillage Leagues
LOCATION:Bloomingdale - Johnston Recreation Center
CATEGORIES:QuickScores, Basketball - Youth Game
TRANSP:OPAQUE
BEGIN:VALARM
TRIGGER:-PT2H
ACTION:DISPLAY
DESCRIPTION:6K WIBA 1 (Jimenez) vs. 5K Bloomingdale 2 (Badalamente)
END:VALARM
END:VEVENT
END:VCALENDAR
