BEGIN:VCALENDAR
VERSION:2.0
PRODID:-//QuickScores.com//BQ Dynamic iCal Creator//EN
METHOD:PUBLISH
X-WR-CALNAME:Gold Bracket (5/6b) - Winter 2026
X-WR-CALDESC:QuickScores game calendar
X-PUBLISHED-TTL:PT24H
REFRESH-INTERVAL;VALUE=DURATION:PT24H
CALSCALE:GREGORIAN
BEGIN:VTIMEZONE
TZID:America/Chicago
X-LIC-LOCATION:America/Chicago
BEGIN:DAYLIGHT
TZNAME:CDT
TZOFFSETFROM:-0600
TZOFFSETTO:-0500
DTSTART:19700308T020000
RRULE:FREQ=YEARLY;BYMONTH=3;BYDAY=2SU
END:DAYLIGHT
BEGIN:STANDARD
TZNAME:CST
TZOFFSETFROM:-0500
TZOFFSETTO:-0600
DTSTART:19701101T020000
RRULE:FREQ=YEARLY;BYMONTH=11;BYDAY=1SU
END:STANDARD
END:VTIMEZONE
BEGIN:VEVENT
UID:intervillageleagues-73338409-20260306T183000@quickscores.com
DTSTAMP:20260419T185600Z
DTSTART;TZID=America/Chicago:20260306T183000
DURATION:PT1H0M0S
SUMMARY:1K AYS (Addison) 1 - Joe vs. 4W Glendale Heights 2 (Tybor)
DESCRIPTION:Gold Bracket (5/6b) - Intervillage Leagues
LOCATION:Indian Trail Jr High School
CATEGORIES:QuickScores, Basketball - Youth Game
TRANSP:OPAQUE
BEGIN:VALARM
TRIGGER:-PT2H
ACTION:DISPLAY
DESCRIPTION:1K AYS (Addison) 1 - Joe vs. 4W Glendale Heights 2 (Tybor)
END:VALARM
END:VEVENT
BEGIN:VEVENT
UID:intervillageleagues-73338407-20260307T141500@quickscores.com
DTSTAMP:20260419T185600Z
DTSTART;TZID=America/Chicago:20260307T141500
DURATION:PT1H0M0S
SUMMARY:1W Roselle 1 (Hejza) vs. 4K Bville Fire
DESCRIPTION:Gold Bracket (5/6b) - Intervillage Leagues
LOCATION:Clauss Recreation Center - Court 1
CATEGORIES:QuickScores, Basketball - Youth Game
TRANSP:OPAQUE
BEGIN:VALARM
TRIGGER:-PT2H
ACTION:DISPLAY
DESCRIPTION:1W Roselle 1 (Hejza) vs. 4K Bville Fire
END:VALARM
END:VEVENT
BEGIN:VEVENT
UID:intervillageleagues-73338410-20260307T151500@quickscores.com
DTSTAMP:20260419T185600Z
DTSTART;TZID=America/Chicago:20260307T151500
DURATION:PT1H0M0S
SUMMARY:2W Schaumburg (Neuendorf) vs. 3K Bville (Medina)
DESCRIPTION:Gold Bracket (5/6b) - Intervillage Leagues
LOCATION:Schaumburg-Eisenhower Jr. High
CATEGORIES:QuickScores, Basketball - Youth Game
TRANSP:OPAQUE
BEGIN:VALARM
TRIGGER:-PT2H
ACTION:DISPLAY
DESCRIPTION:2W Schaumburg (Neuendorf) vs. 3K Bville (Medina)
END:VALARM
END:VEVENT
BEGIN:VEVENT
UID:intervillageleagues-73338408-20260307T171500@quickscores.com
DTSTAMP:20260419T185600Z
DTSTART;TZID=America/Chicago:20260307T171500
DURATION:PT1H0M0S
SUMMARY:2K Schaumburg 2 (Piriano) vs. 3W AYS 2 (Lynch)
DESCRIPTION:Gold Bracket (5/6b) - Intervillage Leagues
LOCATION:Schaumburg-Eisenhower Jr. High
CATEGORIES:QuickScores, Basketball - Youth Game
TRANSP:OPAQUE
BEGIN:VALARM
TRIGGER:-PT2H
ACTION:DISPLAY
DESCRIPTION:2K Schaumburg 2 (Piriano) vs. 3W AYS 2 (Lynch)
END:VALARM
END:VEVENT
BEGIN:VEVENT
UID:intervillageleagues-73338412-20260313T193000@quickscores.com
DTSTAMP:20260419T185600Z
DTSTART;TZID=America/Chicago:20260313T193000
DURATION:PT1H0M0S
SUMMARY:1K AYS (Addison) 1 - Joe vs. 2W Schaumburg (Neuendorf)
DESCRIPTION:Gold Bracket (5/6b) - Intervillage Leagues
LOCATION:Indian Trail Jr High School
CATEGORIES:QuickScores, Basketball - Youth Game
TRANSP:OPAQUE
BEGIN:VALARM
TRIGGER:-PT2H
ACTION:DISPLAY
DESCRIPTION:1K AYS (Addison) 1 - Joe vs. 2W Schaumburg (Neuendorf)
END:VALARM
END:VEVENT
BEGIN:VEVENT
UID:intervillageleagues-73338411-20260314T090000@quickscores.com
DTSTAMP:20260419T185600Z
DTSTART;TZID=America/Chicago:20260314T090000
DURATION:PT1H0M0S
SUMMARY:1W Roselle 1 (Hejza) vs. 2K Schaumburg 2 (Piriano)
DESCRIPTION:Gold Bracket (5/6b) - Intervillage Leagues
LOCATION:Clauss Recreation Center - Court 1
CATEGORIES:QuickScores, Basketball - Youth Game
TRANSP:OPAQUE
BEGIN:VALARM
TRIGGER:-PT2H
ACTION:DISPLAY
DESCRIPTION:1W Roselle 1 (Hejza) vs. 2K Schaumburg 2 (Piriano)
END:VALARM
END:VEVENT
BEGIN:VEVENT
UID:intervillageleagues-73338413-20260315T103000@quickscores.com
DTSTAMP:20260419T185600Z
DTSTART;TZID=America/Chicago:20260315T103000
DURATION:PT1H0M0S
SUMMARY:1W Roselle 1 (Hejza) vs. 2W Schaumburg (Neuendorf)
DESCRIPTION:Gold Bracket (5/6b) - Intervillage Leagues
LOCATION:Clauss Recreation Center - Court 1
CATEGORIES:QuickScores, Basketball - Youth Game
TRANSP:OPAQUE
BEGIN:VALARM
TRIGGER:-PT2H
ACTION:DISPLAY
DESCRIPTION:1W Roselle 1 (Hejza) vs. 2W Schaumburg (Neuendorf)
END:VALARM
END:VEVENT
END:VCALENDAR
