BEGIN:VCALENDAR
VERSION:2.0
PRODID:-//QuickScores.com//BQ Dynamic iCal Creator//EN
METHOD:PUBLISH
X-WR-CALNAME:8u Silver Bracket - Spring 2026
X-WR-CALDESC:QuickScores game calendar
X-PUBLISHED-TTL:PT24H
REFRESH-INTERVAL;VALUE=DURATION:PT24H
CALSCALE:GREGORIAN
BEGIN:VTIMEZONE
TZID:America/Chicago
X-LIC-LOCATION:America/Chicago
BEGIN:DAYLIGHT
TZNAME:CDT
TZOFFSETFROM:-0600
TZOFFSETTO:-0500
DTSTART:19700308T020000
RRULE:FREQ=YEARLY;BYMONTH=3;BYDAY=2SU
END:DAYLIGHT
BEGIN:STANDARD
TZNAME:CST
TZOFFSETFROM:-0500
TZOFFSETTO:-0600
DTSTART:19701101T020000
RRULE:FREQ=YEARLY;BYMONTH=11;BYDAY=1SU
END:STANDARD
END:VTIMEZONE
BEGIN:VEVENT
UID:mansfieldgsa-73334895-20260427T180000@quickscores.com
DTSTAMP:20260424T000000Z
DTSTART;TZID=America/Chicago:20260427T180000
DURATION:PT0H55M0S
SUMMARY:#9 Seed vs. #10 Seed
DESCRIPTION:8u Silver Bracket - Mansfield Girls Softball Association
LOCATION:McKnight Park - Field 4
CATEGORIES:QuickScores, Softball - Fastpitch Game
TRANSP:OPAQUE
BEGIN:VALARM
TRIGGER:-PT2H
ACTION:DISPLAY
DESCRIPTION:#9 Seed vs. #10 Seed
END:VALARM
END:VEVENT
BEGIN:VEVENT
UID:mansfieldgsa-73334899-20260427T190500@quickscores.com
DTSTAMP:20260424T000000Z
DTSTART;TZID=America/Chicago:20260427T190500
DURATION:PT0H55M0S
SUMMARY:#7 Seed vs. #8 Seed
DESCRIPTION:8u Silver Bracket - Mansfield Girls Softball Association
LOCATION:McKnight Park - Field 4
CATEGORIES:QuickScores, Softball - Fastpitch Game
TRANSP:OPAQUE
BEGIN:VALARM
TRIGGER:-PT2H
ACTION:DISPLAY
DESCRIPTION:#7 Seed vs. #8 Seed
END:VALARM
END:VEVENT
BEGIN:VEVENT
UID:mansfieldgsa-73334898-20260428T180000@quickscores.com
DTSTAMP:20260424T000000Z
DTSTART;TZID=America/Chicago:20260428T180000
DURATION:PT0H55M0S
SUMMARY:#6 Seed vs. Winner of Game 1
DESCRIPTION:8u Silver Bracket - Mansfield Girls Softball Association
LOCATION:McKnight Park - Field 1
CATEGORIES:QuickScores, Softball - Fastpitch Game
TRANSP:OPAQUE
BEGIN:VALARM
TRIGGER:-PT2H
ACTION:DISPLAY
DESCRIPTION:#6 Seed vs. Winner of Game 1
END:VALARM
END:VEVENT
BEGIN:VEVENT
UID:mansfieldgsa-73334902-20260430T180000@quickscores.com
DTSTAMP:20260424T000000Z
DTSTART;TZID=America/Chicago:20260430T180000
DURATION:PT0H55M0S
SUMMARY:Loser of Game 2 vs. Loser of Game 1
DESCRIPTION:8u Silver Bracket - Mansfield Girls Softball Association
LOCATION:McKnight Park - Field 1
CATEGORIES:QuickScores, Softball - Fastpitch Game
TRANSP:OPAQUE
BEGIN:VALARM
TRIGGER:-PT2H
ACTION:DISPLAY
DESCRIPTION:Loser of Game 2 vs. Loser of Game 1
END:VALARM
END:VEVENT
BEGIN:VEVENT
UID:mansfieldgsa-73334904-20260504T180000@quickscores.com
DTSTAMP:20260424T000000Z
DTSTART;TZID=America/Chicago:20260504T180000
DURATION:PT0H55M0S
SUMMARY:Winner of Game 3 vs. Winner of Game 2
DESCRIPTION:8u Silver Bracket - Mansfield Girls Softball Association
LOCATION:McKnight Park - Field 4
CATEGORIES:QuickScores, Softball - Fastpitch Game
TRANSP:OPAQUE
BEGIN:VALARM
TRIGGER:-PT2H
ACTION:DISPLAY
DESCRIPTION:Winner of Game 3 vs. Winner of Game 2
END:VALARM
END:VEVENT
BEGIN:VEVENT
UID:mansfieldgsa-73334905-20260504T190500@quickscores.com
DTSTAMP:20260424T000000Z
DTSTART;TZID=America/Chicago:20260504T190500
DURATION:PT0H55M0S
SUMMARY:Winner of Game 4 vs. Loser of Game 3
DESCRIPTION:8u Silver Bracket - Mansfield Girls Softball Association
LOCATION:McKnight Park - Field 4
CATEGORIES:QuickScores, Softball - Fastpitch Game
TRANSP:OPAQUE
BEGIN:VALARM
TRIGGER:-PT2H
ACTION:DISPLAY
DESCRIPTION:Winner of Game 4 vs. Loser of Game 3
END:VALARM
END:VEVENT
BEGIN:VEVENT
UID:mansfieldgsa-73334906-20260507T180000@quickscores.com
DTSTAMP:20260424T000000Z
DTSTART;TZID=America/Chicago:20260507T180000
DURATION:PT0H55M0S
SUMMARY:Loser of Game 5 vs. Winner of Game 6
DESCRIPTION:8u Silver Bracket - Mansfield Girls Softball Association
LOCATION:McKnight Park - Field 4
CATEGORIES:QuickScores, Softball - Fastpitch Game
TRANSP:OPAQUE
BEGIN:VALARM
TRIGGER:-PT2H
ACTION:DISPLAY
DESCRIPTION:Loser of Game 5 vs. Winner of Game 6
END:VALARM
END:VEVENT
BEGIN:VEVENT
UID:mansfieldgsa-73334907-20260507T190500@quickscores.com
DTSTAMP:20260424T000000Z
DTSTART;TZID=America/Chicago:20260507T190500
DURATION:PT0H55M0S
SUMMARY:Winner of Game 5 vs. Winner of Game 7
DESCRIPTION:8u Silver Bracket - Mansfield Girls Softball Association
LOCATION:McKnight Park - Field 4
CATEGORIES:QuickScores, Softball - Fastpitch Game
TRANSP:OPAQUE
BEGIN:VALARM
TRIGGER:-PT2H
ACTION:DISPLAY
DESCRIPTION:Winner of Game 5 vs. Winner of Game 7
END:VALARM
END:VEVENT
BEGIN:VEVENT
UID:mansfieldgsa-73334908-20260512@quickscores.com
DTSTAMP:20260424T000000Z
DTSTART;TZID=America/Chicago:20260512
SUMMARY:Winner of Game 8 vs. Loser of Game 8
DESCRIPTION:8u Silver Bracket - Mansfield Girls Softball Association
LOCATION:McKnight Park - Field 1
CATEGORIES:QuickScores, Softball - Fastpitch Game
TRANSP:OPAQUE
BEGIN:VALARM
TRIGGER:-PT2H
ACTION:DISPLAY
DESCRIPTION:Winner of Game 8 vs. Loser of Game 8
END:VALARM
END:VEVENT
END:VCALENDAR
