BEGIN:VCALENDAR
VERSION:2.0
PRODID:-//QuickScores.com//BQ Dynamic iCal Creator//EN
METHOD:PUBLISH
X-WR-CALNAME:U15 (12-14 Year Olds) Middle Tyger And Polk County Ymca Teams - Spring 2026
X-WR-CALDESC:QuickScores game calendar
X-PUBLISHED-TTL:PT24H
REFRESH-INTERVAL;VALUE=DURATION:PT24H
CALSCALE:GREGORIAN
BEGIN:VTIMEZONE
TZID:America/New_York
X-LIC-LOCATION:America/New_York
BEGIN:DAYLIGHT
TZNAME:EDT
TZOFFSETFROM:-0500
TZOFFSETTO:-0400
DTSTART:19700308T020000
RRULE:FREQ=YEARLY;BYMONTH=3;BYDAY=2SU
END:DAYLIGHT
BEGIN:STANDARD
TZNAME:EST
TZOFFSETFROM:-0400
TZOFFSETTO:-0500
DTSTART:19701101T020000
RRULE:FREQ=YEARLY;BYMONTH=11;BYDAY=1SU
END:STANDARD
END:VTIMEZONE
BEGIN:VEVENT
UID:spartanburgymca-74224383-20260310T193000@quickscores.com
DTSTAMP:20260422T034100Z
DTSTART;TZID=America/New_York:20260310T193000
DURATION:PT1H0M0S
SUMMARY:Practice: U15 Coach Vanderford
DESCRIPTION:U15 (12-14 Year Olds) Middle Tyger And Polk County Ymca Teams - YMCA of Greater Spartanburg
LOCATION:Middle Tyger YMCA Gym - Court 2
CATEGORIES:QuickScores, Volleyball - Youth Game
TRANSP:OPAQUE
BEGIN:VALARM
TRIGGER:-PT2H
ACTION:DISPLAY
DESCRIPTION:Practice: U15 Coach Vanderford
END:VALARM
END:VEVENT
BEGIN:VEVENT
UID:spartanburgymca-74224392-20260312T173000@quickscores.com
DTSTAMP:20260422T034100Z
DTSTART;TZID=America/New_York:20260312T173000
DURATION:PT1H0M0S
SUMMARY:Practice: U15 Coach George
DESCRIPTION:U15 (12-14 Year Olds) Middle Tyger And Polk County Ymca Teams - YMCA of Greater Spartanburg
LOCATION:Middle Tyger YMCA Gym - Court 2
CATEGORIES:QuickScores, Volleyball - Youth Game
TRANSP:OPAQUE
BEGIN:VALARM
TRIGGER:-PT2H
ACTION:DISPLAY
DESCRIPTION:Practice: U15 Coach George
END:VALARM
END:VEVENT
BEGIN:VEVENT
UID:spartanburgymca-74224401-20260312T193000@quickscores.com
DTSTAMP:20260422T034100Z
DTSTART;TZID=America/New_York:20260312T193000
DURATION:PT1H0M0S
SUMMARY:Practice: MTY - Team 2
DESCRIPTION:U15 (12-14 Year Olds) Middle Tyger And Polk County Ymca Teams - YMCA of Greater Spartanburg
LOCATION:Middle Tyger YMCA Gym - Court 2
CATEGORIES:QuickScores, Volleyball - Youth Game
TRANSP:OPAQUE
BEGIN:VALARM
TRIGGER:-PT2H
ACTION:DISPLAY
DESCRIPTION:Practice: MTY - Team 2
END:VALARM
END:VEVENT
BEGIN:VEVENT
UID:spartanburgymca-74224384-20260317T193000@quickscores.com
DTSTAMP:20260422T034100Z
DTSTART;TZID=America/New_York:20260317T193000
DURATION:PT1H0M0S
SUMMARY:Practice: U15 Coach Vanderford
DESCRIPTION:U15 (12-14 Year Olds) Middle Tyger And Polk County Ymca Teams - YMCA of Greater Spartanburg
LOCATION:Middle Tyger YMCA Gym - Court 2
CATEGORIES:QuickScores, Volleyball - Youth Game
TRANSP:OPAQUE
BEGIN:VALARM
TRIGGER:-PT2H
ACTION:DISPLAY
DESCRIPTION:Practice: U15 Coach Vanderford
END:VALARM
END:VEVENT
BEGIN:VEVENT
UID:spartanburgymca-74224393-20260319T173000@quickscores.com
DTSTAMP:20260422T034100Z
DTSTART;TZID=America/New_York:20260319T173000
DURATION:PT1H0M0S
SUMMARY:Practice: U15 Coach George
DESCRIPTION:U15 (12-14 Year Olds) Middle Tyger And Polk County Ymca Teams - YMCA of Greater Spartanburg
LOCATION:Middle Tyger YMCA Gym - Court 2
CATEGORIES:QuickScores, Volleyball - Youth Game
TRANSP:OPAQUE
BEGIN:VALARM
TRIGGER:-PT2H
ACTION:DISPLAY
DESCRIPTION:Practice: U15 Coach George
END:VALARM
END:VEVENT
BEGIN:VEVENT
UID:spartanburgymca-74224402-20260319T193000@quickscores.com
DTSTAMP:20260422T034100Z
DTSTART;TZID=America/New_York:20260319T193000
DURATION:PT1H0M0S
SUMMARY:Practice: MTY - Team 2
DESCRIPTION:U15 (12-14 Year Olds) Middle Tyger And Polk County Ymca Teams - YMCA of Greater Spartanburg
LOCATION:Middle Tyger YMCA Gym - Court 2
CATEGORIES:QuickScores, Volleyball - Youth Game
TRANSP:OPAQUE
BEGIN:VALARM
TRIGGER:-PT2H
ACTION:DISPLAY
DESCRIPTION:Practice: MTY - Team 2
END:VALARM
END:VEVENT
BEGIN:VEVENT
UID:spartanburgymca-73714899-20260321T100000@quickscores.com
DTSTAMP:20260422T034100Z
DTSTART;TZID=America/New_York:20260321T100000
DURATION:PT1H0M0S
SUMMARY:U15 Coach George vs. MTY - Team 2
DESCRIPTION:U15 (12-14 Year Olds) Middle Tyger And Polk County Ymca Teams - YMCA of Greater Spartanburg
LOCATION:Middle Tyger YMCA Gym - Court 2
CATEGORIES:QuickScores, Volleyball - Youth Game
TRANSP:OPAQUE
BEGIN:VALARM
TRIGGER:-PT2H
ACTION:DISPLAY
DESCRIPTION:U15 Coach George vs. MTY - Team 2
END:VALARM
END:VEVENT
BEGIN:VEVENT
UID:spartanburgymca-73714898-20260321T110000@quickscores.com
DTSTAMP:20260422T034100Z
DTSTART;TZID=America/New_York:20260321T110000
DURATION:PT1H0M0S
SUMMARY:U15 Coach Vanderford vs. MTY - Team 2
DESCRIPTION:U15 (12-14 Year Olds) Middle Tyger And Polk County Ymca Teams - YMCA of Greater Spartanburg
LOCATION:Middle Tyger YMCA Gym - Court 2
CATEGORIES:QuickScores, Volleyball - Youth Game
TRANSP:OPAQUE
BEGIN:VALARM
TRIGGER:-PT2H
ACTION:DISPLAY
DESCRIPTION:U15 Coach Vanderford vs. MTY - Team 2
END:VALARM
END:VEVENT
BEGIN:VEVENT
UID:spartanburgymca-74224385-20260324T193000@quickscores.com
DTSTAMP:20260422T034100Z
DTSTART;TZID=America/New_York:20260324T193000
DURATION:PT1H0M0S
SUMMARY:Practice: U15 Coach Vanderford
DESCRIPTION:U15 (12-14 Year Olds) Middle Tyger And Polk County Ymca Teams - YMCA of Greater Spartanburg
LOCATION:Middle Tyger YMCA Gym - Court 2
CATEGORIES:QuickScores, Volleyball - Youth Game
TRANSP:OPAQUE
BEGIN:VALARM
TRIGGER:-PT2H
ACTION:DISPLAY
DESCRIPTION:Practice: U15 Coach Vanderford
END:VALARM
END:VEVENT
BEGIN:VEVENT
UID:spartanburgymca-74224394-20260326T173000@quickscores.com
DTSTAMP:20260422T034100Z
DTSTART;TZID=America/New_York:20260326T173000
DURATION:PT1H0M0S
SUMMARY:Practice: U15 Coach George
DESCRIPTION:U15 (12-14 Year Olds) Middle Tyger And Polk County Ymca Teams - YMCA of Greater Spartanburg
LOCATION:Middle Tyger YMCA Gym - Court 2
CATEGORIES:QuickScores, Volleyball - Youth Game
TRANSP:OPAQUE
BEGIN:VALARM
TRIGGER:-PT2H
ACTION:DISPLAY
DESCRIPTION:Practice: U15 Coach George
END:VALARM
END:VEVENT
BEGIN:VEVENT
UID:spartanburgymca-74224403-20260326T193000@quickscores.com
DTSTAMP:20260422T034100Z
DTSTART;TZID=America/New_York:20260326T193000
DURATION:PT1H0M0S
SUMMARY:Practice: MTY - Team 2
DESCRIPTION:U15 (12-14 Year Olds) Middle Tyger And Polk County Ymca Teams - YMCA of Greater Spartanburg
LOCATION:Middle Tyger YMCA Gym - Court 2
CATEGORIES:QuickScores, Volleyball - Youth Game
TRANSP:OPAQUE
BEGIN:VALARM
TRIGGER:-PT2H
ACTION:DISPLAY
DESCRIPTION:Practice: MTY - Team 2
END:VALARM
END:VEVENT
BEGIN:VEVENT
UID:spartanburgymca-73714900-20260328T130000@quickscores.com
DTSTAMP:20260422T034100Z
DTSTART;TZID=America/New_York:20260328T130000
DURATION:PT1H0M0S
SUMMARY:U15 Coach Vanderford vs. U15 Coach George
DESCRIPTION:U15 (12-14 Year Olds) Middle Tyger And Polk County Ymca Teams - YMCA of Greater Spartanburg
LOCATION:Thomas E. Hannah YMCA - Court 1
CATEGORIES:QuickScores, Volleyball - Youth Game
TRANSP:OPAQUE
BEGIN:VALARM
TRIGGER:-PT2H
ACTION:DISPLAY
DESCRIPTION:U15 Coach Vanderford vs. U15 Coach George
END:VALARM
END:VEVENT
BEGIN:VEVENT
UID:spartanburgymca-73714901-20260328T130000@quickscores.com
DTSTAMP:20260422T034100Z
DTSTART;TZID=America/New_York:20260328T130000
DURATION:PT1H0M0S
SUMMARY:Coach Melton - PCY vs. MTY - Team 2
DESCRIPTION:U15 (12-14 Year Olds) Middle Tyger And Polk County Ymca Teams - YMCA of Greater Spartanburg
LOCATION:Stearns Gym
CATEGORIES:QuickScores, Volleyball - Youth Game
TRANSP:OPAQUE
BEGIN:VALARM
TRIGGER:-PT2H
ACTION:DISPLAY
DESCRIPTION:Coach Melton - PCY vs. MTY - Team 2
END:VALARM
END:VEVENT
BEGIN:VEVENT
UID:spartanburgymca-74224386-20260331T193000@quickscores.com
DTSTAMP:20260422T034100Z
DTSTART;TZID=America/New_York:20260331T193000
DURATION:PT1H0M0S
SUMMARY:Practice: U15 Coach Vanderford
DESCRIPTION:U15 (12-14 Year Olds) Middle Tyger And Polk County Ymca Teams - YMCA of Greater Spartanburg
LOCATION:Middle Tyger YMCA Gym - Court 2
CATEGORIES:QuickScores, Volleyball - Youth Game
TRANSP:OPAQUE
BEGIN:VALARM
TRIGGER:-PT2H
ACTION:DISPLAY
DESCRIPTION:Practice: U15 Coach Vanderford
END:VALARM
END:VEVENT
BEGIN:VEVENT
UID:spartanburgymca-74224395-20260402T173000@quickscores.com
DTSTAMP:20260422T034100Z
DTSTART;TZID=America/New_York:20260402T173000
DURATION:PT1H0M0S
SUMMARY:Practice: U15 Coach George
DESCRIPTION:U15 (12-14 Year Olds) Middle Tyger And Polk County Ymca Teams - YMCA of Greater Spartanburg
LOCATION:Middle Tyger YMCA Gym - Court 2
CATEGORIES:QuickScores, Volleyball - Youth Game
TRANSP:OPAQUE
BEGIN:VALARM
TRIGGER:-PT2H
ACTION:DISPLAY
DESCRIPTION:Practice: U15 Coach George
END:VALARM
END:VEVENT
BEGIN:VEVENT
UID:spartanburgymca-74224404-20260402T193000@quickscores.com
DTSTAMP:20260422T034100Z
DTSTART;TZID=America/New_York:20260402T193000
DURATION:PT1H0M0S
SUMMARY:Practice: MTY - Team 2
DESCRIPTION:U15 (12-14 Year Olds) Middle Tyger And Polk County Ymca Teams - YMCA of Greater Spartanburg
LOCATION:Middle Tyger YMCA Gym - Court 2
CATEGORIES:QuickScores, Volleyball - Youth Game
TRANSP:OPAQUE
BEGIN:VALARM
TRIGGER:-PT2H
ACTION:DISPLAY
DESCRIPTION:Practice: MTY - Team 2
END:VALARM
END:VEVENT
BEGIN:VEVENT
UID:spartanburgymca-73714905-20260411T100000@quickscores.com
DTSTAMP:20260422T034100Z
DTSTART;TZID=America/New_York:20260411T100000
DURATION:PT1H0M0S
SUMMARY:Coach Melton - PCY vs. U15 Coach George
DESCRIPTION:U15 (12-14 Year Olds) Middle Tyger And Polk County Ymca Teams - YMCA of Greater Spartanburg
LOCATION:Stearns Gym
CATEGORIES:QuickScores, Volleyball - Youth Game
TRANSP:OPAQUE
BEGIN:VALARM
TRIGGER:-PT2H
ACTION:DISPLAY
DESCRIPTION:Coach Melton - PCY vs. U15 Coach George
END:VALARM
END:VEVENT
BEGIN:VEVENT
UID:spartanburgymca-73714903-20260411T130000@quickscores.com
DTSTAMP:20260422T034100Z
DTSTART;TZID=America/New_York:20260411T130000
DURATION:PT1H0M0S
SUMMARY:U15 Coach Vanderford vs. MTY - Team 2
DESCRIPTION:U15 (12-14 Year Olds) Middle Tyger And Polk County Ymca Teams - YMCA of Greater Spartanburg
LOCATION:Middle Tyger YMCA Gym - Court 2
CATEGORIES:QuickScores, Volleyball - Youth Game
TRANSP:OPAQUE
BEGIN:VALARM
TRIGGER:-PT2H
ACTION:DISPLAY
DESCRIPTION:U15 Coach Vanderford vs. MTY - Team 2
END:VALARM
END:VEVENT
BEGIN:VEVENT
UID:spartanburgymca-74224388-20260414T193000@quickscores.com
DTSTAMP:20260422T034100Z
DTSTART;TZID=America/New_York:20260414T193000
DURATION:PT1H0M0S
SUMMARY:Practice: U15 Coach Vanderford
DESCRIPTION:U15 (12-14 Year Olds) Middle Tyger And Polk County Ymca Teams - YMCA of Greater Spartanburg
LOCATION:Middle Tyger YMCA Gym - Court 2
CATEGORIES:QuickScores, Volleyball - Youth Game
TRANSP:OPAQUE
BEGIN:VALARM
TRIGGER:-PT2H
ACTION:DISPLAY
DESCRIPTION:Practice: U15 Coach Vanderford
END:VALARM
END:VEVENT
BEGIN:VEVENT
UID:spartanburgymca-74224397-20260416T173000@quickscores.com
DTSTAMP:20260422T034100Z
DTSTART;TZID=America/New_York:20260416T173000
DURATION:PT1H0M0S
SUMMARY:Practice: U15 Coach George
DESCRIPTION:U15 (12-14 Year Olds) Middle Tyger And Polk County Ymca Teams - YMCA of Greater Spartanburg
LOCATION:Middle Tyger YMCA Gym - Court 2
CATEGORIES:QuickScores, Volleyball - Youth Game
TRANSP:OPAQUE
BEGIN:VALARM
TRIGGER:-PT2H
ACTION:DISPLAY
DESCRIPTION:Practice: U15 Coach George
END:VALARM
END:VEVENT
BEGIN:VEVENT
UID:spartanburgymca-74224406-20260416T193000@quickscores.com
DTSTAMP:20260422T034100Z
DTSTART;TZID=America/New_York:20260416T193000
DURATION:PT1H0M0S
SUMMARY:Practice: MTY - Team 2
DESCRIPTION:U15 (12-14 Year Olds) Middle Tyger And Polk County Ymca Teams - YMCA of Greater Spartanburg
LOCATION:Middle Tyger YMCA Gym - Court 2
CATEGORIES:QuickScores, Volleyball - Youth Game
TRANSP:OPAQUE
BEGIN:VALARM
TRIGGER:-PT2H
ACTION:DISPLAY
DESCRIPTION:Practice: MTY - Team 2
END:VALARM
END:VEVENT
BEGIN:VEVENT
UID:spartanburgymca-73714904-20260418T110000@quickscores.com
DTSTAMP:20260422T034100Z
DTSTART;TZID=America/New_York:20260418T110000
DURATION:PT1H0M0S
SUMMARY:Coach Melton - PCY vs. U15 Coach George
DESCRIPTION:U15 (12-14 Year Olds) Middle Tyger And Polk County Ymca Teams - YMCA of Greater Spartanburg
LOCATION:Middle Tyger YMCA Gym - Court 2
CATEGORIES:QuickScores, Volleyball - Youth Game
TRANSP:OPAQUE
BEGIN:VALARM
TRIGGER:-PT2H
ACTION:DISPLAY
DESCRIPTION:Coach Melton - PCY vs. U15 Coach George
END:VALARM
END:VEVENT
BEGIN:VEVENT
UID:spartanburgymca-73714902-20260418T120000@quickscores.com
DTSTAMP:20260422T034100Z
DTSTART;TZID=America/New_York:20260418T120000
DURATION:PT1H0M0S
SUMMARY:Coach Melton - PCY vs. U15 Coach Vanderford
DESCRIPTION:U15 (12-14 Year Olds) Middle Tyger And Polk County Ymca Teams - YMCA of Greater Spartanburg
LOCATION:Middle Tyger YMCA Gym - Court 2
CATEGORIES:QuickScores, Volleyball - Youth Game
TRANSP:OPAQUE
BEGIN:VALARM
TRIGGER:-PT2H
ACTION:DISPLAY
DESCRIPTION:Coach Melton - PCY vs. U15 Coach Vanderford
END:VALARM
END:VEVENT
BEGIN:VEVENT
UID:spartanburgymca-74224389-20260421T193000@quickscores.com
DTSTAMP:20260422T034100Z
DTSTART;TZID=America/New_York:20260421T193000
DURATION:PT1H0M0S
SUMMARY:Practice: U15 Coach Vanderford
DESCRIPTION:U15 (12-14 Year Olds) Middle Tyger And Polk County Ymca Teams - YMCA of Greater Spartanburg
LOCATION:Middle Tyger YMCA Gym - Court 2
CATEGORIES:QuickScores, Volleyball - Youth Game
TRANSP:OPAQUE
BEGIN:VALARM
TRIGGER:-PT2H
ACTION:DISPLAY
DESCRIPTION:Practice: U15 Coach Vanderford
END:VALARM
END:VEVENT
BEGIN:VEVENT
UID:spartanburgymca-74224398-20260423T173000@quickscores.com
DTSTAMP:20260422T034100Z
DTSTART;TZID=America/New_York:20260423T173000
DURATION:PT1H0M0S
SUMMARY:Practice: U15 Coach George
DESCRIPTION:U15 (12-14 Year Olds) Middle Tyger And Polk County Ymca Teams - YMCA of Greater Spartanburg
LOCATION:Middle Tyger YMCA Gym - Court 2
CATEGORIES:QuickScores, Volleyball - Youth Game
TRANSP:OPAQUE
BEGIN:VALARM
TRIGGER:-PT2H
ACTION:DISPLAY
DESCRIPTION:Practice: U15 Coach George
END:VALARM
END:VEVENT
BEGIN:VEVENT
UID:spartanburgymca-74224407-20260423T193000@quickscores.com
DTSTAMP:20260422T034100Z
DTSTART;TZID=America/New_York:20260423T193000
DURATION:PT1H0M0S
SUMMARY:Practice: MTY - Team 2
DESCRIPTION:U15 (12-14 Year Olds) Middle Tyger And Polk County Ymca Teams - YMCA of Greater Spartanburg
LOCATION:Middle Tyger YMCA Gym - Court 2
CATEGORIES:QuickScores, Volleyball - Youth Game
TRANSP:OPAQUE
BEGIN:VALARM
TRIGGER:-PT2H
ACTION:DISPLAY
DESCRIPTION:Practice: MTY - Team 2
END:VALARM
END:VEVENT
BEGIN:VEVENT
UID:spartanburgymca-73714906-20260425T110000@quickscores.com
DTSTAMP:20260422T034100Z
DTSTART;TZID=America/New_York:20260425T110000
DURATION:PT1H0M0S
SUMMARY:MTY - Team 2 vs. U15 Coach Vanderford
DESCRIPTION:U15 (12-14 Year Olds) Middle Tyger And Polk County Ymca Teams - YMCA of Greater Spartanburg
LOCATION:Middle Tyger YMCA Gym - Court 2
CATEGORIES:QuickScores, Volleyball - Youth Game
TRANSP:OPAQUE
BEGIN:VALARM
TRIGGER:-PT2H
ACTION:DISPLAY
DESCRIPTION:MTY - Team 2 vs. U15 Coach Vanderford
END:VALARM
END:VEVENT
BEGIN:VEVENT
UID:spartanburgymca-73714907-20260425T120000@quickscores.com
DTSTAMP:20260422T034100Z
DTSTART;TZID=America/New_York:20260425T120000
DURATION:PT1H0M0S
SUMMARY:U15 Coach George vs. Coach Melton - PCY
DESCRIPTION:U15 (12-14 Year Olds) Middle Tyger And Polk County Ymca Teams - YMCA of Greater Spartanburg
LOCATION:Stearns Gym
CATEGORIES:QuickScores, Volleyball - Youth Game
TRANSP:OPAQUE
BEGIN:VALARM
TRIGGER:-PT2H
ACTION:DISPLAY
DESCRIPTION:U15 Coach George vs. Coach Melton - PCY
END:VALARM
END:VEVENT
BEGIN:VEVENT
UID:spartanburgymca-74224390-20260428T193000@quickscores.com
DTSTAMP:20260422T034100Z
DTSTART;TZID=America/New_York:20260428T193000
DURATION:PT1H0M0S
SUMMARY:Practice: U15 Coach Vanderford
DESCRIPTION:U15 (12-14 Year Olds) Middle Tyger And Polk County Ymca Teams - YMCA of Greater Spartanburg
LOCATION:Middle Tyger YMCA Gym - Court 2
CATEGORIES:QuickScores, Volleyball - Youth Game
TRANSP:OPAQUE
BEGIN:VALARM
TRIGGER:-PT2H
ACTION:DISPLAY
DESCRIPTION:Practice: U15 Coach Vanderford
END:VALARM
END:VEVENT
BEGIN:VEVENT
UID:spartanburgymca-74224399-20260430T173000@quickscores.com
DTSTAMP:20260422T034100Z
DTSTART;TZID=America/New_York:20260430T173000
DURATION:PT1H0M0S
SUMMARY:Practice: U15 Coach George
DESCRIPTION:U15 (12-14 Year Olds) Middle Tyger And Polk County Ymca Teams - YMCA of Greater Spartanburg
LOCATION:Middle Tyger YMCA Gym - Court 2
CATEGORIES:QuickScores, Volleyball - Youth Game
TRANSP:OPAQUE
BEGIN:VALARM
TRIGGER:-PT2H
ACTION:DISPLAY
DESCRIPTION:Practice: U15 Coach George
END:VALARM
END:VEVENT
BEGIN:VEVENT
UID:spartanburgymca-74224408-20260430T193000@quickscores.com
DTSTAMP:20260422T034100Z
DTSTART;TZID=America/New_York:20260430T193000
DURATION:PT1H0M0S
SUMMARY:Practice: MTY - Team 2
DESCRIPTION:U15 (12-14 Year Olds) Middle Tyger And Polk County Ymca Teams - YMCA of Greater Spartanburg
LOCATION:Middle Tyger YMCA Gym - Court 2
CATEGORIES:QuickScores, Volleyball - Youth Game
TRANSP:OPAQUE
BEGIN:VALARM
TRIGGER:-PT2H
ACTION:DISPLAY
DESCRIPTION:Practice: MTY - Team 2
END:VALARM
END:VEVENT
BEGIN:VEVENT
UID:spartanburgymca-73715054-20260502@quickscores.com
DTSTAMP:20260422T034100Z
DTSTART;TZID=America/New_York:20260502
SUMMARY:#2 Seed vs. #3 Seed
DESCRIPTION:U15 (12-14 Year Olds) Middle Tyger And Polk County Ymca Teams - YMCA of Greater Spartanburg
CATEGORIES:QuickScores, Volleyball - Youth Game
TRANSP:OPAQUE
BEGIN:VALARM
TRIGGER:-PT2H
ACTION:DISPLAY
DESCRIPTION:#2 Seed vs. #3 Seed
END:VALARM
END:VEVENT
BEGIN:VEVENT
UID:spartanburgymca-73715053-20260502@quickscores.com
DTSTAMP:20260422T034100Z
DTSTART;TZID=America/New_York:20260502
SUMMARY:#1 Seed vs. #4 Seed
DESCRIPTION:U15 (12-14 Year Olds) Middle Tyger And Polk County Ymca Teams - YMCA of Greater Spartanburg
CATEGORIES:QuickScores, Volleyball - Youth Game
TRANSP:OPAQUE
BEGIN:VALARM
TRIGGER:-PT2H
ACTION:DISPLAY
DESCRIPTION:#1 Seed vs. #4 Seed
END:VALARM
END:VEVENT
BEGIN:VEVENT
UID:spartanburgymca-74224391-20260505T193000@quickscores.com
DTSTAMP:20260422T034100Z
DTSTART;TZID=America/New_York:20260505T193000
DURATION:PT1H0M0S
SUMMARY:Practice: U15 Coach Vanderford
DESCRIPTION:U15 (12-14 Year Olds) Middle Tyger And Polk County Ymca Teams - YMCA of Greater Spartanburg
LOCATION:Middle Tyger YMCA Gym - Court 2
CATEGORIES:QuickScores, Volleyball - Youth Game
TRANSP:OPAQUE
BEGIN:VALARM
TRIGGER:-PT2H
ACTION:DISPLAY
DESCRIPTION:Practice: U15 Coach Vanderford
END:VALARM
END:VEVENT
BEGIN:VEVENT
UID:spartanburgymca-74224400-20260507T173000@quickscores.com
DTSTAMP:20260422T034100Z
DTSTART;TZID=America/New_York:20260507T173000
DURATION:PT1H0M0S
SUMMARY:Practice: U15 Coach George
DESCRIPTION:U15 (12-14 Year Olds) Middle Tyger And Polk County Ymca Teams - YMCA of Greater Spartanburg
LOCATION:Middle Tyger YMCA Gym - Court 2
CATEGORIES:QuickScores, Volleyball - Youth Game
TRANSP:OPAQUE
BEGIN:VALARM
TRIGGER:-PT2H
ACTION:DISPLAY
DESCRIPTION:Practice: U15 Coach George
END:VALARM
END:VEVENT
BEGIN:VEVENT
UID:spartanburgymca-74224409-20260507T193000@quickscores.com
DTSTAMP:20260422T034100Z
DTSTART;TZID=America/New_York:20260507T193000
DURATION:PT1H0M0S
SUMMARY:Practice: MTY - Team 2
DESCRIPTION:U15 (12-14 Year Olds) Middle Tyger And Polk County Ymca Teams - YMCA of Greater Spartanburg
LOCATION:Middle Tyger YMCA Gym - Court 2
CATEGORIES:QuickScores, Volleyball - Youth Game
TRANSP:OPAQUE
BEGIN:VALARM
TRIGGER:-PT2H
ACTION:DISPLAY
DESCRIPTION:Practice: MTY - Team 2
END:VALARM
END:VEVENT
BEGIN:VEVENT
UID:spartanburgymca-73715057-20260509@quickscores.com
DTSTAMP:20260422T034100Z
DTSTART;TZID=America/New_York:20260509
SUMMARY:Winner of Game 1 vs. Winner of Game 2
DESCRIPTION:U15 (12-14 Year Olds) Middle Tyger And Polk County Ymca Teams - YMCA of Greater Spartanburg
CATEGORIES:QuickScores, Volleyball - Youth Game
TRANSP:OPAQUE
BEGIN:VALARM
TRIGGER:-PT2H
ACTION:DISPLAY
DESCRIPTION:Winner of Game 1 vs. Winner of Game 2
END:VALARM
END:VEVENT
BEGIN:VEVENT
UID:spartanburgymca-73715055-20260509@quickscores.com
DTSTAMP:20260422T034100Z
DTSTART;TZID=America/New_York:20260509
SUMMARY:Loser of Game 1 vs. Loser of Game 2
DESCRIPTION:U15 (12-14 Year Olds) Middle Tyger And Polk County Ymca Teams - YMCA of Greater Spartanburg
CATEGORIES:QuickScores, Volleyball - Youth Game
TRANSP:OPAQUE
BEGIN:VALARM
TRIGGER:-PT2H
ACTION:DISPLAY
DESCRIPTION:Loser of Game 1 vs. Loser of Game 2
END:VALARM
END:VEVENT
END:VCALENDAR
