BEGIN:VCALENDAR
VERSION:2.0
PRODID:-//QuickScores.com//BQ Dynamic iCal Creator//EN
METHOD:PUBLISH
X-WR-CALNAME:U9 (6-8 Year Olds) Combined Schedule - All Teams - Spring 2026
X-WR-CALDESC:QuickScores game calendar
X-PUBLISHED-TTL:PT24H
REFRESH-INTERVAL;VALUE=DURATION:PT24H
CALSCALE:GREGORIAN
BEGIN:VTIMEZONE
TZID:America/New_York
X-LIC-LOCATION:America/New_York
BEGIN:DAYLIGHT
TZNAME:EDT
TZOFFSETFROM:-0500
TZOFFSETTO:-0400
DTSTART:19700308T020000
RRULE:FREQ=YEARLY;BYMONTH=3;BYDAY=2SU
END:DAYLIGHT
BEGIN:STANDARD
TZNAME:EST
TZOFFSETFROM:-0400
TZOFFSETTO:-0500
DTSTART:19701101T020000
RRULE:FREQ=YEARLY;BYMONTH=11;BYDAY=1SU
END:STANDARD
END:VTIMEZONE
BEGIN:VEVENT
UID:spartanburgymca-73320668-20260310T183000@quickscores.com
DTSTAMP:20260424T131300Z
DTSTART;TZID=America/New_York:20260310T183000
DURATION:PT1H0M0S
SUMMARY:Practice: Spartan Spikers - THY
DESCRIPTION:U9 (6-8 Year Olds) Combined Schedule - All Teams - YMCA of Greater Spartanburg
LOCATION:Thomas E. Hannah YMCA - Court 1
CATEGORIES:QuickScores, Volleyball - Youth Game
TRANSP:OPAQUE
BEGIN:VALARM
TRIGGER:-PT2H
ACTION:DISPLAY
DESCRIPTION:Practice: Spartan Spikers - THY
END:VALARM
END:VEVENT
BEGIN:VEVENT
UID:spartanburgymca-73918597-20260312T181500@quickscores.com
DTSTAMP:20260424T131300Z
DTSTART;TZID=America/New_York:20260312T181500
DURATION:PT1H0M0S
SUMMARY:Practice: Coach Meissner - PCY
DESCRIPTION:U9 (6-8 Year Olds) Combined Schedule - All Teams - YMCA of Greater Spartanburg
LOCATION:Stearns Gym
CATEGORIES:QuickScores, Volleyball - Youth Game
TRANSP:OPAQUE
BEGIN:VALARM
TRIGGER:-PT2H
ACTION:DISPLAY
DESCRIPTION:Practice: Coach Meissner - PCY
END:VALARM
END:VEVENT
BEGIN:VEVENT
UID:spartanburgymca-74218956-20260313T173000@quickscores.com
DTSTAMP:20260424T131300Z
DTSTART;TZID=America/New_York:20260313T173000
DURATION:PT1H0M0S
SUMMARY:Practice: U9 Womack - MTY
DESCRIPTION:U9 (6-8 Year Olds) Combined Schedule - All Teams - YMCA of Greater Spartanburg
LOCATION:Middle Tyger YMCA Gym - Court 2
CATEGORIES:QuickScores, Volleyball - Youth Game
TRANSP:OPAQUE
BEGIN:VALARM
TRIGGER:-PT2H
ACTION:DISPLAY
DESCRIPTION:Practice: U9 Womack - MTY
END:VALARM
END:VEVENT
BEGIN:VEVENT
UID:spartanburgymca-73320669-20260317T183000@quickscores.com
DTSTAMP:20260424T131300Z
DTSTART;TZID=America/New_York:20260317T183000
DURATION:PT1H0M0S
SUMMARY:Practice: Spartan Spikers - THY
DESCRIPTION:U9 (6-8 Year Olds) Combined Schedule - All Teams - YMCA of Greater Spartanburg
LOCATION:Thomas E. Hannah YMCA - Court 1
CATEGORIES:QuickScores, Volleyball - Youth Game
TRANSP:OPAQUE
BEGIN:VALARM
TRIGGER:-PT2H
ACTION:DISPLAY
DESCRIPTION:Practice: Spartan Spikers - THY
END:VALARM
END:VEVENT
BEGIN:VEVENT
UID:spartanburgymca-73918598-20260319T181500@quickscores.com
DTSTAMP:20260424T131300Z
DTSTART;TZID=America/New_York:20260319T181500
DURATION:PT1H0M0S
SUMMARY:Practice: Coach Meissner - PCY
DESCRIPTION:U9 (6-8 Year Olds) Combined Schedule - All Teams - YMCA of Greater Spartanburg
LOCATION:Stearns Gym
CATEGORIES:QuickScores, Volleyball - Youth Game
TRANSP:OPAQUE
BEGIN:VALARM
TRIGGER:-PT2H
ACTION:DISPLAY
DESCRIPTION:Practice: Coach Meissner - PCY
END:VALARM
END:VEVENT
BEGIN:VEVENT
UID:spartanburgymca-74218957-20260320T173000@quickscores.com
DTSTAMP:20260424T131300Z
DTSTART;TZID=America/New_York:20260320T173000
DURATION:PT1H0M0S
SUMMARY:Practice: U9 Womack - MTY
DESCRIPTION:U9 (6-8 Year Olds) Combined Schedule - All Teams - YMCA of Greater Spartanburg
LOCATION:Middle Tyger YMCA Gym - Court 2
CATEGORIES:QuickScores, Volleyball - Youth Game
TRANSP:OPAQUE
BEGIN:VALARM
TRIGGER:-PT2H
ACTION:DISPLAY
DESCRIPTION:Practice: U9 Womack - MTY
END:VALARM
END:VEVENT
BEGIN:VEVENT
UID:spartanburgymca-73732487-20260321T090000@quickscores.com
DTSTAMP:20260424T131300Z
DTSTART;TZID=America/New_York:20260321T090000
DURATION:PT1H0M0S
SUMMARY:Spartan Spikers - THY vs. U9 Womack - MTY
DESCRIPTION:U9 (6-8 Year Olds) Combined Schedule - All Teams - YMCA of Greater Spartanburg
LOCATION:Thomas E. Hannah YMCA - Court 1
CATEGORIES:QuickScores, Volleyball - Youth Game
TRANSP:OPAQUE
BEGIN:VALARM
TRIGGER:-PT2H
ACTION:DISPLAY
DESCRIPTION:Spartan Spikers - THY vs. U9 Womack - MTY
END:VALARM
END:VEVENT
BEGIN:VEVENT
UID:spartanburgymca-73320670-20260324T183000@quickscores.com
DTSTAMP:20260424T131300Z
DTSTART;TZID=America/New_York:20260324T183000
DURATION:PT1H0M0S
SUMMARY:Practice: Spartan Spikers - THY
DESCRIPTION:U9 (6-8 Year Olds) Combined Schedule - All Teams - YMCA of Greater Spartanburg
LOCATION:Thomas E. Hannah YMCA - Court 1
CATEGORIES:QuickScores, Volleyball - Youth Game
TRANSP:OPAQUE
BEGIN:VALARM
TRIGGER:-PT2H
ACTION:DISPLAY
DESCRIPTION:Practice: Spartan Spikers - THY
END:VALARM
END:VEVENT
BEGIN:VEVENT
UID:spartanburgymca-73918599-20260326T181500@quickscores.com
DTSTAMP:20260424T131300Z
DTSTART;TZID=America/New_York:20260326T181500
DURATION:PT1H0M0S
SUMMARY:Practice: Coach Meissner - PCY
DESCRIPTION:U9 (6-8 Year Olds) Combined Schedule - All Teams - YMCA of Greater Spartanburg
LOCATION:Stearns Gym
CATEGORIES:QuickScores, Volleyball - Youth Game
TRANSP:OPAQUE
BEGIN:VALARM
TRIGGER:-PT2H
ACTION:DISPLAY
DESCRIPTION:Practice: Coach Meissner - PCY
END:VALARM
END:VEVENT
BEGIN:VEVENT
UID:spartanburgymca-74218958-20260327T173000@quickscores.com
DTSTAMP:20260424T131300Z
DTSTART;TZID=America/New_York:20260327T173000
DURATION:PT1H0M0S
SUMMARY:Practice: U9 Womack - MTY
DESCRIPTION:U9 (6-8 Year Olds) Combined Schedule - All Teams - YMCA of Greater Spartanburg
LOCATION:Middle Tyger YMCA Gym - Court 2
CATEGORIES:QuickScores, Volleyball - Youth Game
TRANSP:OPAQUE
BEGIN:VALARM
TRIGGER:-PT2H
ACTION:DISPLAY
DESCRIPTION:Practice: U9 Womack - MTY
END:VALARM
END:VEVENT
BEGIN:VEVENT
UID:spartanburgymca-73732489-20260328T090000@quickscores.com
DTSTAMP:20260424T131300Z
DTSTART;TZID=America/New_York:20260328T090000
DURATION:PT1H0M0S
SUMMARY:U9 Womack - MTY vs. Coach Meissner - PCY
DESCRIPTION:U9 (6-8 Year Olds) Combined Schedule - All Teams - YMCA of Greater Spartanburg
LOCATION:Stearns Gym
CATEGORIES:QuickScores, Volleyball - Youth Game
TRANSP:OPAQUE
BEGIN:VALARM
TRIGGER:-PT2H
ACTION:DISPLAY
DESCRIPTION:U9 Womack - MTY vs. Coach Meissner - PCY
END:VALARM
END:VEVENT
BEGIN:VEVENT
UID:spartanburgymca-73732490-20260328T100000@quickscores.com
DTSTAMP:20260424T131300Z
DTSTART;TZID=America/New_York:20260328T100000
DURATION:PT1H0M0S
SUMMARY:Coach Meissner - PCY vs. Spartan Spikers - THY
DESCRIPTION:U9 (6-8 Year Olds) Combined Schedule - All Teams - YMCA of Greater Spartanburg
LOCATION:Stearns Gym
CATEGORIES:QuickScores, Volleyball - Youth Game
TRANSP:OPAQUE
BEGIN:VALARM
TRIGGER:-PT2H
ACTION:DISPLAY
DESCRIPTION:Coach Meissner - PCY vs. Spartan Spikers - THY
END:VALARM
END:VEVENT
BEGIN:VEVENT
UID:spartanburgymca-73320671-20260331T183000@quickscores.com
DTSTAMP:20260424T131300Z
DTSTART;TZID=America/New_York:20260331T183000
DURATION:PT1H0M0S
SUMMARY:Practice: Spartan Spikers - THY
DESCRIPTION:U9 (6-8 Year Olds) Combined Schedule - All Teams - YMCA of Greater Spartanburg
LOCATION:Thomas E. Hannah YMCA - Court 1
CATEGORIES:QuickScores, Volleyball - Youth Game
TRANSP:OPAQUE
BEGIN:VALARM
TRIGGER:-PT2H
ACTION:DISPLAY
DESCRIPTION:Practice: Spartan Spikers - THY
END:VALARM
END:VEVENT
BEGIN:VEVENT
UID:spartanburgymca-73918600-20260402T181500@quickscores.com
DTSTAMP:20260424T131300Z
DTSTART;TZID=America/New_York:20260402T181500
DURATION:PT1H0M0S
SUMMARY:Practice: Coach Meissner - PCY
DESCRIPTION:U9 (6-8 Year Olds) Combined Schedule - All Teams - YMCA of Greater Spartanburg
LOCATION:Stearns Gym
CATEGORIES:QuickScores, Volleyball - Youth Game
TRANSP:OPAQUE
BEGIN:VALARM
TRIGGER:-PT2H
ACTION:DISPLAY
DESCRIPTION:Practice: Coach Meissner - PCY
END:VALARM
END:VEVENT
BEGIN:VEVENT
UID:spartanburgymca-74218959-20260403T173000@quickscores.com
DTSTAMP:20260424T131300Z
DTSTART;TZID=America/New_York:20260403T173000
DURATION:PT1H0M0S
SUMMARY:Practice: U9 Womack - MTY
DESCRIPTION:U9 (6-8 Year Olds) Combined Schedule - All Teams - YMCA of Greater Spartanburg
LOCATION:Middle Tyger YMCA Gym - Court 2
CATEGORIES:QuickScores, Volleyball - Youth Game
TRANSP:OPAQUE
BEGIN:VALARM
TRIGGER:-PT2H
ACTION:DISPLAY
DESCRIPTION:Practice: U9 Womack - MTY
END:VALARM
END:VEVENT
BEGIN:VEVENT
UID:spartanburgymca-74218456-20260407T183000@quickscores.com
DTSTAMP:20260424T131300Z
DTSTART;TZID=America/New_York:20260407T183000
DURATION:PT1H0M0S
SUMMARY:Practice: Spartan Spikers - THY
DESCRIPTION:U9 (6-8 Year Olds) Combined Schedule - All Teams - YMCA of Greater Spartanburg
LOCATION:Thomas E. Hannah YMCA - Court 1
CATEGORIES:QuickScores, Volleyball - Youth Game
TRANSP:OPAQUE
BEGIN:VALARM
TRIGGER:-PT2H
ACTION:DISPLAY
DESCRIPTION:Practice: Spartan Spikers - THY
END:VALARM
END:VEVENT
BEGIN:VEVENT
UID:spartanburgymca-74218457-20260409T181500@quickscores.com
DTSTAMP:20260424T131300Z
DTSTART;TZID=America/New_York:20260409T181500
DURATION:PT1H0M0S
SUMMARY:Practice: Coach Meissner - PCY
DESCRIPTION:U9 (6-8 Year Olds) Combined Schedule - All Teams - YMCA of Greater Spartanburg
LOCATION:Stearns Gym
CATEGORIES:QuickScores, Volleyball - Youth Game
TRANSP:OPAQUE
BEGIN:VALARM
TRIGGER:-PT2H
ACTION:DISPLAY
DESCRIPTION:Practice: Coach Meissner - PCY
END:VALARM
END:VEVENT
BEGIN:VEVENT
UID:spartanburgymca-73732491-20260411T090000@quickscores.com
DTSTAMP:20260424T131300Z
DTSTART;TZID=America/New_York:20260411T090000
DURATION:PT1H0M0S
SUMMARY:U9 Womack - MTY vs. Spartan Spikers - THY
DESCRIPTION:U9 (6-8 Year Olds) Combined Schedule - All Teams - YMCA of Greater Spartanburg
LOCATION:Middle Tyger YMCA Gym - Court 2
CATEGORIES:QuickScores, Volleyball - Youth Game
TRANSP:OPAQUE
BEGIN:VALARM
TRIGGER:-PT2H
ACTION:DISPLAY
DESCRIPTION:U9 Womack - MTY vs. Spartan Spikers - THY
END:VALARM
END:VEVENT
BEGIN:VEVENT
UID:spartanburgymca-73732492-20260411T100000@quickscores.com
DTSTAMP:20260424T131300Z
DTSTART;TZID=America/New_York:20260411T100000
DURATION:PT1H0M0S
SUMMARY:Coach Meissner - PCY vs. U9 Womack - MTY
DESCRIPTION:U9 (6-8 Year Olds) Combined Schedule - All Teams - YMCA of Greater Spartanburg
LOCATION:Middle Tyger YMCA Gym - Court 2
CATEGORIES:QuickScores, Volleyball - Youth Game
TRANSP:OPAQUE
BEGIN:VALARM
TRIGGER:-PT2H
ACTION:DISPLAY
DESCRIPTION:Coach Meissner - PCY vs. U9 Womack - MTY
END:VALARM
END:VEVENT
BEGIN:VEVENT
UID:spartanburgymca-73320673-20260414T183000@quickscores.com
DTSTAMP:20260424T131300Z
DTSTART;TZID=America/New_York:20260414T183000
DURATION:PT1H0M0S
SUMMARY:Practice: Spartan Spikers - THY
DESCRIPTION:U9 (6-8 Year Olds) Combined Schedule - All Teams - YMCA of Greater Spartanburg
LOCATION:Thomas E. Hannah YMCA - Court 1
CATEGORIES:QuickScores, Volleyball - Youth Game
TRANSP:OPAQUE
BEGIN:VALARM
TRIGGER:-PT2H
ACTION:DISPLAY
DESCRIPTION:Practice: Spartan Spikers - THY
END:VALARM
END:VEVENT
BEGIN:VEVENT
UID:spartanburgymca-73918602-20260416T181500@quickscores.com
DTSTAMP:20260424T131300Z
DTSTART;TZID=America/New_York:20260416T181500
DURATION:PT1H0M0S
SUMMARY:Practice: Coach Meissner - PCY
DESCRIPTION:U9 (6-8 Year Olds) Combined Schedule - All Teams - YMCA of Greater Spartanburg
LOCATION:Stearns Gym
CATEGORIES:QuickScores, Volleyball - Youth Game
TRANSP:OPAQUE
BEGIN:VALARM
TRIGGER:-PT2H
ACTION:DISPLAY
DESCRIPTION:Practice: Coach Meissner - PCY
END:VALARM
END:VEVENT
BEGIN:VEVENT
UID:spartanburgymca-74218961-20260417T173000@quickscores.com
DTSTAMP:20260424T131300Z
DTSTART;TZID=America/New_York:20260417T173000
DURATION:PT1H0M0S
SUMMARY:Practice: U9 Womack - MTY
DESCRIPTION:U9 (6-8 Year Olds) Combined Schedule - All Teams - YMCA of Greater Spartanburg
LOCATION:Middle Tyger YMCA Gym - Court 2
CATEGORIES:QuickScores, Volleyball - Youth Game
TRANSP:OPAQUE
BEGIN:VALARM
TRIGGER:-PT2H
ACTION:DISPLAY
DESCRIPTION:Practice: U9 Womack - MTY
END:VALARM
END:VEVENT
BEGIN:VEVENT
UID:spartanburgymca-73732493-20260418T090000@quickscores.com
DTSTAMP:20260424T131300Z
DTSTART;TZID=America/New_York:20260418T090000
DURATION:PT1H0M0S
SUMMARY:Spartan Spikers - THY vs. Coach Meissner - PCY
DESCRIPTION:U9 (6-8 Year Olds) Combined Schedule - All Teams - YMCA of Greater Spartanburg
LOCATION:Thomas E. Hannah YMCA - Court 1
CATEGORIES:QuickScores, Volleyball - Youth Game
TRANSP:OPAQUE
BEGIN:VALARM
TRIGGER:-PT2H
ACTION:DISPLAY
DESCRIPTION:Spartan Spikers - THY vs. Coach Meissner - PCY
END:VALARM
END:VEVENT
BEGIN:VEVENT
UID:spartanburgymca-73320674-20260421T183000@quickscores.com
DTSTAMP:20260424T131300Z
DTSTART;TZID=America/New_York:20260421T183000
DURATION:PT1H0M0S
SUMMARY:Practice: Spartan Spikers - THY
DESCRIPTION:U9 (6-8 Year Olds) Combined Schedule - All Teams - YMCA of Greater Spartanburg
LOCATION:Thomas E. Hannah YMCA - Court 1
CATEGORIES:QuickScores, Volleyball - Youth Game
TRANSP:OPAQUE
BEGIN:VALARM
TRIGGER:-PT2H
ACTION:DISPLAY
DESCRIPTION:Practice: Spartan Spikers - THY
END:VALARM
END:VEVENT
BEGIN:VEVENT
UID:spartanburgymca-73918603-20260423T181500@quickscores.com
DTSTAMP:20260424T131300Z
DTSTART;TZID=America/New_York:20260423T181500
DURATION:PT1H0M0S
SUMMARY:Practice: Coach Meissner - PCY
DESCRIPTION:U9 (6-8 Year Olds) Combined Schedule - All Teams - YMCA of Greater Spartanburg
LOCATION:Stearns Gym
CATEGORIES:QuickScores, Volleyball - Youth Game
TRANSP:OPAQUE
BEGIN:VALARM
TRIGGER:-PT2H
ACTION:DISPLAY
DESCRIPTION:Practice: Coach Meissner - PCY
END:VALARM
END:VEVENT
BEGIN:VEVENT
UID:spartanburgymca-74218962-20260424T173000@quickscores.com
DTSTAMP:20260424T131300Z
DTSTART;TZID=America/New_York:20260424T173000
DURATION:PT1H0M0S
SUMMARY:Practice: U9 Womack - MTY
DESCRIPTION:U9 (6-8 Year Olds) Combined Schedule - All Teams - YMCA of Greater Spartanburg
LOCATION:Middle Tyger YMCA Gym - Court 2
CATEGORIES:QuickScores, Volleyball - Youth Game
TRANSP:OPAQUE
BEGIN:VALARM
TRIGGER:-PT2H
ACTION:DISPLAY
DESCRIPTION:Practice: U9 Womack - MTY
END:VALARM
END:VEVENT
BEGIN:VEVENT
UID:spartanburgymca-73732496-20260425T120000@quickscores.com
DTSTAMP:20260424T131300Z
DTSTART;TZID=America/New_York:20260425T120000
DURATION:PT1H0M0S
SUMMARY:Coach Meissner - PCY vs. Spartan Spikers - THY
DESCRIPTION:U9 (6-8 Year Olds) Combined Schedule - All Teams - YMCA of Greater Spartanburg
LOCATION:Thomas E. Hannah YMCA - Court 1
CATEGORIES:QuickScores, Volleyball - Youth Game
TRANSP:OPAQUE
BEGIN:VALARM
TRIGGER:-PT2H
ACTION:DISPLAY
DESCRIPTION:Coach Meissner - PCY vs. Spartan Spikers - THY
END:VALARM
END:VEVENT
BEGIN:VEVENT
UID:spartanburgymca-73732495-20260425T130000@quickscores.com
DTSTAMP:20260424T131300Z
DTSTART;TZID=America/New_York:20260425T130000
DURATION:PT1H0M0S
SUMMARY:Coach Meissner - PCY vs. U9 Womack - MTY
DESCRIPTION:U9 (6-8 Year Olds) Combined Schedule - All Teams - YMCA of Greater Spartanburg
LOCATION:Thomas E. Hannah YMCA - Court 1
CATEGORIES:QuickScores, Volleyball - Youth Game
TRANSP:OPAQUE
BEGIN:VALARM
TRIGGER:-PT2H
ACTION:DISPLAY
DESCRIPTION:Coach Meissner - PCY vs. U9 Womack - MTY
END:VALARM
END:VEVENT
BEGIN:VEVENT
UID:spartanburgymca-73320675-20260428T183000@quickscores.com
DTSTAMP:20260424T131300Z
DTSTART;TZID=America/New_York:20260428T183000
DURATION:PT1H0M0S
SUMMARY:Practice: Spartan Spikers - THY
DESCRIPTION:U9 (6-8 Year Olds) Combined Schedule - All Teams - YMCA of Greater Spartanburg
LOCATION:Thomas E. Hannah YMCA - Court 1
CATEGORIES:QuickScores, Volleyball - Youth Game
TRANSP:OPAQUE
BEGIN:VALARM
TRIGGER:-PT2H
ACTION:DISPLAY
DESCRIPTION:Practice: Spartan Spikers - THY
END:VALARM
END:VEVENT
BEGIN:VEVENT
UID:spartanburgymca-73918604-20260430T181500@quickscores.com
DTSTAMP:20260424T131300Z
DTSTART;TZID=America/New_York:20260430T181500
DURATION:PT1H0M0S
SUMMARY:Practice: Coach Meissner - PCY
DESCRIPTION:U9 (6-8 Year Olds) Combined Schedule - All Teams - YMCA of Greater Spartanburg
LOCATION:Stearns Gym
CATEGORIES:QuickScores, Volleyball - Youth Game
TRANSP:OPAQUE
BEGIN:VALARM
TRIGGER:-PT2H
ACTION:DISPLAY
DESCRIPTION:Practice: Coach Meissner - PCY
END:VALARM
END:VEVENT
BEGIN:VEVENT
UID:spartanburgymca-74218963-20260501T173000@quickscores.com
DTSTAMP:20260424T131300Z
DTSTART;TZID=America/New_York:20260501T173000
DURATION:PT1H0M0S
SUMMARY:Practice: U9 Womack - MTY
DESCRIPTION:U9 (6-8 Year Olds) Combined Schedule - All Teams - YMCA of Greater Spartanburg
LOCATION:Middle Tyger YMCA Gym - Court 2
CATEGORIES:QuickScores, Volleyball - Youth Game
TRANSP:OPAQUE
BEGIN:VALARM
TRIGGER:-PT2H
ACTION:DISPLAY
DESCRIPTION:Practice: U9 Womack - MTY
END:VALARM
END:VEVENT
BEGIN:VEVENT
UID:spartanburgymca-73732498-20260502T090000@quickscores.com
DTSTAMP:20260424T131300Z
DTSTART;TZID=America/New_York:20260502T090000
DURATION:PT1H0M0S
SUMMARY:Coach Meissner - PCY vs. U9 Womack - MTY
DESCRIPTION:U9 (6-8 Year Olds) Combined Schedule - All Teams - YMCA of Greater Spartanburg
LOCATION:Middle Tyger YMCA Gym - Court 2
CATEGORIES:QuickScores, Volleyball - Youth Game
TRANSP:OPAQUE
BEGIN:VALARM
TRIGGER:-PT2H
ACTION:DISPLAY
DESCRIPTION:Coach Meissner - PCY vs. U9 Womack - MTY
END:VALARM
END:VEVENT
BEGIN:VEVENT
UID:spartanburgymca-73732497-20260502T100000@quickscores.com
DTSTAMP:20260424T131300Z
DTSTART;TZID=America/New_York:20260502T100000
DURATION:PT1H0M0S
SUMMARY:U9 Womack - MTY vs. Spartan Spikers - THY
DESCRIPTION:U9 (6-8 Year Olds) Combined Schedule - All Teams - YMCA of Greater Spartanburg
LOCATION:Middle Tyger YMCA Gym - Court 2
CATEGORIES:QuickScores, Volleyball - Youth Game
TRANSP:OPAQUE
BEGIN:VALARM
TRIGGER:-PT2H
ACTION:DISPLAY
DESCRIPTION:U9 Womack - MTY vs. Spartan Spikers - THY
END:VALARM
END:VEVENT
BEGIN:VEVENT
UID:spartanburgymca-73320676-20260505T183000@quickscores.com
DTSTAMP:20260424T131300Z
DTSTART;TZID=America/New_York:20260505T183000
DURATION:PT1H0M0S
SUMMARY:Practice: Spartan Spikers - THY
DESCRIPTION:U9 (6-8 Year Olds) Combined Schedule - All Teams - YMCA of Greater Spartanburg
LOCATION:Thomas E. Hannah YMCA - Court 1
CATEGORIES:QuickScores, Volleyball - Youth Game
TRANSP:OPAQUE
BEGIN:VALARM
TRIGGER:-PT2H
ACTION:DISPLAY
DESCRIPTION:Practice: Spartan Spikers - THY
END:VALARM
END:VEVENT
BEGIN:VEVENT
UID:spartanburgymca-73732499-20260509T090000@quickscores.com
DTSTAMP:20260424T131300Z
DTSTART;TZID=America/New_York:20260509T090000
DURATION:PT1H0M0S
SUMMARY:Spartan Spikers - THY vs. Coach Meissner - PCY
DESCRIPTION:U9 (6-8 Year Olds) Combined Schedule - All Teams - YMCA of Greater Spartanburg
LOCATION:Thomas E. Hannah YMCA - Court 1
CATEGORIES:QuickScores, Volleyball - Youth Game
TRANSP:OPAQUE
BEGIN:VALARM
TRIGGER:-PT2H
ACTION:DISPLAY
DESCRIPTION:Spartan Spikers - THY vs. Coach Meissner - PCY
END:VALARM
END:VEVENT
END:VCALENDAR
