BEGIN:VCALENDAR
VERSION:2.0
PRODID:-//QuickScores.com//BQ Dynamic iCal Creator//EN
METHOD:PUBLISH
X-WR-CALNAME:Wed 8:30 Am Sp26 - Spring 2026
X-WR-CALDESC:QuickScores game calendar
X-PUBLISHED-TTL:PT24H
REFRESH-INTERVAL;VALUE=DURATION:PT24H
CALSCALE:GREGORIAN
BEGIN:VTIMEZONE
TZID:America/Phoenix
X-LIC-LOCATION:America/Phoenix
BEGIN:STANDARD
TZNAME:MST
TZOFFSETFROM:-0700
TZOFFSETTO:-0700
DTSTART:19700101T000000
END:STANDARD
END:VTIMEZONE
BEGIN:VEVENT
UID:pebblecreekbocce-73704336-20260325T083000@quickscores.com
DTSTAMP:20260424T144600Z
DTSTART;TZID=America/Phoenix:20260325T083000
DURATION:PT3H0M0S
SUMMARY:Great Expectations vs. Heaven'z 11
DESCRIPTION:Wed 8:30 Am Sp26 - PebbleCreek Bocce
LOCATION:Court 7
CATEGORIES:QuickScores, Bocce Game
TRANSP:OPAQUE
BEGIN:VALARM
TRIGGER:-PT2H
ACTION:DISPLAY
DESCRIPTION:Great Expectations vs. Heaven'z 11
END:VALARM
END:VEVENT
BEGIN:VEVENT
UID:pebblecreekbocce-73704342-20260325T083000@quickscores.com
DTSTAMP:20260424T144600Z
DTSTART;TZID=America/Phoenix:20260325T083000
DURATION:PT3H0M0S
SUMMARY:I Have No Idea vs. M-T Nesters
DESCRIPTION:Wed 8:30 Am Sp26 - PebbleCreek Bocce
LOCATION:Court 3
CATEGORIES:QuickScores, Bocce Game
TRANSP:OPAQUE
BEGIN:VALARM
TRIGGER:-PT2H
ACTION:DISPLAY
DESCRIPTION:I Have No Idea vs. M-T Nesters
END:VALARM
END:VEVENT
BEGIN:VEVENT
UID:pebblecreekbocce-73704341-20260325T083000@quickscores.com
DTSTAMP:20260424T144600Z
DTSTART;TZID=America/Phoenix:20260325T083000
DURATION:PT3H0M0S
SUMMARY:Ladies on the Loose + 3 strays vs. USA Bocce
DESCRIPTION:Wed 8:30 Am Sp26 - PebbleCreek Bocce
LOCATION:Court 2
CATEGORIES:QuickScores, Bocce Game
TRANSP:OPAQUE
BEGIN:VALARM
TRIGGER:-PT2H
ACTION:DISPLAY
DESCRIPTION:Ladies on the Loose + 3 strays vs. USA Bocce
END:VALARM
END:VEVENT
BEGIN:VEVENT
UID:pebblecreekbocce-73704340-20260325T083000@quickscores.com
DTSTAMP:20260424T144600Z
DTSTART;TZID=America/Phoenix:20260325T083000
DURATION:PT3H0M0S
SUMMARY:Bocce Brigade vs. Bocce blasters
DESCRIPTION:Wed 8:30 Am Sp26 - PebbleCreek Bocce
LOCATION:Court 4
CATEGORIES:QuickScores, Bocce Game
TRANSP:OPAQUE
BEGIN:VALARM
TRIGGER:-PT2H
ACTION:DISPLAY
DESCRIPTION:Bocce Brigade vs. Bocce blasters
END:VALARM
END:VEVENT
BEGIN:VEVENT
UID:pebblecreekbocce-73704339-20260325T083000@quickscores.com
DTSTAMP:20260424T144600Z
DTSTART;TZID=America/Phoenix:20260325T083000
DURATION:PT3H0M0S
SUMMARY:Smoothies vs. Court Jesters
DESCRIPTION:Wed 8:30 Am Sp26 - PebbleCreek Bocce
LOCATION:Court 5
CATEGORIES:QuickScores, Bocce Game
TRANSP:OPAQUE
BEGIN:VALARM
TRIGGER:-PT2H
ACTION:DISPLAY
DESCRIPTION:Smoothies vs. Court Jesters
END:VALARM
END:VEVENT
BEGIN:VEVENT
UID:pebblecreekbocce-73704338-20260325T083000@quickscores.com
DTSTAMP:20260424T144600Z
DTSTART;TZID=America/Phoenix:20260325T083000
DURATION:PT3H0M0S
SUMMARY:Misfits vs. Perils of Palino
DESCRIPTION:Wed 8:30 Am Sp26 - PebbleCreek Bocce
LOCATION:Court 6
CATEGORIES:QuickScores, Bocce Game
TRANSP:OPAQUE
BEGIN:VALARM
TRIGGER:-PT2H
ACTION:DISPLAY
DESCRIPTION:Misfits vs. Perils of Palino
END:VALARM
END:VEVENT
BEGIN:VEVENT
UID:pebblecreekbocce-73704337-20260325T083000@quickscores.com
DTSTAMP:20260424T144600Z
DTSTART;TZID=America/Phoenix:20260325T083000
DURATION:PT3H0M0S
SUMMARY:Bocce Balboa vs. The Lawn Rangers
DESCRIPTION:Wed 8:30 Am Sp26 - PebbleCreek Bocce
LOCATION:Court 8
CATEGORIES:QuickScores, Bocce Game
TRANSP:OPAQUE
BEGIN:VALARM
TRIGGER:-PT2H
ACTION:DISPLAY
DESCRIPTION:Bocce Balboa vs. The Lawn Rangers
END:VALARM
END:VEVENT
BEGIN:VEVENT
UID:pebblecreekbocce-73704350-20260401T083000@quickscores.com
DTSTAMP:20260424T144600Z
DTSTART;TZID=America/Phoenix:20260401T083000
DURATION:PT3H0M0S
SUMMARY:M-T Nesters vs. Ladies on the Loose + 3 strays
DESCRIPTION:Wed 8:30 Am Sp26 - PebbleCreek Bocce
LOCATION:Court 3
CATEGORIES:QuickScores, Bocce Game
TRANSP:OPAQUE
BEGIN:VALARM
TRIGGER:-PT2H
ACTION:DISPLAY
DESCRIPTION:M-T Nesters vs. Ladies on the Loose + 3 strays
END:VALARM
END:VEVENT
BEGIN:VEVENT
UID:pebblecreekbocce-73704349-20260401T083000@quickscores.com
DTSTAMP:20260424T144600Z
DTSTART;TZID=America/Phoenix:20260401T083000
DURATION:PT3H0M0S
SUMMARY:Bocce Brigade vs. I Have No Idea
DESCRIPTION:Wed 8:30 Am Sp26 - PebbleCreek Bocce
LOCATION:Court 2
CATEGORIES:QuickScores, Bocce Game
TRANSP:OPAQUE
BEGIN:VALARM
TRIGGER:-PT2H
ACTION:DISPLAY
DESCRIPTION:Bocce Brigade vs. I Have No Idea
END:VALARM
END:VEVENT
BEGIN:VEVENT
UID:pebblecreekbocce-73704348-20260401T083000@quickscores.com
DTSTAMP:20260424T144600Z
DTSTART;TZID=America/Phoenix:20260401T083000
DURATION:PT3H0M0S
SUMMARY:USA Bocce vs. Smoothies
DESCRIPTION:Wed 8:30 Am Sp26 - PebbleCreek Bocce
LOCATION:Court 6
CATEGORIES:QuickScores, Bocce Game
TRANSP:OPAQUE
BEGIN:VALARM
TRIGGER:-PT2H
ACTION:DISPLAY
DESCRIPTION:USA Bocce vs. Smoothies
END:VALARM
END:VEVENT
BEGIN:VEVENT
UID:pebblecreekbocce-73704347-20260401T083000@quickscores.com
DTSTAMP:20260424T144600Z
DTSTART;TZID=America/Phoenix:20260401T083000
DURATION:PT3H0M0S
SUMMARY:Misfits vs. Bocce blasters
DESCRIPTION:Wed 8:30 Am Sp26 - PebbleCreek Bocce
LOCATION:Court 5
CATEGORIES:QuickScores, Bocce Game
TRANSP:OPAQUE
BEGIN:VALARM
TRIGGER:-PT2H
ACTION:DISPLAY
DESCRIPTION:Misfits vs. Bocce blasters
END:VALARM
END:VEVENT
BEGIN:VEVENT
UID:pebblecreekbocce-73704346-20260401T083000@quickscores.com
DTSTAMP:20260424T144600Z
DTSTART;TZID=America/Phoenix:20260401T083000
DURATION:PT3H0M0S
SUMMARY:Bocce Balboa vs. Court Jesters
DESCRIPTION:Wed 8:30 Am Sp26 - PebbleCreek Bocce
LOCATION:Court 4
CATEGORIES:QuickScores, Bocce Game
TRANSP:OPAQUE
BEGIN:VALARM
TRIGGER:-PT2H
ACTION:DISPLAY
DESCRIPTION:Bocce Balboa vs. Court Jesters
END:VALARM
END:VEVENT
BEGIN:VEVENT
UID:pebblecreekbocce-73704345-20260401T083000@quickscores.com
DTSTAMP:20260424T144600Z
DTSTART;TZID=America/Phoenix:20260401T083000
DURATION:PT3H0M0S
SUMMARY:Heaven'z 11 vs. Perils of Palino
DESCRIPTION:Wed 8:30 Am Sp26 - PebbleCreek Bocce
LOCATION:Court 8
CATEGORIES:QuickScores, Bocce Game
TRANSP:OPAQUE
BEGIN:VALARM
TRIGGER:-PT2H
ACTION:DISPLAY
DESCRIPTION:Heaven'z 11 vs. Perils of Palino
END:VALARM
END:VEVENT
BEGIN:VEVENT
UID:pebblecreekbocce-73704344-20260401T083000@quickscores.com
DTSTAMP:20260424T144600Z
DTSTART;TZID=America/Phoenix:20260401T083000
DURATION:PT3H0M0S
SUMMARY:The Lawn Rangers vs. Bada Bing
DESCRIPTION:Wed 8:30 Am Sp26 - PebbleCreek Bocce
LOCATION:Court 7
CATEGORIES:QuickScores, Bocce Game
TRANSP:OPAQUE
BEGIN:VALARM
TRIGGER:-PT2H
ACTION:DISPLAY
DESCRIPTION:The Lawn Rangers vs. Bada Bing
END:VALARM
END:VEVENT
BEGIN:VEVENT
UID:pebblecreekbocce-73704358-20260408T083000@quickscores.com
DTSTAMP:20260424T144600Z
DTSTART;TZID=America/Phoenix:20260408T083000
DURATION:PT3H0M0S
SUMMARY:USA Bocce vs. I Have No Idea
DESCRIPTION:Wed 8:30 Am Sp26 - PebbleCreek Bocce
LOCATION:Court 2
CATEGORIES:QuickScores, Bocce Game
TRANSP:OPAQUE
BEGIN:VALARM
TRIGGER:-PT2H
ACTION:DISPLAY
DESCRIPTION:USA Bocce vs. I Have No Idea
END:VALARM
END:VEVENT
BEGIN:VEVENT
UID:pebblecreekbocce-73704357-20260408T083000@quickscores.com
DTSTAMP:20260424T144600Z
DTSTART;TZID=America/Phoenix:20260408T083000
DURATION:PT3H0M0S
SUMMARY:M-T Nesters vs. Bocce blasters
DESCRIPTION:Wed 8:30 Am Sp26 - PebbleCreek Bocce
LOCATION:Court 7
CATEGORIES:QuickScores, Bocce Game
TRANSP:OPAQUE
BEGIN:VALARM
TRIGGER:-PT2H
ACTION:DISPLAY
DESCRIPTION:M-T Nesters vs. Bocce blasters
END:VALARM
END:VEVENT
BEGIN:VEVENT
UID:pebblecreekbocce-73704356-20260408T083000@quickscores.com
DTSTAMP:20260424T144600Z
DTSTART;TZID=America/Phoenix:20260408T083000
DURATION:PT3H0M0S
SUMMARY:Court Jesters vs. Ladies on the Loose + 3 strays
DESCRIPTION:Wed 8:30 Am Sp26 - PebbleCreek Bocce
LOCATION:Court 8
CATEGORIES:QuickScores, Bocce Game
TRANSP:OPAQUE
BEGIN:VALARM
TRIGGER:-PT2H
ACTION:DISPLAY
DESCRIPTION:Court Jesters vs. Ladies on the Loose + 3 strays
END:VALARM
END:VEVENT
BEGIN:VEVENT
UID:pebblecreekbocce-73704355-20260408T083000@quickscores.com
DTSTAMP:20260424T144600Z
DTSTART;TZID=America/Phoenix:20260408T083000
DURATION:PT3H0M0S
SUMMARY:Perils of Palino vs. Bocce Brigade
DESCRIPTION:Wed 8:30 Am Sp26 - PebbleCreek Bocce
LOCATION:Court 5
CATEGORIES:QuickScores, Bocce Game
TRANSP:OPAQUE
BEGIN:VALARM
TRIGGER:-PT2H
ACTION:DISPLAY
DESCRIPTION:Perils of Palino vs. Bocce Brigade
END:VALARM
END:VEVENT
BEGIN:VEVENT
UID:pebblecreekbocce-73704354-20260408T083000@quickscores.com
DTSTAMP:20260424T144600Z
DTSTART;TZID=America/Phoenix:20260408T083000
DURATION:PT3H0M0S
SUMMARY:The Lawn Rangers vs. Smoothies
DESCRIPTION:Wed 8:30 Am Sp26 - PebbleCreek Bocce
LOCATION:Court 4
CATEGORIES:QuickScores, Bocce Game
TRANSP:OPAQUE
BEGIN:VALARM
TRIGGER:-PT2H
ACTION:DISPLAY
DESCRIPTION:The Lawn Rangers vs. Smoothies
END:VALARM
END:VEVENT
BEGIN:VEVENT
UID:pebblecreekbocce-73704353-20260408T083000@quickscores.com
DTSTAMP:20260424T144600Z
DTSTART;TZID=America/Phoenix:20260408T083000
DURATION:PT3H0M0S
SUMMARY:Misfits vs. Great Expectations
DESCRIPTION:Wed 8:30 Am Sp26 - PebbleCreek Bocce
LOCATION:Court 3
CATEGORIES:QuickScores, Bocce Game
TRANSP:OPAQUE
BEGIN:VALARM
TRIGGER:-PT2H
ACTION:DISPLAY
DESCRIPTION:Misfits vs. Great Expectations
END:VALARM
END:VEVENT
BEGIN:VEVENT
UID:pebblecreekbocce-73704352-20260408T083000@quickscores.com
DTSTAMP:20260424T144600Z
DTSTART;TZID=America/Phoenix:20260408T083000
DURATION:PT3H0M0S
SUMMARY:Bada Bing vs. Bocce Balboa
DESCRIPTION:Wed 8:30 Am Sp26 - PebbleCreek Bocce
LOCATION:Court 6
CATEGORIES:QuickScores, Bocce Game
TRANSP:OPAQUE
BEGIN:VALARM
TRIGGER:-PT2H
ACTION:DISPLAY
DESCRIPTION:Bada Bing vs. Bocce Balboa
END:VALARM
END:VEVENT
BEGIN:VEVENT
UID:pebblecreekbocce-73704366-20260415T083000@quickscores.com
DTSTAMP:20260424T144600Z
DTSTART;TZID=America/Phoenix:20260415T083000
DURATION:PT3H0M0S
SUMMARY:Ladies on the Loose + 3 strays vs. Bocce Brigade
DESCRIPTION:Wed 8:30 Am Sp26 - PebbleCreek Bocce
LOCATION:Court 7
CATEGORIES:QuickScores, Bocce Game
TRANSP:OPAQUE
BEGIN:VALARM
TRIGGER:-PT2H
ACTION:DISPLAY
DESCRIPTION:Ladies on the Loose + 3 strays vs. Bocce Brigade
END:VALARM
END:VEVENT
BEGIN:VEVENT
UID:pebblecreekbocce-73704365-20260415T083000@quickscores.com
DTSTAMP:20260424T144600Z
DTSTART;TZID=America/Phoenix:20260415T083000
DURATION:PT3H0M0S
SUMMARY:Smoothies vs. M-T Nesters
DESCRIPTION:Wed 8:30 Am Sp26 - PebbleCreek Bocce
LOCATION:Court 2
CATEGORIES:QuickScores, Bocce Game
TRANSP:OPAQUE
BEGIN:VALARM
TRIGGER:-PT2H
ACTION:DISPLAY
DESCRIPTION:Smoothies vs. M-T Nesters
END:VALARM
END:VEVENT
BEGIN:VEVENT
UID:pebblecreekbocce-73704364-20260415T083000@quickscores.com
DTSTAMP:20260424T144600Z
DTSTART;TZID=America/Phoenix:20260415T083000
DURATION:PT3H0M0S
SUMMARY:I Have No Idea vs. Misfits
DESCRIPTION:Wed 8:30 Am Sp26 - PebbleCreek Bocce
LOCATION:Court 6
CATEGORIES:QuickScores, Bocce Game
TRANSP:OPAQUE
BEGIN:VALARM
TRIGGER:-PT2H
ACTION:DISPLAY
DESCRIPTION:I Have No Idea vs. Misfits
END:VALARM
END:VEVENT
BEGIN:VEVENT
UID:pebblecreekbocce-73704363-20260415T083000@quickscores.com
DTSTAMP:20260424T144600Z
DTSTART;TZID=America/Phoenix:20260415T083000
DURATION:PT3H0M0S
SUMMARY:Bocce Balboa vs. USA Bocce
DESCRIPTION:Wed 8:30 Am Sp26 - PebbleCreek Bocce
LOCATION:Court 5
CATEGORIES:QuickScores, Bocce Game
TRANSP:OPAQUE
BEGIN:VALARM
TRIGGER:-PT2H
ACTION:DISPLAY
DESCRIPTION:Bocce Balboa vs. USA Bocce
END:VALARM
END:VEVENT
BEGIN:VEVENT
UID:pebblecreekbocce-73704362-20260415T083000@quickscores.com
DTSTAMP:20260424T144600Z
DTSTART;TZID=America/Phoenix:20260415T083000
DURATION:PT3H0M0S
SUMMARY:Bocce blasters vs. Heaven'z 11
DESCRIPTION:Wed 8:30 Am Sp26 - PebbleCreek Bocce
LOCATION:Court 4
CATEGORIES:QuickScores, Bocce Game
TRANSP:OPAQUE
BEGIN:VALARM
TRIGGER:-PT2H
ACTION:DISPLAY
DESCRIPTION:Bocce blasters vs. Heaven'z 11
END:VALARM
END:VEVENT
BEGIN:VEVENT
UID:pebblecreekbocce-73704361-20260415T083000@quickscores.com
DTSTAMP:20260424T144600Z
DTSTART;TZID=America/Phoenix:20260415T083000
DURATION:PT3H0M0S
SUMMARY:Bada Bing vs. Court Jesters
DESCRIPTION:Wed 8:30 Am Sp26 - PebbleCreek Bocce
LOCATION:Court 3
CATEGORIES:QuickScores, Bocce Game
TRANSP:OPAQUE
BEGIN:VALARM
TRIGGER:-PT2H
ACTION:DISPLAY
DESCRIPTION:Bada Bing vs. Court Jesters
END:VALARM
END:VEVENT
BEGIN:VEVENT
UID:pebblecreekbocce-73704360-20260415T083000@quickscores.com
DTSTAMP:20260424T144600Z
DTSTART;TZID=America/Phoenix:20260415T083000
DURATION:PT3H0M0S
SUMMARY:Perils of Palino vs. Great Expectations
DESCRIPTION:Wed 8:30 Am Sp26 - PebbleCreek Bocce
LOCATION:Court 8
CATEGORIES:QuickScores, Bocce Game
TRANSP:OPAQUE
BEGIN:VALARM
TRIGGER:-PT2H
ACTION:DISPLAY
DESCRIPTION:Perils of Palino vs. Great Expectations
END:VALARM
END:VEVENT
BEGIN:VEVENT
UID:pebblecreekbocce-73704374-20260422T083000@quickscores.com
DTSTAMP:20260424T144600Z
DTSTART;TZID=America/Phoenix:20260422T083000
DURATION:PT3H0M0S
SUMMARY:Bocce blasters vs. USA Bocce
DESCRIPTION:Wed 8:30 Am Sp26 - PebbleCreek Bocce
LOCATION:Court 8
CATEGORIES:QuickScores, Bocce Game
TRANSP:OPAQUE
BEGIN:VALARM
TRIGGER:-PT2H
ACTION:DISPLAY
DESCRIPTION:Bocce blasters vs. USA Bocce
END:VALARM
END:VEVENT
BEGIN:VEVENT
UID:pebblecreekbocce-73704373-20260422T083000@quickscores.com
DTSTAMP:20260424T144600Z
DTSTART;TZID=America/Phoenix:20260422T083000
DURATION:PT3H0M0S
SUMMARY:Court Jesters vs. I Have No Idea
DESCRIPTION:Wed 8:30 Am Sp26 - PebbleCreek Bocce
LOCATION:Court 7
CATEGORIES:QuickScores, Bocce Game
TRANSP:OPAQUE
BEGIN:VALARM
TRIGGER:-PT2H
ACTION:DISPLAY
DESCRIPTION:Court Jesters vs. I Have No Idea
END:VALARM
END:VEVENT
BEGIN:VEVENT
UID:pebblecreekbocce-73704372-20260422T083000@quickscores.com
DTSTAMP:20260424T144600Z
DTSTART;TZID=America/Phoenix:20260422T083000
DURATION:PT3H0M0S
SUMMARY:Perils of Palino vs. M-T Nesters
DESCRIPTION:Wed 8:30 Am Sp26 - PebbleCreek Bocce
LOCATION:Court 4
CATEGORIES:QuickScores, Bocce Game
TRANSP:OPAQUE
BEGIN:VALARM
TRIGGER:-PT2H
ACTION:DISPLAY
DESCRIPTION:Perils of Palino vs. M-T Nesters
END:VALARM
END:VEVENT
BEGIN:VEVENT
UID:pebblecreekbocce-73704371-20260422T083000@quickscores.com
DTSTAMP:20260424T144600Z
DTSTART;TZID=America/Phoenix:20260422T083000
DURATION:PT3H0M0S
SUMMARY:The Lawn Rangers vs. Ladies on the Loose + 3 strays
DESCRIPTION:Wed 8:30 Am Sp26 - PebbleCreek Bocce
LOCATION:Court 5
CATEGORIES:QuickScores, Bocce Game
TRANSP:OPAQUE
BEGIN:VALARM
TRIGGER:-PT2H
ACTION:DISPLAY
DESCRIPTION:The Lawn Rangers vs. Ladies on the Loose + 3 strays
END:VALARM
END:VEVENT
BEGIN:VEVENT
UID:pebblecreekbocce-73704370-20260422T083000@quickscores.com
DTSTAMP:20260424T144600Z
DTSTART;TZID=America/Phoenix:20260422T083000
DURATION:PT3H0M0S
SUMMARY:Great Expectations vs. Bocce Brigade
DESCRIPTION:Wed 8:30 Am Sp26 - PebbleCreek Bocce
LOCATION:Court 6
CATEGORIES:QuickScores, Bocce Game
TRANSP:OPAQUE
BEGIN:VALARM
TRIGGER:-PT2H
ACTION:DISPLAY
DESCRIPTION:Great Expectations vs. Bocce Brigade
END:VALARM
END:VEVENT
BEGIN:VEVENT
UID:pebblecreekbocce-73704369-20260422T083000@quickscores.com
DTSTAMP:20260424T144600Z
DTSTART;TZID=America/Phoenix:20260422T083000
DURATION:PT3H0M0S
SUMMARY:Smoothies vs. Bada Bing
DESCRIPTION:Wed 8:30 Am Sp26 - PebbleCreek Bocce
LOCATION:Court 3
CATEGORIES:QuickScores, Bocce Game
TRANSP:OPAQUE
BEGIN:VALARM
TRIGGER:-PT2H
ACTION:DISPLAY
DESCRIPTION:Smoothies vs. Bada Bing
END:VALARM
END:VEVENT
BEGIN:VEVENT
UID:pebblecreekbocce-73704368-20260422T083000@quickscores.com
DTSTAMP:20260424T144600Z
DTSTART;TZID=America/Phoenix:20260422T083000
DURATION:PT3H0M0S
SUMMARY:Heaven'z 11 vs. Misfits
DESCRIPTION:Wed 8:30 Am Sp26 - PebbleCreek Bocce
LOCATION:Court 2
CATEGORIES:QuickScores, Bocce Game
TRANSP:OPAQUE
BEGIN:VALARM
TRIGGER:-PT2H
ACTION:DISPLAY
DESCRIPTION:Heaven'z 11 vs. Misfits
END:VALARM
END:VEVENT
BEGIN:VEVENT
UID:pebblecreekbocce-73704382-20260429T083000@quickscores.com
DTSTAMP:20260424T144600Z
DTSTART;TZID=America/Phoenix:20260429T083000
DURATION:PT3H0M0S
SUMMARY:Bocce Brigade vs. Smoothies
DESCRIPTION:Wed 8:30 Am Sp26 - PebbleCreek Bocce
LOCATION:Court 8
CATEGORIES:QuickScores, Bocce Game
TRANSP:OPAQUE
BEGIN:VALARM
TRIGGER:-PT2H
ACTION:DISPLAY
DESCRIPTION:Bocce Brigade vs. Smoothies
END:VALARM
END:VEVENT
BEGIN:VEVENT
UID:pebblecreekbocce-73704381-20260429T083000@quickscores.com
DTSTAMP:20260424T144600Z
DTSTART;TZID=America/Phoenix:20260429T083000
DURATION:PT3H0M0S
SUMMARY:Ladies on the Loose + 3 strays vs. Misfits
DESCRIPTION:Wed 8:30 Am Sp26 - PebbleCreek Bocce
LOCATION:Court 7
CATEGORIES:QuickScores, Bocce Game
TRANSP:OPAQUE
BEGIN:VALARM
TRIGGER:-PT2H
ACTION:DISPLAY
DESCRIPTION:Ladies on the Loose + 3 strays vs. Misfits
END:VALARM
END:VEVENT
BEGIN:VEVENT
UID:pebblecreekbocce-73704380-20260429T083000@quickscores.com
DTSTAMP:20260424T144600Z
DTSTART;TZID=America/Phoenix:20260429T083000
DURATION:PT3H0M0S
SUMMARY:M-T Nesters vs. Bocce Balboa
DESCRIPTION:Wed 8:30 Am Sp26 - PebbleCreek Bocce
LOCATION:Court 6
CATEGORIES:QuickScores, Bocce Game
TRANSP:OPAQUE
BEGIN:VALARM
TRIGGER:-PT2H
ACTION:DISPLAY
DESCRIPTION:M-T Nesters vs. Bocce Balboa
END:VALARM
END:VEVENT
BEGIN:VEVENT
UID:pebblecreekbocce-73704379-20260429T083000@quickscores.com
DTSTAMP:20260424T144600Z
DTSTART;TZID=America/Phoenix:20260429T083000
DURATION:PT3H0M0S
SUMMARY:I Have No Idea vs. Heaven'z 11
DESCRIPTION:Wed 8:30 Am Sp26 - PebbleCreek Bocce
LOCATION:Court 5
CATEGORIES:QuickScores, Bocce Game
TRANSP:OPAQUE
BEGIN:VALARM
TRIGGER:-PT2H
ACTION:DISPLAY
DESCRIPTION:I Have No Idea vs. Heaven'z 11
END:VALARM
END:VEVENT
BEGIN:VEVENT
UID:pebblecreekbocce-73704378-20260429T083000@quickscores.com
DTSTAMP:20260424T144600Z
DTSTART;TZID=America/Phoenix:20260429T083000
DURATION:PT3H0M0S
SUMMARY:USA Bocce vs. Bada Bing
DESCRIPTION:Wed 8:30 Am Sp26 - PebbleCreek Bocce
LOCATION:Court 4
CATEGORIES:QuickScores, Bocce Game
TRANSP:OPAQUE
BEGIN:VALARM
TRIGGER:-PT2H
ACTION:DISPLAY
DESCRIPTION:USA Bocce vs. Bada Bing
END:VALARM
END:VEVENT
BEGIN:VEVENT
UID:pebblecreekbocce-73704377-20260429T083000@quickscores.com
DTSTAMP:20260424T144600Z
DTSTART;TZID=America/Phoenix:20260429T083000
DURATION:PT3H0M0S
SUMMARY:Great Expectations vs. Bocce blasters
DESCRIPTION:Wed 8:30 Am Sp26 - PebbleCreek Bocce
LOCATION:Court 3
CATEGORIES:QuickScores, Bocce Game
TRANSP:OPAQUE
BEGIN:VALARM
TRIGGER:-PT2H
ACTION:DISPLAY
DESCRIPTION:Great Expectations vs. Bocce blasters
END:VALARM
END:VEVENT
BEGIN:VEVENT
UID:pebblecreekbocce-73704376-20260429T083000@quickscores.com
DTSTAMP:20260424T144600Z
DTSTART;TZID=America/Phoenix:20260429T083000
DURATION:PT3H0M0S
SUMMARY:Court Jesters vs. The Lawn Rangers
DESCRIPTION:Wed 8:30 Am Sp26 - PebbleCreek Bocce
LOCATION:Court 2
CATEGORIES:QuickScores, Bocce Game
TRANSP:OPAQUE
BEGIN:VALARM
TRIGGER:-PT2H
ACTION:DISPLAY
DESCRIPTION:Court Jesters vs. The Lawn Rangers
END:VALARM
END:VEVENT
BEGIN:VEVENT
UID:pebblecreekbocce-73704390-20260506T083000@quickscores.com
DTSTAMP:20260424T144600Z
DTSTART;TZID=America/Phoenix:20260506T083000
DURATION:PT3H0M0S
SUMMARY:Bocce blasters vs. Court Jesters
DESCRIPTION:Wed 8:30 Am Sp26 - PebbleCreek Bocce
LOCATION:Court 6
CATEGORIES:QuickScores, Bocce Game
TRANSP:OPAQUE
BEGIN:VALARM
TRIGGER:-PT2H
ACTION:DISPLAY
DESCRIPTION:Bocce blasters vs. Court Jesters
END:VALARM
END:VEVENT
BEGIN:VEVENT
UID:pebblecreekbocce-73704389-20260506T083000@quickscores.com
DTSTAMP:20260424T144600Z
DTSTART;TZID=America/Phoenix:20260506T083000
DURATION:PT3H0M0S
SUMMARY:Perils of Palino vs. USA Bocce
DESCRIPTION:Wed 8:30 Am Sp26 - PebbleCreek Bocce
LOCATION:Court 7
CATEGORIES:QuickScores, Bocce Game
TRANSP:OPAQUE
BEGIN:VALARM
TRIGGER:-PT2H
ACTION:DISPLAY
DESCRIPTION:Perils of Palino vs. USA Bocce
END:VALARM
END:VEVENT
BEGIN:VEVENT
UID:pebblecreekbocce-73704388-20260506T083000@quickscores.com
DTSTAMP:20260424T144600Z
DTSTART;TZID=America/Phoenix:20260506T083000
DURATION:PT3H0M0S
SUMMARY:The Lawn Rangers vs. I Have No Idea
DESCRIPTION:Wed 8:30 Am Sp26 - PebbleCreek Bocce
LOCATION:Court 8
CATEGORIES:QuickScores, Bocce Game
TRANSP:OPAQUE
BEGIN:VALARM
TRIGGER:-PT2H
ACTION:DISPLAY
DESCRIPTION:The Lawn Rangers vs. I Have No Idea
END:VALARM
END:VEVENT
BEGIN:VEVENT
UID:pebblecreekbocce-73704387-20260506T083000@quickscores.com
DTSTAMP:20260424T144600Z
DTSTART;TZID=America/Phoenix:20260506T083000
DURATION:PT3H0M0S
SUMMARY:Great Expectations vs. M-T Nesters
DESCRIPTION:Wed 8:30 Am Sp26 - PebbleCreek Bocce
LOCATION:Court 5
CATEGORIES:QuickScores, Bocce Game
TRANSP:OPAQUE
BEGIN:VALARM
TRIGGER:-PT2H
ACTION:DISPLAY
DESCRIPTION:Great Expectations vs. M-T Nesters
END:VALARM
END:VEVENT
BEGIN:VEVENT
UID:pebblecreekbocce-73704386-20260506T083000@quickscores.com
DTSTAMP:20260424T144600Z
DTSTART;TZID=America/Phoenix:20260506T083000
DURATION:PT3H0M0S
SUMMARY:Bada Bing vs. Ladies on the Loose + 3 strays
DESCRIPTION:Wed 8:30 Am Sp26 - PebbleCreek Bocce
LOCATION:Court 4
CATEGORIES:QuickScores, Bocce Game
TRANSP:OPAQUE
BEGIN:VALARM
TRIGGER:-PT2H
ACTION:DISPLAY
DESCRIPTION:Bada Bing vs. Ladies on the Loose + 3 strays
END:VALARM
END:VEVENT
BEGIN:VEVENT
UID:pebblecreekbocce-73704385-20260506T083000@quickscores.com
DTSTAMP:20260424T144600Z
DTSTART;TZID=America/Phoenix:20260506T083000
DURATION:PT3H0M0S
SUMMARY:Heaven'z 11 vs. Bocce Brigade
DESCRIPTION:Wed 8:30 Am Sp26 - PebbleCreek Bocce
LOCATION:Court 3
CATEGORIES:QuickScores, Bocce Game
TRANSP:OPAQUE
BEGIN:VALARM
TRIGGER:-PT2H
ACTION:DISPLAY
DESCRIPTION:Heaven'z 11 vs. Bocce Brigade
END:VALARM
END:VEVENT
BEGIN:VEVENT
UID:pebblecreekbocce-73704384-20260506T083000@quickscores.com
DTSTAMP:20260424T144600Z
DTSTART;TZID=America/Phoenix:20260506T083000
DURATION:PT3H0M0S
SUMMARY:Smoothies vs. Bocce Balboa
DESCRIPTION:Wed 8:30 Am Sp26 - PebbleCreek Bocce
LOCATION:Court 2
CATEGORIES:QuickScores, Bocce Game
TRANSP:OPAQUE
BEGIN:VALARM
TRIGGER:-PT2H
ACTION:DISPLAY
DESCRIPTION:Smoothies vs. Bocce Balboa
END:VALARM
END:VEVENT
BEGIN:VEVENT
UID:pebblecreekbocce-73704398-20260513T083000@quickscores.com
DTSTAMP:20260424T144600Z
DTSTART;TZID=America/Phoenix:20260513T083000
DURATION:PT3H0M0S
SUMMARY:Misfits vs. Smoothies
DESCRIPTION:Wed 8:30 Am Sp26 - PebbleCreek Bocce
LOCATION:Court 7
CATEGORIES:QuickScores, Bocce Game
TRANSP:OPAQUE
BEGIN:VALARM
TRIGGER:-PT2H
ACTION:DISPLAY
DESCRIPTION:Misfits vs. Smoothies
END:VALARM
END:VEVENT
BEGIN:VEVENT
UID:pebblecreekbocce-73704397-20260513T083000@quickscores.com
DTSTAMP:20260424T144600Z
DTSTART;TZID=America/Phoenix:20260513T083000
DURATION:PT3H0M0S
SUMMARY:Bocce Brigade vs. Bocce Balboa
DESCRIPTION:Wed 8:30 Am Sp26 - PebbleCreek Bocce
LOCATION:Court 5
CATEGORIES:QuickScores, Bocce Game
TRANSP:OPAQUE
BEGIN:VALARM
TRIGGER:-PT2H
ACTION:DISPLAY
DESCRIPTION:Bocce Brigade vs. Bocce Balboa
END:VALARM
END:VEVENT
BEGIN:VEVENT
UID:pebblecreekbocce-73704396-20260513T083000@quickscores.com
DTSTAMP:20260424T144600Z
DTSTART;TZID=America/Phoenix:20260513T083000
DURATION:PT3H0M0S
SUMMARY:Ladies on the Loose + 3 strays vs. Heaven'z 11
DESCRIPTION:Wed 8:30 Am Sp26 - PebbleCreek Bocce
LOCATION:Court 6
CATEGORIES:QuickScores, Bocce Game
TRANSP:OPAQUE
BEGIN:VALARM
TRIGGER:-PT2H
ACTION:DISPLAY
DESCRIPTION:Ladies on the Loose + 3 strays vs. Heaven'z 11
END:VALARM
END:VEVENT
BEGIN:VEVENT
UID:pebblecreekbocce-73704395-20260513T083000@quickscores.com
DTSTAMP:20260424T144600Z
DTSTART;TZID=America/Phoenix:20260513T083000
DURATION:PT3H0M0S
SUMMARY:M-T Nesters vs. Bada Bing
DESCRIPTION:Wed 8:30 Am Sp26 - PebbleCreek Bocce
LOCATION:Court 8
CATEGORIES:QuickScores, Bocce Game
TRANSP:OPAQUE
BEGIN:VALARM
TRIGGER:-PT2H
ACTION:DISPLAY
DESCRIPTION:M-T Nesters vs. Bada Bing
END:VALARM
END:VEVENT
BEGIN:VEVENT
UID:pebblecreekbocce-73704394-20260513T083000@quickscores.com
DTSTAMP:20260424T144600Z
DTSTART;TZID=America/Phoenix:20260513T083000
DURATION:PT3H0M0S
SUMMARY:I Have No Idea vs. Great Expectations
DESCRIPTION:Wed 8:30 Am Sp26 - PebbleCreek Bocce
LOCATION:Court 4
CATEGORIES:QuickScores, Bocce Game
TRANSP:OPAQUE
BEGIN:VALARM
TRIGGER:-PT2H
ACTION:DISPLAY
DESCRIPTION:I Have No Idea vs. Great Expectations
END:VALARM
END:VEVENT
BEGIN:VEVENT
UID:pebblecreekbocce-73704393-20260513T083000@quickscores.com
DTSTAMP:20260424T144600Z
DTSTART;TZID=America/Phoenix:20260513T083000
DURATION:PT3H0M0S
SUMMARY:USA Bocce vs. The Lawn Rangers
DESCRIPTION:Wed 8:30 Am Sp26 - PebbleCreek Bocce
LOCATION:Court 3
CATEGORIES:QuickScores, Bocce Game
TRANSP:OPAQUE
BEGIN:VALARM
TRIGGER:-PT2H
ACTION:DISPLAY
DESCRIPTION:USA Bocce vs. The Lawn Rangers
END:VALARM
END:VEVENT
BEGIN:VEVENT
UID:pebblecreekbocce-73704392-20260513T083000@quickscores.com
DTSTAMP:20260424T144600Z
DTSTART;TZID=America/Phoenix:20260513T083000
DURATION:PT3H0M0S
SUMMARY:Bocce blasters vs. Perils of Palino
DESCRIPTION:Wed 8:30 Am Sp26 - PebbleCreek Bocce
LOCATION:Court 2
CATEGORIES:QuickScores, Bocce Game
TRANSP:OPAQUE
BEGIN:VALARM
TRIGGER:-PT2H
ACTION:DISPLAY
DESCRIPTION:Bocce blasters vs. Perils of Palino
END:VALARM
END:VEVENT
END:VCALENDAR
