BEGIN:VCALENDAR
VERSION:2.0
PRODID:-//QuickScores.com//BQ Dynamic iCal Creator//EN
METHOD:PUBLISH
X-WR-CALNAME:15u Boys - Spring 2026
X-WR-CALDESC:QuickScores game calendar
X-PUBLISHED-TTL:PT24H
REFRESH-INTERVAL;VALUE=DURATION:PT24H
CALSCALE:GREGORIAN
BEGIN:VTIMEZONE
TZID:America/New_York
X-LIC-LOCATION:America/New_York
BEGIN:DAYLIGHT
TZNAME:EDT
TZOFFSETFROM:-0500
TZOFFSETTO:-0400
DTSTART:19700308T020000
RRULE:FREQ=YEARLY;BYMONTH=3;BYDAY=2SU
END:DAYLIGHT
BEGIN:STANDARD
TZNAME:EST
TZOFFSETFROM:-0400
TZOFFSETTO:-0500
DTSTART:19701101T020000
RRULE:FREQ=YEARLY;BYMONTH=11;BYDAY=1SU
END:STANDARD
END:VTIMEZONE
BEGIN:VEVENT
UID:cloversc-73383900-20260314T140000@quickscores.com
DTSTAMP:20260424T174100Z
DTSTART;TZID=America/New_York:20260314T140000
DURATION:PT1H0M0S
SUMMARY:Bulldogs vs. Warriors
DESCRIPTION:15u Boys - Town of Clover
LOCATION:NCP Field 1
CATEGORIES:QuickScores, Soccer - Youth Game
TRANSP:OPAQUE
BEGIN:VALARM
TRIGGER:-PT2H
ACTION:DISPLAY
DESCRIPTION:Bulldogs vs. Warriors
END:VALARM
END:VEVENT
BEGIN:VEVENT
UID:cloversc-73383899-20260314T151500@quickscores.com
DTSTAMP:20260424T174100Z
DTSTART;TZID=America/New_York:20260314T151500
DURATION:PT1H0M0S
SUMMARY:Raptors vs. Knights
DESCRIPTION:15u Boys - Town of Clover
LOCATION:NCP Field 1
CATEGORIES:QuickScores, Soccer - Youth Game
TRANSP:OPAQUE
BEGIN:VALARM
TRIGGER:-PT2H
ACTION:DISPLAY
DESCRIPTION:Raptors vs. Knights
END:VALARM
END:VEVENT
BEGIN:VEVENT
UID:cloversc-73383904-20260319T180000@quickscores.com
DTSTAMP:20260424T174100Z
DTSTART;TZID=America/New_York:20260319T180000
DURATION:PT1H0M0S
SUMMARY:Warriors vs. Gladiators
DESCRIPTION:15u Boys - Town of Clover
LOCATION:NCP Field 1
CATEGORIES:QuickScores, Soccer - Youth Game
TRANSP:OPAQUE
BEGIN:VALARM
TRIGGER:-PT2H
ACTION:DISPLAY
DESCRIPTION:Warriors vs. Gladiators
END:VALARM
END:VEVENT
BEGIN:VEVENT
UID:cloversc-73383905-20260320T180000@quickscores.com
DTSTAMP:20260424T174100Z
DTSTART;TZID=America/New_York:20260320T180000
DURATION:PT1H0M0S
SUMMARY:Bulldogs vs. Raptors
DESCRIPTION:15u Boys - Town of Clover
LOCATION:NCP Field 1
CATEGORIES:QuickScores, Soccer - Youth Game
TRANSP:OPAQUE
BEGIN:VALARM
TRIGGER:-PT2H
ACTION:DISPLAY
DESCRIPTION:Bulldogs vs. Raptors
END:VALARM
END:VEVENT
BEGIN:VEVENT
UID:cloversc-73383906-20260321T140000@quickscores.com
DTSTAMP:20260424T174100Z
DTSTART;TZID=America/New_York:20260321T140000
DURATION:PT1H0M0S
SUMMARY:Raptors vs. Gladiators
DESCRIPTION:15u Boys - Town of Clover
LOCATION:NCP Field 1
CATEGORIES:QuickScores, Soccer - Youth Game
TRANSP:OPAQUE
BEGIN:VALARM
TRIGGER:-PT2H
ACTION:DISPLAY
DESCRIPTION:Raptors vs. Gladiators
END:VALARM
END:VEVENT
BEGIN:VEVENT
UID:cloversc-73383902-20260321T151500@quickscores.com
DTSTAMP:20260424T174100Z
DTSTART;TZID=America/New_York:20260321T151500
DURATION:PT1H0M0S
SUMMARY:Fort Mill vs. Warriors
DESCRIPTION:15u Boys - Town of Clover
LOCATION:NCP Field 1
CATEGORIES:QuickScores, Soccer - Youth Game
TRANSP:OPAQUE
BEGIN:VALARM
TRIGGER:-PT2H
ACTION:DISPLAY
DESCRIPTION:Fort Mill vs. Warriors
END:VALARM
END:VEVENT
BEGIN:VEVENT
UID:cloversc-73383907-20260323T191500@quickscores.com
DTSTAMP:20260424T174100Z
DTSTART;TZID=America/New_York:20260323T191500
DURATION:PT1H0M0S
SUMMARY:Warriors vs. Bulldogs
DESCRIPTION:15u Boys - Town of Clover
LOCATION:NCP Field 1
CATEGORIES:QuickScores, Soccer - Youth Game
TRANSP:OPAQUE
BEGIN:VALARM
TRIGGER:-PT2H
ACTION:DISPLAY
DESCRIPTION:Warriors vs. Bulldogs
END:VALARM
END:VEVENT
BEGIN:VEVENT
UID:cloversc-73383910-20260326T191500@quickscores.com
DTSTAMP:20260424T174100Z
DTSTART;TZID=America/New_York:20260326T191500
DURATION:PT1H0M0S
SUMMARY:Gladiators vs. Knights
DESCRIPTION:15u Boys - Town of Clover
LOCATION:NCP Field 1
CATEGORIES:QuickScores, Soccer - Youth Game
TRANSP:OPAQUE
BEGIN:VALARM
TRIGGER:-PT2H
ACTION:DISPLAY
DESCRIPTION:Gladiators vs. Knights
END:VALARM
END:VEVENT
BEGIN:VEVENT
UID:cloversc-73383908-20260327T191500@quickscores.com
DTSTAMP:20260424T174100Z
DTSTART;TZID=America/New_York:20260327T191500
DURATION:PT1H0M0S
SUMMARY:Knights vs. Fort Mill
DESCRIPTION:15u Boys - Town of Clover
LOCATION:NCP Field 1
CATEGORIES:QuickScores, Soccer - Youth Game
TRANSP:OPAQUE
BEGIN:VALARM
TRIGGER:-PT2H
ACTION:DISPLAY
DESCRIPTION:Knights vs. Fort Mill
END:VALARM
END:VEVENT
BEGIN:VEVENT
UID:cloversc-73383909-20260328T140000@quickscores.com
DTSTAMP:20260424T174100Z
DTSTART;TZID=America/New_York:20260328T140000
DURATION:PT1H0M0S
SUMMARY:Gladiators vs. Bulldogs
DESCRIPTION:15u Boys - Town of Clover
LOCATION:NCP Field 1
CATEGORIES:QuickScores, Soccer - Youth Game
TRANSP:OPAQUE
BEGIN:VALARM
TRIGGER:-PT2H
ACTION:DISPLAY
DESCRIPTION:Gladiators vs. Bulldogs
END:VALARM
END:VEVENT
BEGIN:VEVENT
UID:cloversc-73383911-20260328T151500@quickscores.com
DTSTAMP:20260424T174100Z
DTSTART;TZID=America/New_York:20260328T151500
DURATION:PT1H0M0S
SUMMARY:Warriors vs. Raptors
DESCRIPTION:15u Boys - Town of Clover
LOCATION:NCP Field 1
CATEGORIES:QuickScores, Soccer - Youth Game
TRANSP:OPAQUE
BEGIN:VALARM
TRIGGER:-PT2H
ACTION:DISPLAY
DESCRIPTION:Warriors vs. Raptors
END:VALARM
END:VEVENT
BEGIN:VEVENT
UID:cloversc-73383912-20260330T191500@quickscores.com
DTSTAMP:20260424T174100Z
DTSTART;TZID=America/New_York:20260330T191500
DURATION:PT1H0M0S
SUMMARY:Knights vs. Gladiators
DESCRIPTION:15u Boys - Town of Clover
LOCATION:NCP Field 1
CATEGORIES:QuickScores, Soccer - Youth Game
TRANSP:OPAQUE
BEGIN:VALARM
TRIGGER:-PT2H
ACTION:DISPLAY
DESCRIPTION:Knights vs. Gladiators
END:VALARM
END:VEVENT
BEGIN:VEVENT
UID:cloversc-73383916-20260413T191500@quickscores.com
DTSTAMP:20260424T174100Z
DTSTART;TZID=America/New_York:20260413T191500
DURATION:PT1H0M0S
SUMMARY:Gladiators vs. Raptors
DESCRIPTION:15u Boys - Town of Clover
LOCATION:NCP Field 1
CATEGORIES:QuickScores, Soccer - Youth Game
TRANSP:OPAQUE
BEGIN:VALARM
TRIGGER:-PT2H
ACTION:DISPLAY
DESCRIPTION:Gladiators vs. Raptors
END:VALARM
END:VEVENT
BEGIN:VEVENT
UID:cloversc-73383920-20260416T191500@quickscores.com
DTSTAMP:20260424T174100Z
DTSTART;TZID=America/New_York:20260416T191500
DURATION:PT1H0M0S
SUMMARY:Bulldogs vs. Knights
DESCRIPTION:15u Boys - Town of Clover
LOCATION:NCP Field 1
CATEGORIES:QuickScores, Soccer - Youth Game
TRANSP:OPAQUE
BEGIN:VALARM
TRIGGER:-PT2H
ACTION:DISPLAY
DESCRIPTION:Bulldogs vs. Knights
END:VALARM
END:VEVENT
BEGIN:VEVENT
UID:cloversc-73384070-20260417T180000@quickscores.com
DTSTAMP:20260424T174100Z
DTSTART;TZID=America/New_York:20260417T180000
DURATION:PT1H0M0S
SUMMARY:Bulldogs vs. Raptors
DESCRIPTION:15u Boys - Town of Clover
LOCATION:NCP Field 1
CATEGORIES:QuickScores, Soccer - Youth Game
TRANSP:OPAQUE
BEGIN:VALARM
TRIGGER:-PT2H
ACTION:DISPLAY
DESCRIPTION:Bulldogs vs. Raptors
END:VALARM
END:VEVENT
BEGIN:VEVENT
UID:cloversc-73383917-20260417T191500@quickscores.com
DTSTAMP:20260424T174100Z
DTSTART;TZID=America/New_York:20260417T191500
DURATION:PT1H0M0S
SUMMARY:Warriors vs. Knights
DESCRIPTION:15u Boys - Town of Clover
LOCATION:NCP Field 1
CATEGORIES:QuickScores, Soccer - Youth Game
TRANSP:OPAQUE
BEGIN:VALARM
TRIGGER:-PT2H
ACTION:DISPLAY
DESCRIPTION:Warriors vs. Knights
END:VALARM
END:VEVENT
BEGIN:VEVENT
UID:cloversc-73383903-20260418T101500@quickscores.com
DTSTAMP:20260424T174100Z
DTSTART;TZID=America/New_York:20260418T101500
DURATION:PT1H15M0S
SUMMARY:Knights vs. Warriors
DESCRIPTION:Game is being moved to 4/18/2026 --- 15u Boys - Town of Clover
LOCATION:NCP Field 1
CATEGORIES:QuickScores, Soccer - Youth Game
TRANSP:OPAQUE
BEGIN:VALARM
TRIGGER:-PT2H
ACTION:DISPLAY
DESCRIPTION:Knights vs. Warriors
END:VALARM
END:VEVENT
BEGIN:VEVENT
UID:cloversc-73383918-20260418T140000@quickscores.com
DTSTAMP:20260424T174100Z
DTSTART;TZID=America/New_York:20260418T140000
DURATION:PT1H0M0S
SUMMARY:Gladiators vs. Warriors
DESCRIPTION:15u Boys - Town of Clover
LOCATION:NCP Field 1
CATEGORIES:QuickScores, Soccer - Youth Game
TRANSP:OPAQUE
BEGIN:VALARM
TRIGGER:-PT2H
ACTION:DISPLAY
DESCRIPTION:Gladiators vs. Warriors
END:VALARM
END:VEVENT
BEGIN:VEVENT
UID:cloversc-73383919-20260418T151500@quickscores.com
DTSTAMP:20260424T174100Z
DTSTART;TZID=America/New_York:20260418T151500
DURATION:PT1H0M0S
SUMMARY:Raptors vs. Fort Mill
DESCRIPTION:15u Boys - Town of Clover
LOCATION:NCP Field 1
CATEGORIES:QuickScores, Soccer - Youth Game
TRANSP:OPAQUE
BEGIN:VALARM
TRIGGER:-PT2H
ACTION:DISPLAY
DESCRIPTION:Raptors vs. Fort Mill
END:VALARM
END:VEVENT
BEGIN:VEVENT
UID:cloversc-73383925-20260420T191500@quickscores.com
DTSTAMP:20260424T174100Z
DTSTART;TZID=America/New_York:20260420T191500
DURATION:PT1H0M0S
SUMMARY:Raptors vs. Warriors
DESCRIPTION:15u Boys - Town of Clover
LOCATION:NCP Field 1
CATEGORIES:QuickScores, Soccer - Youth Game
TRANSP:OPAQUE
BEGIN:VALARM
TRIGGER:-PT2H
ACTION:DISPLAY
DESCRIPTION:Raptors vs. Warriors
END:VALARM
END:VEVENT
BEGIN:VEVENT
UID:cloversc-73383922-20260423T191500@quickscores.com
DTSTAMP:20260424T174100Z
DTSTART;TZID=America/New_York:20260423T191500
DURATION:PT1H0M0S
SUMMARY:Raptors vs. Knights
DESCRIPTION:15u Boys - Town of Clover
LOCATION:NCP Field 1
CATEGORIES:QuickScores, Soccer - Youth Game
TRANSP:OPAQUE
BEGIN:VALARM
TRIGGER:-PT2H
ACTION:DISPLAY
DESCRIPTION:Raptors vs. Knights
END:VALARM
END:VEVENT
BEGIN:VEVENT
UID:cloversc-73383924-20260424T180000@quickscores.com
DTSTAMP:20260424T174100Z
DTSTART;TZID=America/New_York:20260424T180000
DURATION:PT1H0M0S
SUMMARY:Bulldogs vs. Gladiators
DESCRIPTION:15u Boys - Town of Clover
LOCATION:NCP Field 1
CATEGORIES:QuickScores, Soccer - Youth Game
TRANSP:OPAQUE
BEGIN:VALARM
TRIGGER:-PT2H
ACTION:DISPLAY
DESCRIPTION:Bulldogs vs. Gladiators
END:VALARM
END:VEVENT
BEGIN:VEVENT
UID:cloversc-73383921-20260425T140000@quickscores.com
DTSTAMP:20260424T174100Z
DTSTART;TZID=America/New_York:20260425T140000
DURATION:PT1H0M0S
SUMMARY:Bulldogs vs. Warriors
DESCRIPTION:15u Boys - Town of Clover
LOCATION:NCP Field 1
CATEGORIES:QuickScores, Soccer - Youth Game
TRANSP:OPAQUE
BEGIN:VALARM
TRIGGER:-PT2H
ACTION:DISPLAY
DESCRIPTION:Bulldogs vs. Warriors
END:VALARM
END:VEVENT
BEGIN:VEVENT
UID:cloversc-73383923-20260425T151500@quickscores.com
DTSTAMP:20260424T174100Z
DTSTART;TZID=America/New_York:20260425T151500
DURATION:PT1H0M0S
SUMMARY:Gladiators vs. Knights
DESCRIPTION:15u Boys - Town of Clover
LOCATION:NCP Field 1
CATEGORIES:QuickScores, Soccer - Youth Game
TRANSP:OPAQUE
BEGIN:VALARM
TRIGGER:-PT2H
ACTION:DISPLAY
DESCRIPTION:Gladiators vs. Knights
END:VALARM
END:VEVENT
BEGIN:VEVENT
UID:cloversc-73383930-20260427T191500@quickscores.com
DTSTAMP:20260424T174100Z
DTSTART;TZID=America/New_York:20260427T191500
DURATION:PT1H0M0S
SUMMARY:Knights vs. Bulldogs
DESCRIPTION:15u Boys - Town of Clover
LOCATION:NCP Field 1
CATEGORIES:QuickScores, Soccer - Youth Game
TRANSP:OPAQUE
BEGIN:VALARM
TRIGGER:-PT2H
ACTION:DISPLAY
DESCRIPTION:Knights vs. Bulldogs
END:VALARM
END:VEVENT
BEGIN:VEVENT
UID:cloversc-73383929-20260430T191500@quickscores.com
DTSTAMP:20260424T174100Z
DTSTART;TZID=America/New_York:20260430T191500
DURATION:PT1H0M0S
SUMMARY:Raptors vs. Bulldogs
DESCRIPTION:15u Boys - Town of Clover
LOCATION:NCP Field 1
CATEGORIES:QuickScores, Soccer - Youth Game
TRANSP:OPAQUE
BEGIN:VALARM
TRIGGER:-PT2H
ACTION:DISPLAY
DESCRIPTION:Raptors vs. Bulldogs
END:VALARM
END:VEVENT
BEGIN:VEVENT
UID:cloversc-73383928-20260501T191500@quickscores.com
DTSTAMP:20260424T174100Z
DTSTART;TZID=America/New_York:20260501T191500
DURATION:PT1H0M0S
SUMMARY:Fort Mill vs. Gladiators
DESCRIPTION:15u Boys - Town of Clover
LOCATION:NCP Field 1
CATEGORIES:QuickScores, Soccer - Youth Game
TRANSP:OPAQUE
BEGIN:VALARM
TRIGGER:-PT2H
ACTION:DISPLAY
DESCRIPTION:Fort Mill vs. Gladiators
END:VALARM
END:VEVENT
BEGIN:VEVENT
UID:cloversc-73383926-20260502T140000@quickscores.com
DTSTAMP:20260424T174100Z
DTSTART;TZID=America/New_York:20260502T140000
DURATION:PT1H0M0S
SUMMARY:Gladiators vs. Raptors
DESCRIPTION:15u Boys - Town of Clover
LOCATION:NCP Field 1
CATEGORIES:QuickScores, Soccer - Youth Game
TRANSP:OPAQUE
BEGIN:VALARM
TRIGGER:-PT2H
ACTION:DISPLAY
DESCRIPTION:Gladiators vs. Raptors
END:VALARM
END:VEVENT
BEGIN:VEVENT
UID:cloversc-73383927-20260502T150000@quickscores.com
DTSTAMP:20260424T174100Z
DTSTART;TZID=America/New_York:20260502T150000
DURATION:PT1H0M0S
SUMMARY:Fort Mill vs. Bulldogs
DESCRIPTION:15u Boys - Town of Clover
LOCATION:Comporium Athletic Park 2
CATEGORIES:QuickScores, Soccer - Youth Game
TRANSP:OPAQUE
BEGIN:VALARM
TRIGGER:-PT2H
ACTION:DISPLAY
DESCRIPTION:Fort Mill vs. Bulldogs
END:VALARM
END:VEVENT
BEGIN:VEVENT
UID:cloversc-73384068-20260502T151500@quickscores.com
DTSTAMP:20260424T174100Z
DTSTART;TZID=America/New_York:20260502T151500
DURATION:PT1H0M0S
SUMMARY:Warriors vs. Knights
DESCRIPTION:15u Boys - Town of Clover
LOCATION:NCP Field 1
CATEGORIES:QuickScores, Soccer - Youth Game
TRANSP:OPAQUE
BEGIN:VALARM
TRIGGER:-PT2H
ACTION:DISPLAY
DESCRIPTION:Warriors vs. Knights
END:VALARM
END:VEVENT
BEGIN:VEVENT
UID:cloversc-73276233-20260507T180000@quickscores.com
DTSTAMP:20260424T174100Z
DTSTART;TZID=America/New_York:20260507T180000
DURATION:PT1H15M0S
SUMMARY:#4 Seed vs. #5 Seed
DESCRIPTION:15u Boys - Town of Clover
LOCATION:NCP Field 1
CATEGORIES:QuickScores, Soccer - Youth Game
TRANSP:OPAQUE
BEGIN:VALARM
TRIGGER:-PT2H
ACTION:DISPLAY
DESCRIPTION:#4 Seed vs. #5 Seed
END:VALARM
END:VEVENT
BEGIN:VEVENT
UID:cloversc-73276235-20260507T191500@quickscores.com
DTSTAMP:20260424T174100Z
DTSTART;TZID=America/New_York:20260507T191500
DURATION:PT1H15M0S
SUMMARY:#3 Seed vs. #6 Seed
DESCRIPTION:15u Boys - Town of Clover
LOCATION:NCP Field 1
CATEGORIES:QuickScores, Soccer - Youth Game
TRANSP:OPAQUE
BEGIN:VALARM
TRIGGER:-PT2H
ACTION:DISPLAY
DESCRIPTION:#3 Seed vs. #6 Seed
END:VALARM
END:VEVENT
BEGIN:VEVENT
UID:cloversc-73276237-20260508T180000@quickscores.com
DTSTAMP:20260424T174100Z
DTSTART;TZID=America/New_York:20260508T180000
DURATION:PT1H15M0S
SUMMARY:#2 Seed vs. Winner of Game 2
DESCRIPTION:15u Boys - Town of Clover
LOCATION:NCP Field 1
CATEGORIES:QuickScores, Soccer - Youth Game
TRANSP:OPAQUE
BEGIN:VALARM
TRIGGER:-PT2H
ACTION:DISPLAY
DESCRIPTION:#2 Seed vs. Winner of Game 2
END:VALARM
END:VEVENT
BEGIN:VEVENT
UID:cloversc-73276236-20260508T191500@quickscores.com
DTSTAMP:20260424T174100Z
DTSTART;TZID=America/New_York:20260508T191500
DURATION:PT1H15M0S
SUMMARY:#1 Seed vs. Winner of Game 1
DESCRIPTION:15u Boys - Town of Clover
LOCATION:NCP Field 1
CATEGORIES:QuickScores, Soccer - Youth Game
TRANSP:OPAQUE
BEGIN:VALARM
TRIGGER:-PT2H
ACTION:DISPLAY
DESCRIPTION:#1 Seed vs. Winner of Game 1
END:VALARM
END:VEVENT
BEGIN:VEVENT
UID:cloversc-73302833-20260509T140000@quickscores.com
DTSTAMP:20260424T174100Z
DTSTART;TZID=America/New_York:20260509T140000
DURATION:PT1H15M0S
SUMMARY:Loser of Game 4 vs. Loser of Game 1
DESCRIPTION:15u Boys - Town of Clover
LOCATION:NCP Field 1
CATEGORIES:QuickScores, Soccer - Youth Game
TRANSP:OPAQUE
BEGIN:VALARM
TRIGGER:-PT2H
ACTION:DISPLAY
DESCRIPTION:Loser of Game 4 vs. Loser of Game 1
END:VALARM
END:VEVENT
BEGIN:VEVENT
UID:cloversc-73302834-20260509T151500@quickscores.com
DTSTAMP:20260424T174100Z
DTSTART;TZID=America/New_York:20260509T151500
DURATION:PT1H15M0S
SUMMARY:Loser of Game 3 vs. Loser of Game 2
DESCRIPTION:15u Boys - Town of Clover
LOCATION:NCP Field 1
CATEGORIES:QuickScores, Soccer - Youth Game
TRANSP:OPAQUE
BEGIN:VALARM
TRIGGER:-PT2H
ACTION:DISPLAY
DESCRIPTION:Loser of Game 3 vs. Loser of Game 2
END:VALARM
END:VEVENT
BEGIN:VEVENT
UID:cloversc-73302836-20260511T191500@quickscores.com
DTSTAMP:20260424T174100Z
DTSTART;TZID=America/New_York:20260511T191500
DURATION:PT1H15M0S
SUMMARY:Winner of Game 5 vs. Winner of Game 6
DESCRIPTION:15u Boys - Town of Clover
LOCATION:NCP Field 1
CATEGORIES:QuickScores, Soccer - Youth Game
TRANSP:OPAQUE
BEGIN:VALARM
TRIGGER:-PT2H
ACTION:DISPLAY
DESCRIPTION:Winner of Game 5 vs. Winner of Game 6
END:VALARM
END:VEVENT
BEGIN:VEVENT
UID:cloversc-73302835-20260512T191500@quickscores.com
DTSTAMP:20260424T174100Z
DTSTART;TZID=America/New_York:20260512T191500
DURATION:PT1H15M0S
SUMMARY:Winner of Game 3 vs. Winner of Game 4
DESCRIPTION:15u Boys - Town of Clover
LOCATION:NCP Field 1
CATEGORIES:QuickScores, Soccer - Youth Game
TRANSP:OPAQUE
BEGIN:VALARM
TRIGGER:-PT2H
ACTION:DISPLAY
DESCRIPTION:Winner of Game 3 vs. Winner of Game 4
END:VALARM
END:VEVENT
BEGIN:VEVENT
UID:cloversc-73302837-20260514T191500@quickscores.com
DTSTAMP:20260424T174100Z
DTSTART;TZID=America/New_York:20260514T191500
DURATION:PT1H15M0S
SUMMARY:Loser of Game 7 vs. Winner of Game 8
DESCRIPTION:15u Boys - Town of Clover
LOCATION:NCP Field 1
CATEGORIES:QuickScores, Soccer - Youth Game
TRANSP:OPAQUE
BEGIN:VALARM
TRIGGER:-PT2H
ACTION:DISPLAY
DESCRIPTION:Loser of Game 7 vs. Winner of Game 8
END:VALARM
END:VEVENT
BEGIN:VEVENT
UID:cloversc-73302838-20260515T180000@quickscores.com
DTSTAMP:20260424T174100Z
DTSTART;TZID=America/New_York:20260515T180000
DURATION:PT1H15M0S
SUMMARY:Winner of Game 7 vs. Winner of Game 9
DESCRIPTION:15u Boys - Town of Clover
LOCATION:NCP Field 1
CATEGORIES:QuickScores, Soccer - Youth Game
TRANSP:OPAQUE
BEGIN:VALARM
TRIGGER:-PT2H
ACTION:DISPLAY
DESCRIPTION:Winner of Game 7 vs. Winner of Game 9
END:VALARM
END:VEVENT
BEGIN:VEVENT
UID:cloversc-73302839-20260516T140000@quickscores.com
DTSTAMP:20260424T174100Z
DTSTART;TZID=America/New_York:20260516T140000
DURATION:PT1H15M0S
SUMMARY:Winner of Game 10 vs. Loser of Game 10
DESCRIPTION:15u Boys - Town of Clover
LOCATION:NCP Field 1
CATEGORIES:QuickScores, Soccer - Youth Game
TRANSP:OPAQUE
BEGIN:VALARM
TRIGGER:-PT2H
ACTION:DISPLAY
DESCRIPTION:Winner of Game 10 vs. Loser of Game 10
END:VALARM
END:VEVENT
END:VCALENDAR
