BEGIN:VCALENDAR
VERSION:2.0
PRODID:-//QuickScores.com//BQ Dynamic iCal Creator//EN
METHOD:PUBLISH
X-WR-CALNAME:5th-6th Grade Girls Tournament (blue Bracket) At Ppd - Winter 2025-2026
X-WR-CALDESC:QuickScores game calendar
X-PUBLISHED-TTL:PT24H
REFRESH-INTERVAL;VALUE=DURATION:PT24H
CALSCALE:GREGORIAN
BEGIN:VTIMEZONE
TZID:America/Chicago
X-LIC-LOCATION:America/Chicago
BEGIN:DAYLIGHT
TZNAME:CDT
TZOFFSETFROM:-0600
TZOFFSETTO:-0500
DTSTART:19700308T020000
RRULE:FREQ=YEARLY;BYMONTH=3;BYDAY=2SU
END:DAYLIGHT
BEGIN:STANDARD
TZNAME:CST
TZOFFSETFROM:-0500
TZOFFSETTO:-0600
DTSTART:19701101T020000
RRULE:FREQ=YEARLY;BYMONTH=11;BYDAY=1SU
END:STANDARD
END:VTIMEZONE
BEGIN:VEVENT
UID:palatine-73188500-20260307T120000@quickscores.com
DTSTAMP:20260423T153200Z
DTSTART;TZID=America/Chicago:20260307T120000
DURATION:PT1H0M0S
SUMMARY:[9] Seattle Storm (Chatham) vs. [10] Chicago Sky (Hubbell)
DESCRIPTION:5th-6th Grade Girls Tournament (blue Bracket) At Ppd - Palatine Park District
LOCATION:Community Center Court 1 (South Gym)
CATEGORIES:QuickScores, Basketball - Youth Game
TRANSP:OPAQUE
BEGIN:VALARM
TRIGGER:-PT2H
ACTION:DISPLAY
DESCRIPTION:[9] Seattle Storm (Chatham) vs. [10] Chicago Sky (Hubbell)
END:VALARM
END:VEVENT
BEGIN:VEVENT
UID:palatine-73188504-20260307T130000@quickscores.com
DTSTAMP:20260423T153200Z
DTSTART;TZID=America/Chicago:20260307T130000
DURATION:PT1H0M0S
SUMMARY:[7] Hoffman Dream vs. [8] Los Angeles Sparks (Caringella)
DESCRIPTION:5th-6th Grade Girls Tournament (blue Bracket) At Ppd - Palatine Park District
LOCATION:Community Center Court 1 (South Gym)
CATEGORIES:QuickScores, Basketball - Youth Game
TRANSP:OPAQUE
BEGIN:VALARM
TRIGGER:-PT2H
ACTION:DISPLAY
DESCRIPTION:[7] Hoffman Dream vs. [8] Los Angeles Sparks (Caringella)
END:VALARM
END:VEVENT
BEGIN:VEVENT
UID:palatine-73188503-20260307T140000@quickscores.com
DTSTAMP:20260423T153200Z
DTSTART;TZID=America/Chicago:20260307T140000
DURATION:PT1H0M0S
SUMMARY:[6] So. Barrington BULLS vs. [9] Seattle Storm (Chatham)
DESCRIPTION:5th-6th Grade Girls Tournament (blue Bracket) At Ppd - Palatine Park District
LOCATION:Community Center Court 1 (South Gym)
CATEGORIES:QuickScores, Basketball - Youth Game
TRANSP:OPAQUE
BEGIN:VALARM
TRIGGER:-PT2H
ACTION:DISPLAY
DESCRIPTION:[6] So. Barrington BULLS vs. [9] Seattle Storm (Chatham)
END:VALARM
END:VEVENT
BEGIN:VEVENT
UID:palatine-73188505-20260307T150000@quickscores.com
DTSTAMP:20260423T153200Z
DTSTART;TZID=America/Chicago:20260307T150000
DURATION:PT1H0M0S
SUMMARY:[6] So. Barrington BULLS vs. [7] Hoffman Dream
DESCRIPTION:5th-6th Grade Girls Tournament (blue Bracket) At Ppd - Palatine Park District
LOCATION:Community Center Court 1 (South Gym)
CATEGORIES:QuickScores, Basketball - Youth Game
TRANSP:OPAQUE
BEGIN:VALARM
TRIGGER:-PT2H
ACTION:DISPLAY
DESCRIPTION:[6] So. Barrington BULLS vs. [7] Hoffman Dream
END:VALARM
END:VEVENT
END:VCALENDAR
