BEGIN:VCALENDAR
VERSION:2.0
PRODID:-//QuickScores.com//BQ Dynamic iCal Creator//EN
METHOD:PUBLISH
X-WR-CALNAME:High School Boys - Spring Basketball League
X-WR-CALDESC:QuickScores game calendar
X-PUBLISHED-TTL:PT24H
REFRESH-INTERVAL;VALUE=DURATION:PT24H
CALSCALE:GREGORIAN
BEGIN:VTIMEZONE
TZID:America/Phoenix
X-LIC-LOCATION:America/Phoenix
BEGIN:STANDARD
TZNAME:MST
TZOFFSETFROM:-0700
TZOFFSETTO:-0700
DTSTART:19700101T000000
END:STANDARD
END:VTIMEZONE
BEGIN:VEVENT
UID:legacyyouthsports-73319532-20260228T142500@quickscores.com
DTSTAMP:20260419T184800Z
DTSTART;TZID=America/Phoenix:20260228T142500
DURATION:PT0H55M0S
SUMMARY:AZ Flight Grind vs. Basketball Factory
DESCRIPTION:High School Boys - Legacy Youth Sports
LOCATION:Atkinson Court 2
CATEGORIES:QuickScores, Basketball Game
TRANSP:OPAQUE
BEGIN:VALARM
TRIGGER:-PT2H
ACTION:DISPLAY
DESCRIPTION:AZ Flight Grind vs. Basketball Factory
END:VALARM
END:VEVENT
BEGIN:VEVENT
UID:legacyyouthsports-73452539-20260307T095000@quickscores.com
DTSTAMP:20260419T184800Z
DTSTART;TZID=America/Phoenix:20260307T095000
DURATION:PT0H55M0S
SUMMARY:AZ EVO Elite White vs. AZ Northern Reapers
DESCRIPTION:Northern Reapers #4 Jio scores 11 points --- High School Boys - Legacy Youth Sports
LOCATION:Kroc Center - Court 1
CATEGORIES:QuickScores, Basketball Game
TRANSP:OPAQUE
BEGIN:VALARM
TRIGGER:-PT2H
ACTION:DISPLAY
DESCRIPTION:AZ EVO Elite White vs. AZ Northern Reapers
END:VALARM
END:VEVENT
BEGIN:VEVENT
UID:legacyyouthsports-73452540-20260307T104500@quickscores.com
DTSTAMP:20260419T184800Z
DTSTART;TZID=America/Phoenix:20260307T104500
DURATION:PT0H55M0S
SUMMARY:AZ Flight Air vs. AZ EVO Elite White
DESCRIPTION:AZ flight #23 scores 22 points --- High School Boys - Legacy Youth Sports
LOCATION:Kroc Center - Court 2
CATEGORIES:QuickScores, Basketball Game
TRANSP:OPAQUE
BEGIN:VALARM
TRIGGER:-PT2H
ACTION:DISPLAY
DESCRIPTION:AZ Flight Air vs. AZ EVO Elite White
END:VALARM
END:VEVENT
BEGIN:VEVENT
UID:legacyyouthsports-73461273-20260307T114000@quickscores.com
DTSTAMP:20260419T184800Z
DTSTART;TZID=America/Phoenix:20260307T114000
DURATION:PT0H55M0S
SUMMARY:AZ Northern Reapers vs. Humble Savage 2030
DESCRIPTION:Northern Reapers #4 Jio scores 21 points --- High School Boys - Legacy Youth Sports
LOCATION:Kroc Center - Court 3
CATEGORIES:QuickScores, Basketball Game
TRANSP:OPAQUE
BEGIN:VALARM
TRIGGER:-PT2H
ACTION:DISPLAY
DESCRIPTION:AZ Northern Reapers vs. Humble Savage 2030
END:VALARM
END:VEVENT
BEGIN:VEVENT
UID:legacyyouthsports-73855746-20260321T114000@quickscores.com
DTSTAMP:20260419T184800Z
DTSTART;TZID=America/Phoenix:20260321T114000
DURATION:PT0H55M0S
SUMMARY:Hoop Code Black vs. AZ Northern Reapers
DESCRIPTION:AZ Northern Reapers #4 scores 20 points --- High School Boys - Legacy Youth Sports
LOCATION:Atkinson Court 2
CATEGORIES:QuickScores, Basketball Game
TRANSP:OPAQUE
BEGIN:VALARM
TRIGGER:-PT2H
ACTION:DISPLAY
DESCRIPTION:Hoop Code Black vs. AZ Northern Reapers
END:VALARM
END:VEVENT
BEGIN:VEVENT
UID:legacyyouthsports-73840510-20260321T123500@quickscores.com
DTSTAMP:20260419T184800Z
DTSTART;TZID=America/Phoenix:20260321T123500
DURATION:PT0H55M0S
SUMMARY:PHX Ballers 15U vs. Fellowship Basketball
DESCRIPTION:Fellowship #12 scores 22 points --- High School Boys - Legacy Youth Sports
LOCATION:Atkinson Court 2
CATEGORIES:QuickScores, Basketball Game
TRANSP:OPAQUE
BEGIN:VALARM
TRIGGER:-PT2H
ACTION:DISPLAY
DESCRIPTION:PHX Ballers 15U vs. Fellowship Basketball
END:VALARM
END:VEVENT
BEGIN:VEVENT
UID:legacyyouthsports-73840034-20260321T133000@quickscores.com
DTSTAMP:20260419T184800Z
DTSTART;TZID=America/Phoenix:20260321T133000
DURATION:PT0H55M0S
SUMMARY:AZ Northern Reapers vs. Dime Academy
DESCRIPTION:Dime Academy #0 scores 20 points --- High School Boys - Legacy Youth Sports
LOCATION:Atkinson Court 2
CATEGORIES:QuickScores, Basketball Game
TRANSP:OPAQUE
BEGIN:VALARM
TRIGGER:-PT2H
ACTION:DISPLAY
DESCRIPTION:AZ Northern Reapers vs. Dime Academy
END:VALARM
END:VEVENT
BEGIN:VEVENT
UID:legacyyouthsports-73840030-20260321T142500@quickscores.com
DTSTAMP:20260419T184800Z
DTSTART;TZID=America/Phoenix:20260321T142500
DURATION:PT0H55M0S
SUMMARY:AZ EVO Elite 16U vs. Wolves
DESCRIPTION:Wolfpack #2 scores 15 points --- High School Boys - Legacy Youth Sports
LOCATION:Atkinson Court 2
CATEGORIES:QuickScores, Basketball Game
TRANSP:OPAQUE
BEGIN:VALARM
TRIGGER:-PT2H
ACTION:DISPLAY
DESCRIPTION:AZ EVO Elite 16U vs. Wolves
END:VALARM
END:VEVENT
BEGIN:VEVENT
UID:legacyyouthsports-73840033-20260321T152000@quickscores.com
DTSTAMP:20260419T184800Z
DTSTART;TZID=America/Phoenix:20260321T152000
DURATION:PT0H55M0S
SUMMARY:PHX Fire vs. Dime Academy
DESCRIPTION:Phx Fire #1 scores 14 points --- High School Boys - Legacy Youth Sports
LOCATION:Atkinson Court 2
CATEGORIES:QuickScores, Basketball Game
TRANSP:OPAQUE
BEGIN:VALARM
TRIGGER:-PT2H
ACTION:DISPLAY
DESCRIPTION:PHX Fire vs. Dime Academy
END:VALARM
END:VEVENT
BEGIN:VEVENT
UID:legacyyouthsports-74038609-20260328T180500@quickscores.com
DTSTAMP:20260419T184800Z
DTSTART;TZID=America/Phoenix:20260328T180500
DURATION:PT0H55M0S
SUMMARY:AZ Flight Air vs. PHX Ballers 15U
DESCRIPTION:High School Boys - Legacy Youth Sports
LOCATION:Glendale High School AUX
CATEGORIES:QuickScores, Basketball Game
TRANSP:OPAQUE
BEGIN:VALARM
TRIGGER:-PT2H
ACTION:DISPLAY
DESCRIPTION:AZ Flight Air vs. PHX Ballers 15U
END:VALARM
END:VEVENT
BEGIN:VEVENT
UID:legacyyouthsports-74038608-20260328T195500@quickscores.com
DTSTAMP:20260419T184800Z
DTSTART;TZID=America/Phoenix:20260328T195500
DURATION:PT0H55M0S
SUMMARY:AZ Flight Air vs. Fellowship Basketball
DESCRIPTION:High School Boys - Legacy Youth Sports
LOCATION:Glendale High School AUX
CATEGORIES:QuickScores, Basketball Game
TRANSP:OPAQUE
BEGIN:VALARM
TRIGGER:-PT2H
ACTION:DISPLAY
DESCRIPTION:AZ Flight Air vs. Fellowship Basketball
END:VALARM
END:VEVENT
BEGIN:VEVENT
UID:legacyyouthsports-74038610-20260328T195500@quickscores.com
DTSTAMP:20260419T184800Z
DTSTART;TZID=America/Phoenix:20260328T195500
DURATION:PT0H55M0S
SUMMARY:AZ Flight Sky vs. PHX Ballers 16U
DESCRIPTION:High School Boys - Legacy Youth Sports
LOCATION:Glendale High School Main
CATEGORIES:QuickScores, Basketball Game
TRANSP:OPAQUE
BEGIN:VALARM
TRIGGER:-PT2H
ACTION:DISPLAY
DESCRIPTION:AZ Flight Sky vs. PHX Ballers 16U
END:VALARM
END:VEVENT
BEGIN:VEVENT
UID:legacyyouthsports-74330383-20260411T085500@quickscores.com
DTSTAMP:20260419T184800Z
DTSTART;TZID=America/Phoenix:20260411T085500
DURATION:PT0H55M0S
SUMMARY:Fellowship Basketball vs. PHX Ballers 16U
DESCRIPTION:High School Boys - Legacy Youth Sports
LOCATION:Atkinson Court 3
CATEGORIES:QuickScores, Basketball Game
TRANSP:OPAQUE
BEGIN:VALARM
TRIGGER:-PT2H
ACTION:DISPLAY
DESCRIPTION:Fellowship Basketball vs. PHX Ballers 16U
END:VALARM
END:VEVENT
BEGIN:VEVENT
UID:legacyyouthsports-74330494-20260411T085500@quickscores.com
DTSTAMP:20260419T184800Z
DTSTART;TZID=America/Phoenix:20260411T085500
DURATION:PT0H55M0S
SUMMARY:Team Take Off vs. PHX Fire
DESCRIPTION:High School Boys - Legacy Youth Sports
LOCATION:Atkinson Court 4
CATEGORIES:QuickScores, Basketball Game
TRANSP:OPAQUE
BEGIN:VALARM
TRIGGER:-PT2H
ACTION:DISPLAY
DESCRIPTION:Team Take Off vs. PHX Fire
END:VALARM
END:VEVENT
BEGIN:VEVENT
UID:legacyyouthsports-74330587-20260411T095000@quickscores.com
DTSTAMP:20260419T184800Z
DTSTART;TZID=America/Phoenix:20260411T095000
DURATION:PT0H55M0S
SUMMARY:PHX Ballers 15U vs. AZ Northern Reapers
DESCRIPTION:High School Boys - Legacy Youth Sports
LOCATION:Atkinson Court 3
CATEGORIES:QuickScores, Basketball Game
TRANSP:OPAQUE
BEGIN:VALARM
TRIGGER:-PT2H
ACTION:DISPLAY
DESCRIPTION:PHX Ballers 15U vs. AZ Northern Reapers
END:VALARM
END:VEVENT
BEGIN:VEVENT
UID:legacyyouthsports-74331746-20260411T095000@quickscores.com
DTSTAMP:20260419T184800Z
DTSTART;TZID=America/Phoenix:20260411T095000
DURATION:PT0H55M0S
SUMMARY:Team Take Off vs. AZ Flight Sky
DESCRIPTION:High School Boys - Legacy Youth Sports
LOCATION:Atkinson Court 4
CATEGORIES:QuickScores, Basketball Game
TRANSP:OPAQUE
BEGIN:VALARM
TRIGGER:-PT2H
ACTION:DISPLAY
DESCRIPTION:Team Take Off vs. AZ Flight Sky
END:VALARM
END:VEVENT
BEGIN:VEVENT
UID:legacyyouthsports-74330622-20260411T104500@quickscores.com
DTSTAMP:20260419T184800Z
DTSTART;TZID=America/Phoenix:20260411T104500
DURATION:PT0H55M0S
SUMMARY:PHX Fire vs. PHX Ballers 16U
DESCRIPTION:High School Boys - Legacy Youth Sports
LOCATION:Atkinson Court 4
CATEGORIES:QuickScores, Basketball Game
TRANSP:OPAQUE
BEGIN:VALARM
TRIGGER:-PT2H
ACTION:DISPLAY
DESCRIPTION:PHX Fire vs. PHX Ballers 16U
END:VALARM
END:VEVENT
BEGIN:VEVENT
UID:legacyyouthsports-74558600-20260418T123500@quickscores.com
DTSTAMP:20260419T184800Z
DTSTART;TZID=America/Phoenix:20260418T123500
DURATION:PT0H55M0S
SUMMARY:PHX Ballers 16U vs. AZ Northern Reapers
DESCRIPTION:High School Boys - Legacy Youth Sports
LOCATION:Atkinson Court 3
CATEGORIES:QuickScores, Basketball Game
TRANSP:OPAQUE
BEGIN:VALARM
TRIGGER:-PT2H
ACTION:DISPLAY
DESCRIPTION:PHX Ballers 16U vs. AZ Northern Reapers
END:VALARM
END:VEVENT
BEGIN:VEVENT
UID:legacyyouthsports-74571976-20260418T142500@quickscores.com
DTSTAMP:20260419T184800Z
DTSTART;TZID=America/Phoenix:20260418T142500
DURATION:PT0H55M0S
SUMMARY:Dime Academy vs. PHX Ballers 16U
DESCRIPTION:High School Boys - Legacy Youth Sports
LOCATION:Atkinson Court 3
CATEGORIES:QuickScores, Basketball Game
TRANSP:OPAQUE
BEGIN:VALARM
TRIGGER:-PT2H
ACTION:DISPLAY
DESCRIPTION:Dime Academy vs. PHX Ballers 16U
END:VALARM
END:VEVENT
BEGIN:VEVENT
UID:legacyyouthsports-74558407-20260418T142500@quickscores.com
DTSTAMP:20260419T184800Z
DTSTART;TZID=America/Phoenix:20260418T142500
DURATION:PT0H55M0S
SUMMARY:The River Basketball vs. Monstarz Blue
DESCRIPTION:High School Boys - Legacy Youth Sports
LOCATION:Atkinson Court 2
CATEGORIES:QuickScores, Basketball Game
TRANSP:OPAQUE
BEGIN:VALARM
TRIGGER:-PT2H
ACTION:DISPLAY
DESCRIPTION:The River Basketball vs. Monstarz Blue
END:VALARM
END:VEVENT
BEGIN:VEVENT
UID:legacyyouthsports-74559004-20260418T142500@quickscores.com
DTSTAMP:20260419T184800Z
DTSTART;TZID=America/Phoenix:20260418T142500
DURATION:PT0H55M0S
SUMMARY:AZ Flight Sky vs. PHX Ballers 15U
DESCRIPTION:High School Boys - Legacy Youth Sports
LOCATION:Atkinson Court 4
CATEGORIES:QuickScores, Basketball Game
TRANSP:OPAQUE
BEGIN:VALARM
TRIGGER:-PT2H
ACTION:DISPLAY
DESCRIPTION:AZ Flight Sky vs. PHX Ballers 15U
END:VALARM
END:VEVENT
BEGIN:VEVENT
UID:legacyyouthsports-74558637-20260418T152000@quickscores.com
DTSTAMP:20260419T184800Z
DTSTART;TZID=America/Phoenix:20260418T152000
DURATION:PT0H55M0S
SUMMARY:PHX Ballers 15U vs. Dime Academy
DESCRIPTION:High School Boys - Legacy Youth Sports
LOCATION:Atkinson Court 2
CATEGORIES:QuickScores, Basketball Game
TRANSP:OPAQUE
BEGIN:VALARM
TRIGGER:-PT2H
ACTION:DISPLAY
DESCRIPTION:PHX Ballers 15U vs. Dime Academy
END:VALARM
END:VEVENT
BEGIN:VEVENT
UID:legacyyouthsports-74558411-20260418T161500@quickscores.com
DTSTAMP:20260419T184800Z
DTSTART;TZID=America/Phoenix:20260418T161500
DURATION:PT0H55M0S
SUMMARY:Monstarz Blue vs. Fellowship Basketball
DESCRIPTION:High School Boys - Legacy Youth Sports
LOCATION:Atkinson Court 2
CATEGORIES:QuickScores, Basketball Game
TRANSP:OPAQUE
BEGIN:VALARM
TRIGGER:-PT2H
ACTION:DISPLAY
DESCRIPTION:Monstarz Blue vs. Fellowship Basketball
END:VALARM
END:VEVENT
BEGIN:VEVENT
UID:legacyyouthsports-74571977-20260418T161500@quickscores.com
DTSTAMP:20260419T184800Z
DTSTART;TZID=America/Phoenix:20260418T161500
DURATION:PT0H55M0S
SUMMARY:The River Basketball vs. AZ Flight Air
DESCRIPTION:High School Boys - Legacy Youth Sports
LOCATION:Atkinson Court 3
CATEGORIES:QuickScores, Basketball Game
TRANSP:OPAQUE
BEGIN:VALARM
TRIGGER:-PT2H
ACTION:DISPLAY
DESCRIPTION:The River Basketball vs. AZ Flight Air
END:VALARM
END:VEVENT
END:VCALENDAR
