BEGIN:VCALENDAR
VERSION:2.0
PRODID:-//QuickScores.com//BQ Dynamic iCal Creator//EN
METHOD:PUBLISH
X-WR-CALNAME:2/3rd Grade Boys - Spring Basketball League
X-WR-CALDESC:QuickScores game calendar
X-PUBLISHED-TTL:PT24H
REFRESH-INTERVAL;VALUE=DURATION:PT24H
CALSCALE:GREGORIAN
BEGIN:VTIMEZONE
TZID:America/Phoenix
X-LIC-LOCATION:America/Phoenix
BEGIN:STANDARD
TZNAME:MST
TZOFFSETFROM:-0700
TZOFFSETTO:-0700
DTSTART:19700101T000000
END:STANDARD
END:VTIMEZONE
BEGIN:VEVENT
UID:legacyyouthsports-73187174-20260221T095000@quickscores.com
DTSTAMP:20260419T131700Z
DTSTART;TZID=America/Phoenix:20260221T095000
DURATION:PT0H55M0S
SUMMARY:RISE 2/3rd vs. PHX Fire 9U Girls
DESCRIPTION:2/3rd Grade Boys - Legacy Youth Sports
LOCATION:Moon Valley HS  MAIN
CATEGORIES:QuickScores, Basketball Game
TRANSP:OPAQUE
BEGIN:VALARM
TRIGGER:-PT2H
ACTION:DISPLAY
DESCRIPTION:RISE 2/3rd vs. PHX Fire 9U Girls
END:VALARM
END:VEVENT
BEGIN:VEVENT
UID:legacyyouthsports-73183995-20260221T104500@quickscores.com
DTSTAMP:20260419T131700Z
DTSTART;TZID=America/Phoenix:20260221T104500
DURATION:PT0H55M0S
SUMMARY:RISE 3rd Blue vs. NTWRK Elite
DESCRIPTION:2/3rd Grade Boys - Legacy Youth Sports
LOCATION:Moon Valley HS  MAIN
CATEGORIES:QuickScores, Basketball Game
TRANSP:OPAQUE
BEGIN:VALARM
TRIGGER:-PT2H
ACTION:DISPLAY
DESCRIPTION:RISE 3rd Blue vs. NTWRK Elite
END:VALARM
END:VEVENT
BEGIN:VEVENT
UID:legacyyouthsports-73184005-20260228T085500@quickscores.com
DTSTAMP:20260419T131700Z
DTSTART;TZID=America/Phoenix:20260228T085500
DURATION:PT0H55M0S
SUMMARY:PHX Fire 9U Girls vs. NTWRK Elite
DESCRIPTION:2/3rd Grade Boys - Legacy Youth Sports
LOCATION:Atkinson Court 3
CATEGORIES:QuickScores, Basketball Game
TRANSP:OPAQUE
BEGIN:VALARM
TRIGGER:-PT2H
ACTION:DISPLAY
DESCRIPTION:PHX Fire 9U Girls vs. NTWRK Elite
END:VALARM
END:VEVENT
BEGIN:VEVENT
UID:legacyyouthsports-73184002-20260228T095000@quickscores.com
DTSTAMP:20260419T131700Z
DTSTART;TZID=America/Phoenix:20260228T095000
DURATION:PT0H55M0S
SUMMARY:Super Sayians vs. FOE Elite
DESCRIPTION:2/3rd Grade Boys - Legacy Youth Sports
LOCATION:Atkinson Court 4
CATEGORIES:QuickScores, Basketball Game
TRANSP:OPAQUE
BEGIN:VALARM
TRIGGER:-PT2H
ACTION:DISPLAY
DESCRIPTION:Super Sayians vs. FOE Elite
END:VALARM
END:VEVENT
BEGIN:VEVENT
UID:legacyyouthsports-73184003-20260228T095000@quickscores.com
DTSTAMP:20260419T131700Z
DTSTART;TZID=America/Phoenix:20260228T095000
DURATION:PT0H55M0S
SUMMARY:AZ Flight vs. AZ Legacy - Tang
DESCRIPTION:2/3rd Grade Boys - Legacy Youth Sports
LOCATION:Atkinson Court 3
CATEGORIES:QuickScores, Basketball Game
TRANSP:OPAQUE
BEGIN:VALARM
TRIGGER:-PT2H
ACTION:DISPLAY
DESCRIPTION:AZ Flight vs. AZ Legacy - Tang
END:VALARM
END:VEVENT
BEGIN:VEVENT
UID:legacyyouthsports-73348762-20260228T114000@quickscores.com
DTSTAMP:20260419T131700Z
DTSTART;TZID=America/Phoenix:20260228T114000
DURATION:PT0H55M0S
SUMMARY:Humble Savage Gold vs. Heat Wav Elite
DESCRIPTION:Heat Wav Dlite #24 Ju Ju scores 12 points --- 2/3rd Grade Boys - Legacy Youth Sports
LOCATION:Edurpize
CATEGORIES:QuickScores, Basketball Game
TRANSP:OPAQUE
BEGIN:VALARM
TRIGGER:-PT2H
ACTION:DISPLAY
DESCRIPTION:Humble Savage Gold vs. Heat Wav Elite
END:VALARM
END:VEVENT
BEGIN:VEVENT
UID:legacyyouthsports-73184986-20260307T085500@quickscores.com
DTSTAMP:20260419T131700Z
DTSTART;TZID=America/Phoenix:20260307T085500
DURATION:PT0H55M0S
SUMMARY:AZ Flight vs. Humble Savage Black
DESCRIPTION:AZ Flight #99 Druelz scores 10 points --- 2/3rd Grade Boys - Legacy Youth Sports
LOCATION:Kroc Center - Court 1
CATEGORIES:QuickScores, Basketball Game
TRANSP:OPAQUE
BEGIN:VALARM
TRIGGER:-PT2H
ACTION:DISPLAY
DESCRIPTION:AZ Flight vs. Humble Savage Black
END:VALARM
END:VEVENT
BEGIN:VEVENT
UID:legacyyouthsports-73184009-20260307T104500@quickscores.com
DTSTAMP:20260419T131700Z
DTSTART;TZID=America/Phoenix:20260307T104500
DURATION:PT0H55M0S
SUMMARY:PHX Fire 9U Girls vs. RISE 2nd/3rd Dev
DESCRIPTION:Rise #1 scores 16 points --- 2/3rd Grade Boys - Legacy Youth Sports
LOCATION:Kroc Center - Court 1
CATEGORIES:QuickScores, Basketball Game
TRANSP:OPAQUE
BEGIN:VALARM
TRIGGER:-PT2H
ACTION:DISPLAY
DESCRIPTION:PHX Fire 9U Girls vs. RISE 2nd/3rd Dev
END:VALARM
END:VEVENT
BEGIN:VEVENT
UID:legacyyouthsports-73184007-20260307T114000@quickscores.com
DTSTAMP:20260419T131700Z
DTSTART;TZID=America/Phoenix:20260307T114000
DURATION:PT0H55M0S
SUMMARY:AZ Legacy - Tang vs. RISE 2/3rd
DESCRIPTION:AZ Legacy #0 scores 21 points --- 2/3rd Grade Boys - Legacy Youth Sports
LOCATION:Kroc Center - Court 1
CATEGORIES:QuickScores, Basketball Game
TRANSP:OPAQUE
BEGIN:VALARM
TRIGGER:-PT2H
ACTION:DISPLAY
DESCRIPTION:AZ Legacy - Tang vs. RISE 2/3rd
END:VALARM
END:VEVENT
BEGIN:VEVENT
UID:legacyyouthsports-73184010-20260307T123500@quickscores.com
DTSTAMP:20260419T131700Z
DTSTART;TZID=America/Phoenix:20260307T123500
DURATION:PT0H55M0S
SUMMARY:FYG vs. NTWRK Elite
DESCRIPTION:FYG #5 scores 10 points --- 2/3rd Grade Boys - Legacy Youth Sports
LOCATION:Kroc Center - Court 2
CATEGORIES:QuickScores, Basketball Game
TRANSP:OPAQUE
BEGIN:VALARM
TRIGGER:-PT2H
ACTION:DISPLAY
DESCRIPTION:FYG vs. NTWRK Elite
END:VALARM
END:VEVENT
BEGIN:VEVENT
UID:legacyyouthsports-73184011-20260307T123500@quickscores.com
DTSTAMP:20260419T131700Z
DTSTART;TZID=America/Phoenix:20260307T123500
DURATION:PT0H55M0S
SUMMARY:RISE 3rd Blue vs. Super Sayians
DESCRIPTION:Super Sayians #3 scores 10 points --- 2/3rd Grade Boys - Legacy Youth Sports
LOCATION:Kroc Center - Court 1
CATEGORIES:QuickScores, Basketball Game
TRANSP:OPAQUE
BEGIN:VALARM
TRIGGER:-PT2H
ACTION:DISPLAY
DESCRIPTION:RISE 3rd Blue vs. Super Sayians
END:VALARM
END:VEVENT
BEGIN:VEVENT
UID:legacyyouthsports-73184014-20260314T085500@quickscores.com
DTSTAMP:20260419T131700Z
DTSTART;TZID=America/Phoenix:20260314T085500
DURATION:PT0H55M0S
SUMMARY:AZ Legacy - Tang vs. Hoop Code Black
DESCRIPTION:2/3rd Grade Boys - Legacy Youth Sports
LOCATION:Kroc Center - Court 1
CATEGORIES:QuickScores, Basketball Game
TRANSP:OPAQUE
BEGIN:VALARM
TRIGGER:-PT2H
ACTION:DISPLAY
DESCRIPTION:AZ Legacy - Tang vs. Hoop Code Black
END:VALARM
END:VEVENT
BEGIN:VEVENT
UID:legacyyouthsports-73184013-20260314T104500@quickscores.com
DTSTAMP:20260419T131700Z
DTSTART;TZID=America/Phoenix:20260314T104500
DURATION:PT0H55M0S
SUMMARY:FYG vs. Hoop Code Black
DESCRIPTION:2/3rd Grade Boys - Legacy Youth Sports
LOCATION:Kroc Center - Court 1
CATEGORIES:QuickScores, Basketball Game
TRANSP:OPAQUE
BEGIN:VALARM
TRIGGER:-PT2H
ACTION:DISPLAY
DESCRIPTION:FYG vs. Hoop Code Black
END:VALARM
END:VEVENT
BEGIN:VEVENT
UID:legacyyouthsports-73184017-20260314T104500@quickscores.com
DTSTAMP:20260419T131700Z
DTSTART;TZID=America/Phoenix:20260314T104500
DURATION:PT0H55M0S
SUMMARY:FOE Elite vs. AZ Legacy - Tang
DESCRIPTION:2/3rd Grade Boys - Legacy Youth Sports
LOCATION:Kroc Center - Court 2
CATEGORIES:QuickScores, Basketball Game
TRANSP:OPAQUE
BEGIN:VALARM
TRIGGER:-PT2H
ACTION:DISPLAY
DESCRIPTION:FOE Elite vs. AZ Legacy - Tang
END:VALARM
END:VEVENT
BEGIN:VEVENT
UID:legacyyouthsports-73184018-20260314T123500@quickscores.com
DTSTAMP:20260419T131700Z
DTSTART;TZID=America/Phoenix:20260314T123500
DURATION:PT0H55M0S
SUMMARY:RISE 2nd/3rd Dev vs. PHX Fire 9U Girls
DESCRIPTION:2/3rd Grade Boys - Legacy Youth Sports
LOCATION:Kroc Center - Court 1
CATEGORIES:QuickScores, Basketball Game
TRANSP:OPAQUE
BEGIN:VALARM
TRIGGER:-PT2H
ACTION:DISPLAY
DESCRIPTION:RISE 2nd/3rd Dev vs. PHX Fire 9U Girls
END:VALARM
END:VEVENT
BEGIN:VEVENT
UID:legacyyouthsports-73184020-20260321T085500@quickscores.com
DTSTAMP:20260419T131700Z
DTSTART;TZID=America/Phoenix:20260321T085500
DURATION:PT0H55M0S
SUMMARY:AZ Flight vs. NTWRK Elite
DESCRIPTION:NTWRK Elite #41 12 points --- 2/3rd Grade Boys - Legacy Youth Sports
LOCATION:Atkinson Court 2
CATEGORIES:QuickScores, Basketball Game
TRANSP:OPAQUE
BEGIN:VALARM
TRIGGER:-PT2H
ACTION:DISPLAY
DESCRIPTION:AZ Flight vs. NTWRK Elite
END:VALARM
END:VEVENT
BEGIN:VEVENT
UID:legacyyouthsports-73184021-20260321T104500@quickscores.com
DTSTAMP:20260419T131700Z
DTSTART;TZID=America/Phoenix:20260321T104500
DURATION:PT0H55M0S
SUMMARY:PHX Fire 9U Boys vs. FOE Elite
DESCRIPTION:FOE Elite #5 Kaden Cruz scores 28 points --- 2/3rd Grade Boys - Legacy Youth Sports
LOCATION:Atkinson Court 1
CATEGORIES:QuickScores, Basketball Game
TRANSP:OPAQUE
BEGIN:VALARM
TRIGGER:-PT2H
ACTION:DISPLAY
DESCRIPTION:PHX Fire 9U Boys vs. FOE Elite
END:VALARM
END:VEVENT
BEGIN:VEVENT
UID:legacyyouthsports-73184019-20260321T114000@quickscores.com
DTSTAMP:20260419T131700Z
DTSTART;TZID=America/Phoenix:20260321T114000
DURATION:PT0H55M0S
SUMMARY:FYG vs. Work Athletics
DESCRIPTION:#3 Goldie D with Work Athletics scored 15 points! --- 2/3rd Grade Boys - Legacy Youth Sports
LOCATION:Edurpize
CATEGORIES:QuickScores, Basketball Game
TRANSP:OPAQUE
BEGIN:VALARM
TRIGGER:-PT2H
ACTION:DISPLAY
DESCRIPTION:FYG vs. Work Athletics
END:VALARM
END:VEVENT
BEGIN:VEVENT
UID:legacyyouthsports-73184022-20260321T152000@quickscores.com
DTSTAMP:20260419T131700Z
DTSTART;TZID=America/Phoenix:20260321T152000
DURATION:PT0H55M0S
SUMMARY:Super Sayians vs. AZ Legacy - Tang
DESCRIPTION:Super Sayians #3 Jojo scores 10 points --- 2/3rd Grade Boys - Legacy Youth Sports
LOCATION:Atkinson Court 4
CATEGORIES:QuickScores, Basketball Game
TRANSP:OPAQUE
BEGIN:VALARM
TRIGGER:-PT2H
ACTION:DISPLAY
DESCRIPTION:Super Sayians vs. AZ Legacy - Tang
END:VALARM
END:VEVENT
BEGIN:VEVENT
UID:legacyyouthsports-74032598-20260328T080000@quickscores.com
DTSTAMP:20260419T131700Z
DTSTART;TZID=America/Phoenix:20260328T080000
DURATION:PT0H55M0S
SUMMARY:RISE 2nd/3rd Dev vs. Hoop Code Black
DESCRIPTION:Hoop Code #8 Zeke scores 13 points --- 2/3rd Grade Boys - Legacy Youth Sports
LOCATION:Glendale High School Main
CATEGORIES:QuickScores, Basketball Game
TRANSP:OPAQUE
BEGIN:VALARM
TRIGGER:-PT2H
ACTION:DISPLAY
DESCRIPTION:RISE 2nd/3rd Dev vs. Hoop Code Black
END:VALARM
END:VEVENT
BEGIN:VEVENT
UID:legacyyouthsports-73184029-20260328T080000@quickscores.com
DTSTAMP:20260419T131700Z
DTSTART;TZID=America/Phoenix:20260328T080000
DURATION:PT0H55M0S
SUMMARY:NTWRK Elite vs. FOE Elite
DESCRIPTION:FOE #5 Adrian scores 14 points --- 2/3rd Grade Boys - Legacy Youth Sports
LOCATION:Glendale High School AUX
CATEGORIES:QuickScores, Basketball Game
TRANSP:OPAQUE
BEGIN:VALARM
TRIGGER:-PT2H
ACTION:DISPLAY
DESCRIPTION:NTWRK Elite vs. FOE Elite
END:VALARM
END:VEVENT
BEGIN:VEVENT
UID:legacyyouthsports-73184027-20260328T085500@quickscores.com
DTSTAMP:20260419T131700Z
DTSTART;TZID=America/Phoenix:20260328T085500
DURATION:PT0H55M0S
SUMMARY:FYG vs. Work Athletics
DESCRIPTION:2/3rd Grade Boys - Legacy Youth Sports
LOCATION:Edurpize
CATEGORIES:QuickScores, Basketball Game
TRANSP:OPAQUE
BEGIN:VALARM
TRIGGER:-PT2H
ACTION:DISPLAY
DESCRIPTION:FYG vs. Work Athletics
END:VALARM
END:VEVENT
BEGIN:VEVENT
UID:legacyyouthsports-73184030-20260328T095000@quickscores.com
DTSTAMP:20260419T131700Z
DTSTART;TZID=America/Phoenix:20260328T095000
DURATION:PT0H55M0S
SUMMARY:PHX Fire 9U Boys vs. AZ Legacy - Tang
DESCRIPTION:PHX Fire #5 Colin scores 10 points --- 2/3rd Grade Boys - Legacy Youth Sports
LOCATION:Glendale High School AUX
CATEGORIES:QuickScores, Basketball Game
TRANSP:OPAQUE
BEGIN:VALARM
TRIGGER:-PT2H
ACTION:DISPLAY
DESCRIPTION:PHX Fire 9U Boys vs. AZ Legacy - Tang
END:VALARM
END:VEVENT
BEGIN:VEVENT
UID:legacyyouthsports-73184028-20260328T114000@quickscores.com
DTSTAMP:20260419T131700Z
DTSTART;TZID=America/Phoenix:20260328T114000
DURATION:PT0H55M0S
SUMMARY:AZ Flight vs. Super Sayians
DESCRIPTION:Super Sayians #3 Jojo scores 15 points --- 2/3rd Grade Boys - Legacy Youth Sports
LOCATION:Glendale High School AUX
CATEGORIES:QuickScores, Basketball Game
TRANSP:OPAQUE
BEGIN:VALARM
TRIGGER:-PT2H
ACTION:DISPLAY
DESCRIPTION:AZ Flight vs. Super Sayians
END:VALARM
END:VEVENT
BEGIN:VEVENT
UID:legacyyouthsports-74328550-20260411T085500@quickscores.com
DTSTAMP:20260419T131700Z
DTSTART;TZID=America/Phoenix:20260411T085500
DURATION:PT0H55M0S
SUMMARY:AZ Legacy - Tang vs. Hoop Code Black
DESCRIPTION:2/3rd Grade Boys - Legacy Youth Sports
LOCATION:Atkinson Court 1
CATEGORIES:QuickScores, Basketball Game
TRANSP:OPAQUE
BEGIN:VALARM
TRIGGER:-PT2H
ACTION:DISPLAY
DESCRIPTION:AZ Legacy - Tang vs. Hoop Code Black
END:VALARM
END:VEVENT
BEGIN:VEVENT
UID:legacyyouthsports-74324549-20260411T085500@quickscores.com
DTSTAMP:20260419T131700Z
DTSTART;TZID=America/Phoenix:20260411T085500
DURATION:PT0H55M0S
SUMMARY:Work Athletics vs. Super Sayians
DESCRIPTION:Number 3 with 18 points from Super Sayians --- 2/3rd Grade Boys - Legacy Youth Sports
LOCATION:Edurpize
CATEGORIES:QuickScores, Basketball Game
TRANSP:OPAQUE
BEGIN:VALARM
TRIGGER:-PT2H
ACTION:DISPLAY
DESCRIPTION:Work Athletics vs. Super Sayians
END:VALARM
END:VEVENT
BEGIN:VEVENT
UID:legacyyouthsports-74324591-20260411T104500@quickscores.com
DTSTAMP:20260419T131700Z
DTSTART;TZID=America/Phoenix:20260411T104500
DURATION:PT0H55M0S
SUMMARY:Hoop Code Black vs. NTWRK Elite
DESCRIPTION:2/3rd Grade Boys - Legacy Youth Sports
LOCATION:Atkinson Court 1
CATEGORIES:QuickScores, Basketball Game
TRANSP:OPAQUE
BEGIN:VALARM
TRIGGER:-PT2H
ACTION:DISPLAY
DESCRIPTION:Hoop Code Black vs. NTWRK Elite
END:VALARM
END:VEVENT
BEGIN:VEVENT
UID:legacyyouthsports-74324548-20260411T104500@quickscores.com
DTSTAMP:20260419T131700Z
DTSTART;TZID=America/Phoenix:20260411T104500
DURATION:PT0H55M0S
SUMMARY:FYG vs. Super Sayians
DESCRIPTION:Number 3 with 14 points from Super Sayians --- 2/3rd Grade Boys - Legacy Youth Sports
LOCATION:Edurpize
CATEGORIES:QuickScores, Basketball Game
TRANSP:OPAQUE
BEGIN:VALARM
TRIGGER:-PT2H
ACTION:DISPLAY
DESCRIPTION:FYG vs. Super Sayians
END:VALARM
END:VEVENT
BEGIN:VEVENT
UID:legacyyouthsports-74324592-20260411T161500@quickscores.com
DTSTAMP:20260419T131700Z
DTSTART;TZID=America/Phoenix:20260411T161500
DURATION:PT0H55M0S
SUMMARY:PHX Fire 9U Girls vs. Proformance Arizona
DESCRIPTION:2/3rd Grade Boys - Legacy Youth Sports
LOCATION:Atkinson Court 1
CATEGORIES:QuickScores, Basketball Game
TRANSP:OPAQUE
BEGIN:VALARM
TRIGGER:-PT2H
ACTION:DISPLAY
DESCRIPTION:PHX Fire 9U Girls vs. Proformance Arizona
END:VALARM
END:VEVENT
BEGIN:VEVENT
UID:legacyyouthsports-74550839-20260418T080000@quickscores.com
DTSTAMP:20260419T131700Z
DTSTART;TZID=America/Phoenix:20260418T080000
DURATION:PT0H55M0S
SUMMARY:FYG vs. PHX Fire 9U Girls
DESCRIPTION:2/3rd Grade Boys - Legacy Youth Sports
LOCATION:Edurpize
CATEGORIES:QuickScores, Basketball Game
TRANSP:OPAQUE
BEGIN:VALARM
TRIGGER:-PT2H
ACTION:DISPLAY
DESCRIPTION:FYG vs. PHX Fire 9U Girls
END:VALARM
END:VEVENT
BEGIN:VEVENT
UID:legacyyouthsports-74550753-20260418T085500@quickscores.com
DTSTAMP:20260419T131700Z
DTSTART;TZID=America/Phoenix:20260418T085500
DURATION:PT0H55M0S
SUMMARY:PHX Fire 9U Boys vs. FOE Elite
DESCRIPTION:2/3rd Grade Boys - Legacy Youth Sports
LOCATION:Atkinson Court 3
CATEGORIES:QuickScores, Basketball Game
TRANSP:OPAQUE
BEGIN:VALARM
TRIGGER:-PT2H
ACTION:DISPLAY
DESCRIPTION:PHX Fire 9U Boys vs. FOE Elite
END:VALARM
END:VEVENT
BEGIN:VEVENT
UID:legacyyouthsports-74552142-20260418T104500@quickscores.com
DTSTAMP:20260419T131700Z
DTSTART;TZID=America/Phoenix:20260418T104500
DURATION:PT0H55M0S
SUMMARY:FOE Elite vs. SNC Sports
DESCRIPTION:2/3rd Grade Boys - Legacy Youth Sports
LOCATION:Atkinson Court 2
CATEGORIES:QuickScores, Basketball Game
TRANSP:OPAQUE
BEGIN:VALARM
TRIGGER:-PT2H
ACTION:DISPLAY
DESCRIPTION:FOE Elite vs. SNC Sports
END:VALARM
END:VEVENT
BEGIN:VEVENT
UID:legacyyouthsports-74550555-20260418T142500@quickscores.com
DTSTAMP:20260419T131700Z
DTSTART;TZID=America/Phoenix:20260418T142500
DURATION:PT0H55M0S
SUMMARY:AZ Legacy - Tang vs. RISE 3rd Blue
DESCRIPTION:2/3rd Grade Boys - Legacy Youth Sports
LOCATION:Atkinson Court 1
CATEGORIES:QuickScores, Basketball Game
TRANSP:OPAQUE
BEGIN:VALARM
TRIGGER:-PT2H
ACTION:DISPLAY
DESCRIPTION:AZ Legacy - Tang vs. RISE 3rd Blue
END:VALARM
END:VEVENT
BEGIN:VEVENT
UID:legacyyouthsports-74550292-20260418T161500@quickscores.com
DTSTAMP:20260419T131700Z
DTSTART;TZID=America/Phoenix:20260418T161500
DURATION:PT0H55M0S
SUMMARY:RISE 2/3rd vs. PHX Fire 9U Boys
DESCRIPTION:2/3rd Grade Boys - Legacy Youth Sports
LOCATION:Atkinson Court 1
CATEGORIES:QuickScores, Basketball Game
TRANSP:OPAQUE
BEGIN:VALARM
TRIGGER:-PT2H
ACTION:DISPLAY
DESCRIPTION:RISE 2/3rd vs. PHX Fire 9U Boys
END:VALARM
END:VEVENT
END:VCALENDAR
